Workbook

Sheet Summary
B1: Statue Park | C1: Fillomino | D1: Nurikabe | E1: Meand Nums | F1: Turning Fences | G1: Reg Battleships | H1: RC Snake | I1: Scrabble | J1: Hidoku | K1: Summon
A2: Bonus Period (in minutes) | B2: 60 | C2: 60 | D2: 60 | E2: 75 | F2: 75 | G2: 75 | H2: 90 | I2: 90 | J2: 90 | K2: 90 | L2: Used for solving time bonus
A3: Bonus Period (in seconds) | B3: =B2*60 -> 3600 | C3: =C2*60 -> 3600 | D3: =D2*60 -> 3600 | E3: =E2*60 -> 4500 | F3: =F2*60 -> 4500 | G3: =G2*60 -> 4500 | H3: =H2*60 -> 5400 | I3: =I2*60 -> 5400 | ... K3: =K2*60 -> 5400
A4: Number of time bonus holders | B4: =COUNTIF(Data!U:U,">0") -> 192 | C4: =COUNTIF(Data!V:V,">0") -> 234 | D4: =COUNTIF(Data!W:W,">0") -> 86 | E4: =COUNTIF(Data!X:X,">0") -> 101 | F4: =COUNTIF(Data!Y:Y,">0") -> 53 | G4: =COUNTIF(Data!Z:Z,">0") -> 114 | H4: =COUNTIF(Data!AA:AA,">0") -> 42 | I4: =COUNTIF(Data!AB:AB,">0") -> 65 | J4: =COUNTIF(Data!AC:AC,">0") -> 51 | K4: =COUNTIF(Data!AD:AD,">0") -> 17
A5: Number of total solvers | B5: =COUNTIF(Data!J:J,">0") -> 254 | C5: =COUNTIF(Data!K:K,">0") -> 268 | D5: =COUNTIF(Data!L:L,">0") -> 221 | E5: =COUNTIF(Data!M:M,">0") -> 219 | F5: =COUNTIF(Data!N:N,">0") -> 183 | G5: =COUNTIF(Data!O:O,">0") -> 202 | H5: =COUNTIF(Data!P:P,">0") -> 128 | I5: =COUNTIF(Data!Q:Q,">0") -> 157 | J5: =COUNTIF(Data!R:R,">0") -> 175 | K5: =COUNTIF(Data!S:S,">0") -> 122
A6: Number of rank bonus holders | B6: 100 | C6: 100 | D6: 100 | E6: 100 | F6: 100 | G6: 100 | H6: 100 | I6: 100 | J6: 100 | K6: 100 | L6: Used for rank bonus
A7: Minimum Time | B7: =MIN(Data!J:J) -> 477 | C7: =MIN(Data!K:K) -> 626 | D7: =MIN(Data!L:L) -> 832 | E7: =MIN(Data!M:M) -> 1013 | F7: =MIN(Data!N:N) -> 1693 | G7: =MIN(Data!O:O) -> 1122 | H7: =MIN(Data!P:P) -> 1928 | I7: =MIN(Data!Q:Q) -> 2166 | J7: =MIN(Data!R:R) -> 2221 | K7: =MIN(Data!S:S) -> 2682
A8: Maximum Time within bonus | B8: =MAX(Data!U:U) -> 3462 | C8: =MAX(Data!V:V) -> 3533 | D8: =MAX(Data!W:W) -> 3531 | E8: =MAX(Data!X:X) -> 4492 | F8: =MAX(Data!Y:Y) -> 4479 | G8: =MAX(Data!Z:Z) -> 4481 | H8: =MAX(Data!AA:AA) -> 5284 | I8: =MAX(Data!AB:AB) -> 5398 | J8: =MAX(Data!AC:AC) -> 5378 | K8: =MAX(Data!AD:AD) -> 5219
A9: Median Time (inside bonus holders) | B9: {=MEDIAN(IF(Data!U:U>0,Data!U:U))} -> 1723 | C9: {=MEDIAN(IF(Data!V:V>0,Data!V:V))} -> 1571.5 | D9: {=MEDIAN(IF(Data!W:W>0,Data!W:W))} -> 2306.5 | E9: {=MEDIAN(IF(Data!X:X>0,Data!X:X))} -> 2882 | F9: {=MEDIAN(IF(Data!Y:Y>0,Data!Y:Y))} -> 2996 | G9: {=MEDIAN(IF(Data!Z:Z>0,Data!Z:Z))} -> 2819.5 | H9: {=MEDIAN(IF(Data!AA:AA>0,Data!AA:AA))} -> 3636.5 | I9: {=MEDIAN(IF(Data!AB:AB>0,Data!AB:AB))} -> 3661 | J9: {=MEDIAN(IF(Data!AC:AC>0,Data!AC:AC))} -> 4082 | K9: {=MEDIAN(IF(Data!AD:AD>0,Data!AD:AD))} -> 4852
A16: There are two bonus parts for each puzzle. 1. Solving Time bonus : Players solving a puzzle within the specified bonus period will be eligible for this. Bonus period is different for different puzzles. See Row 2 above. This will be announced before the competition starts, so that players know when to "give up". (This is a linear distribution between Best Time & Median Time OR between Median Time & Bonus Period 2. Rank bonus : Players with rank 1 to 100 for each puzzle will be eligible for this. Rank 1 gets 25 points. Rank 2 gets 24.75, so on, till Rank 100 gets .25 Total Bonus = Solving Time Bonus + Rank Bonus

Sheet Data
J1: Solving time in seconds | U1: Solving time in seconds (within bonus period) | AF1: Rank (for all players, ignoring bonus period) | AQ1: Rank Bonus (for top 100 players, best player gets 25, decrease linearly till 100th player) | BB1: Solving Time Bonus (Solving Time <= Median Time) | BM1: Solving Time Bonus (Solving Time > Median Time) | BX1: Solving time in minutes | CI1: Total Bonus
AQ2: See Stefano's post : http://logicmastersindia.com/forum/forums/thread-view.asp?pid=17996 | BB2: Linear distribution between 12.5 and 25 | BM2: Linear distribution between 0 and 12.5
BX3: =Summary!B2 -> 60 | BY3: =Summary!C2 -> 60 | BZ3: =Summary!D2 -> 60 | CA3: =Summary!E2 -> 75 | CB3: =Summary!F2 -> 75 | CC3: =Summary!G2 -> 75 | CD3: =Summary!H2 -> 90 | CE3: =Summary!I2 -> 90 | ... CG3: =Summary!K2 -> 90 | CZ3: Current
A4: Rank | B4: Player | C4: Name | D4: Country | E4: Total Bonus* | F4: Puzzles | G4: Points | H4: Total Time | J4: =Summary!B1 -> Statue Park | K4: =Summary!C1 -> Fillomino | L4: =Summary!D1 -> Nurikabe | M4: =Summary!E1 -> Meand Nums | N4: =Summary!F1 -> Turning Fences | O4: =Summary!G1 -> Reg Battleships | P4: =Summary!H1 -> RC Snake | Q4: =Summary!I1 -> Scrabble | ... S4: =Summary!K1 -> Summon | U4: =J4 -> Statue Park | V4: =K4 -> Fillomino | W4: =L4 -> Nurikabe | X4: =M4 -> Meand Nums | Y4: =N4 -> Turning Fences | Z4: =O4 -> Reg Battleships | AA4: =P4 -> RC Snake | AB4: =Q4 -> Scrabble | ... AD4: =S4 -> Summon | AF4: =U4 -> Statue Park | AG4: =V4 -> Fillomino | AH4: =W4 -> Nurikabe | AI4: =X4 -> Meand Nums | AJ4: =Y4 -> Turning Fences | AK4: =Z4 -> Reg Battleships | AL4: =AA4 -> RC Snake | AM4: =AB4 -> Scrabble | ... AO4: =AD4 -> Summon | AQ4: =AF4 -> Statue Park | AR4: =AG4 -> Fillomino | AS4: =AH4 -> Nurikabe | AT4: =AI4 -> Meand Nums | AU4: =AJ4 -> Turning Fences | AV4: =AK4 -> Reg Battleships | AW4: =AL4 -> RC Snake | AX4: =AM4 -> Scrabble | ... AZ4: =AO4 -> Summon | BB4: =AQ4 -> Statue Park | BC4: =AR4 -> Fillomino | BD4: =AS4 -> Nurikabe | BE4: =AT4 -> Meand Nums | BF4: =AU4 -> Turning Fences | BG4: =AV4 -> Reg Battleships | BH4: =AW4 -> RC Snake | BI4: =AX4 -> Scrabble | ... BK4: =AZ4 -> Summon | BM4: =BB4 -> Statue Park | BN4: =BC4 -> Fillomino | BO4: =BD4 -> Nurikabe | BP4: =BE4 -> Meand Nums | BQ4: =BF4 -> Turning Fences | BR4: =BG4 -> Reg Battleships | BS4: =BH4 -> RC Snake | BT4: =BI4 -> Scrabble | ... BV4: =BK4 -> Summon | BX4: =BM4 -> Statue Park | BY4: =BN4 -> Fillomino | BZ4: =BO4 -> Nurikabe | CA4: =BP4 -> Meand Nums | CB4: =BQ4 -> Turning Fences | CC4: =BR4 -> Reg Battleships | CD4: =BS4 -> RC Snake | CE4: =BT4 -> Scrabble | ... CG4: =BV4 -> Summon | CI4: =BX4 -> Statue Park | CJ4: =BY4 -> Fillomino | CK4: =BZ4 -> Nurikabe | CL4: =CA4 -> Meand Nums | CM4: =CB4 -> Turning Fences | CN4: =CC4 -> Reg Battleships | CO4: =CD4 -> RC Snake | CP4: =CE4 -> Scrabble | ... CR4: =CG4 -> Summon | CT4: Minimum 1 | CU4: Minimum 2 | CV4: Final Bonus | CW4: Puzzle Score | CX4: Final Score | CZ4: Score | DA4: Rank
A5: 1 | B5: EKBM | C5: Endo Ken | D5: Japan | E5: 385.59486 | F5: 9/10/10 | G5: 757.09732 | H5: 19333 | J5: 683 | K5: 735 | L5: 832 | M5: 1079 | N5: 2510 | O5: 1744 | P5: 2922 | Q5: 2574 | R5: 2291 | S5: 3963 | U5: =IF(J5<=Summary!B$3,J5,0) -> 683 | V5: =IF(K5<=Summary!C$3,K5,0) -> 735 | W5: =IF(L5<=Summary!D$3,L5,0) -> 832 | X5: =IF(M5<=Summary!E$3,M5,0) -> 1079 | Y5: =IF(N5<=Summary!F$3,N5,0) -> 2510 | Z5: =IF(O5<=Summary!G$3,O5,0) -> 1744 | AA5: =IF(P5<=Summary!H$3,P5,0) -> 2922 | AB5: =IF(Q5<=Summary!I$3,Q5,0) -> 2574 | ... AD5: =IF(S5<=Summary!K$3,S5,0) -> 3963 | AF5: =IF(J5>0,RANK(J5,J:J,1),0) -> 7 | AG5: =IF(K5>0,RANK(K5,K:K,1),0) -> 6 | AH5: =IF(L5>0,RANK(L5,L:L,1),0) -> 1 | AI5: =IF(M5>0,RANK(M5,M:M,1),0) -> 2 | AJ5: =IF(N5>0,RANK(N5,N:N,1),0) -> 10 | AK5: =IF(O5>0,RANK(O5,O:O,1),0) -> 14 | AL5: =IF(P5>0,RANK(P5,P:P,1),0) -> 9 | AM5: =IF(Q5>0,RANK(Q5,Q:Q,1),0) -> 7 | AN5: =IF(R5>0,RANK(R5,R:R,1),0) -> 2 | AO5: =IF(S5>0,RANK(S5,S:S,1),0) -> 5 | AQ5: =IF(AND(AF5<=Summary!B$6,AF5>0),25*(Summary!B$6+1-AF5)/Summary!B$6,0) -> 23.5 | AR5: =IF(AND(AG5<=Summary!C$6,AG5>0),25*(Summary!C$6+1-AG5)/Summary!C$6,0) -> 23.75 | AS5: =IF(AND(AH5<=Summary!D$6,AH5>0),25*(Summary!D$6+1-AH5)/Summary!D$6,0) -> 25 | AT5: =IF(AND(AI5<=Summary!E$6,AI5>0),25*(Summary!E$6+1-AI5)/Summary!E$6,0) -> 24.75 | AU5: =IF(AND(AJ5<=Summary!F$6,AJ5>0),25*(Summary!F$6+1-AJ5)/Summary!F$6,0) -> 22.75 | AV5: =IF(AND(AK5<=Summary!G$6,AK5>0),25*(Summary!G$6+1-AK5)/Summary!G$6,0) -> 21.75 | AW5: =IF(AND(AL5<=Summary!H$6,AL5>0),25*(Summary!H$6+1-AL5)/Summary!H$6,0) -> 23 | AX5: =IF(AND(AM5<=Summary!I$6,AM5>0),25*(Summary!I$6+1-AM5)/Summary!I$6,0) -> 23.5 | ... AZ5: =IF(AND(AO5<=Summary!K$6,AO5>0),25*(Summary!K$6+1-AO5)/Summary!K$6,0) -> 24 | BB5: =IF(AND(U5>0,U5<=Summary!B$9),12.5 + 12.5 * (U5 - Summary!B$9) / (Summary!B$7 - Summary!B$9),0) -> 22.933387 | BC5: =IF(AND(V5>0,V5<=Summary!C$9),12.5 + 12.5 * (V5 - Summary!C$9) / (Summary!C$7 - Summary!C$9),0) -> 23.558964 | BD5: =IF(AND(W5>0,W5<=Summary!D$9),12.5 + 12.5 * (W5 - Summary!D$9) / (Summary!D$7 - Summary!D$9),0) -> 25 | BE5: =IF(AND(X5>0,X5<=Summary!E$9),12.5 + 12.5 * (X5 - Summary!E$9) / (Summary!E$7 - Summary!E$9),0) -> 24.558587 | BF5: =IF(AND(Y5>0,Y5<=Summary!F$9),12.5 + 12.5 * (Y5 - Summary!F$9) / (Summary!F$7 - Summary!F$9),0) -> 17.162318 | BG5: =IF(AND(Z5>0,Z5<=Summary!G$9),12.5 + 12.5 * (Z5 - Summary!G$9) / (Summary!G$7 - Summary!G$9),0) -> 20.419735 | BH5: =IF(AND(AA5>0,AA5<=Summary!H$9),12.5 + 12.5 * (AA5 - Summary!H$9) / (Summary!H$7 - Summary!H$9),0) -> 17.727539 | BI5: =IF(AND(AB5>0,AB5<=Summary!I$9),12.5 + 12.5 * (AB5 - Summary!I$9) / (Summary!I$7 - Summary!I$9),0) -> 21.588629 | ... BK5: =IF(AND(AD5>0,AD5<=Summary!K$9),12.5 + 12.5 * (AD5 - Summary!K$9) / (Summary!K$7 - Summary!K$9),0) -> 17.620968 | BM5: =IF(AND(U5>0,U5>Summary!B$9),12.5 - 12.5 * (U5 - Summary!B$9) / (Summary!B$3 - Summary!B$9),0) -> 0 | BN5: =IF(AND(V5>0,V5>Summary!C$9),12.5 - 12.5 * (V5 - Summary!C$9) / (Summary!C$3 - Summary!C$9),0) -> 0 | BO5: =IF(AND(W5>0,W5>Summary!D$9),12.5 - 12.5 * (W5 - Summary!D$9) / (Summary!D$3 - Summary!D$9),0) -> 0 | BP5: =IF(AND(X5>0,X5>Summary!E$9),12.5 - 12.5 * (X5 - Summary!E$9) / (Summary!E$3 - Summary!E$9),0) -> 0 | BQ5: =IF(AND(Y5>0,Y5>Summary!F$9),12.5 - 12.5 * (Y5 - Summary!F$9) / (Summary!F$3 - Summary!F$9),0) -> 0 | BR5: =IF(AND(Z5>0,Z5>Summary!G$9),12.5 - 12.5 * (Z5 - Summary!G$9) / (Summary!G$3 - Summary!G$9),0) -> 0 | BS5: =IF(AND(AA5>0,AA5>Summary!H$9),12.5 - 12.5 * (AA5 - Summary!H$9) / (Summary!H$3 - Summary!H$9),0) -> 0 | BT5: =IF(AND(AB5>0,AB5>Summary!I$9),12.5 - 12.5 * (AB5 - Summary!I$9) / (Summary!I$3 - Summary!I$9),0) -> 0 | ... BV5: =IF(AND(AD5>0,AD5>Summary!K$9),12.5 - 12.5 * (AD5 - Summary!K$9) / (Summary!K$3 - Summary!K$9),0) -> 0 | BX5: =J5/60 -> 11.383333 | BY5: =K5/60 -> 12.25 | BZ5: =L5/60 -> 13.866667 | CA5: =M5/60 -> 17.983333 | CB5: =N5/60 -> 41.833333 | CC5: =O5/60 -> 29.066667 | CD5: =P5/60 -> 48.7 | CE5: =Q5/60 -> 42.9 | ... CG5: =S5/60 -> 66.05 | CI5: =AQ5+BB5+BM5 -> 46.433387 | CJ5: =AR5+BC5+BN5 -> 47.308964 | CK5: =AS5+BD5+BO5 -> 50 | CL5: =AT5+BE5+BP5 -> 49.308587 | CM5: =AU5+BF5+BQ5 -> 39.912318 | CN5: =AV5+BG5+BR5 -> 42.169735 | CO5: =AW5+BH5+BS5 -> 40.727539 | CP5: =AX5+BI5+BT5 -> 45.088629 | ... CR5: =AZ5+BK5+BV5 -> 41.620968 | CT5: =MIN(CI5:CR5) -> 39.912318 | CU5: =SMALL(CI5:CR5,2) -> 40.727539 | CV5: =SUM(CI5:CR5)-CT5-CU5 -> 371.21009 | CW5: =50*MIN(8,COUNTIF(J5:S5,">0")) -> 400 | CX5: =CW5+CV5 -> 771.21009 | CZ5: =G5 -> 757.09732 | DA5: =A5 -> 1
A6: 2 | B6: deu | C6: Hideaki Jo | D6: Japan | E6: 376.99228 | F6: 10/10/10 | G6: 745.45735 | H6: 19686 | J6: 534 | K6: 1218 | L6: 2970 | M6: 1013 | N6: 2661 | O6: 1219 | P6: 1928 | Q6: 2648 | R6: 2221 | S6: 3274 | U6: =IF(J6<=Summary!B$3,J6,0) -> 534 | V6: =IF(K6<=Summary!C$3,K6,0) -> 1218 | W6: =IF(L6<=Summary!D$3,L6,0) -> 2970 | X6: =IF(M6<=Summary!E$3,M6,0) -> 1013 | Y6: =IF(N6<=Summary!F$3,N6,0) -> 2661 | Z6: =IF(O6<=Summary!G$3,O6,0) -> 1219 | AA6: =IF(P6<=Summary!H$3,P6,0) -> 1928 | AB6: =IF(Q6<=Summary!I$3,Q6,0) -> 2648 | ... AD6: =IF(S6<=Summary!K$3,S6,0) -> 3274 | AF6: =IF(J6>0,RANK(J6,J:J,1),0) -> 2 | AG6: =IF(K6>0,RANK(K6,K:K,1),0) -> 70 | AH6: =IF(L6>0,RANK(L6,L:L,1),0) -> 65 | AI6: =IF(M6>0,RANK(M6,M:M,1),0) -> 1 | AJ6: =IF(N6>0,RANK(N6,N:N,1),0) -> 18 | AK6: =IF(O6>0,RANK(O6,O:O,1),0) -> 2 | AL6: =IF(P6>0,RANK(P6,P:P,1),0) -> 1 | AM6: =IF(Q6>0,RANK(Q6,Q:Q,1),0) -> 12 | AN6: =IF(R6>0,RANK(R6,R:R,1),0) -> 1 | AO6: =IF(S6>0,RANK(S6,S:S,1),0) -> 2 | AQ6: =IF(AND(AF6<=Summary!B$6,AF6>0),25*(Summary!B$6+1-AF6)/Summary!B$6,0) -> 24.75 | AR6: =IF(AND(AG6<=Summary!C$6,AG6>0),25*(Summary!C$6+1-AG6)/Summary!C$6,0) -> 7.75 | AS6: =IF(AND(AH6<=Summary!D$6,AH6>0),25*(Summary!D$6+1-AH6)/Summary!D$6,0) -> 9 | AT6: =IF(AND(AI6<=Summary!E$6,AI6>0),25*(Summary!E$6+1-AI6)/Summary!E$6,0) -> 25 | AU6: =IF(AND(AJ6<=Summary!F$6,AJ6>0),25*(Summary!F$6+1-AJ6)/Summary!F$6,0) -> 20.75 | AV6: =IF(AND(AK6<=Summary!G$6,AK6>0),25*(Summary!G$6+1-AK6)/Summary!G$6,0) -> 24.75 | AW6: =IF(AND(AL6<=Summary!H$6,AL6>0),25*(Summary!H$6+1-AL6)/Summary!H$6,0) -> 25 | AX6: =IF(AND(AM6<=Summary!I$6,AM6>0),25*(Summary!I$6+1-AM6)/Summary!I$6,0) -> 22.25 | ... AZ6: =IF(AND(AO6<=Summary!K$6,AO6>0),25*(Summary!K$6+1-AO6)/Summary!K$6,0) -> 24.75 | BB6: =IF(AND(U6>0,U6<=Summary!B$9),12.5 + 12.5 * (U6 - Summary!B$9) / (Summary!B$7 - Summary!B$9),0) -> 24.42817 | BC6: =IF(AND(V6>0,V6<=Summary!C$9),12.5 + 12.5 * (V6 - Summary!C$9) / (Summary!C$7 - Summary!C$9),0) -> 17.173453 | BD6: =IF(AND(W6>0,W6<=Summary!D$9),12.5 + 12.5 * (W6 - Summary!D$9) / (Summary!D$7 - Summary!D$9),0) -> 0 | BE6: =IF(AND(X6>0,X6<=Summary!E$9),12.5 + 12.5 * (X6 - Summary!E$9) / (Summary!E$7 - Summary!E$9),0) -> 25 | BF6: =IF(AND(Y6>0,Y6<=Summary!F$9),12.5 + 12.5 * (Y6 - Summary!F$9) / (Summary!F$7 - Summary!F$9),0) -> 15.713738 | BG6: =IF(AND(Z6>0,Z6<=Summary!G$9),12.5 + 12.5 * (Z6 - Summary!G$9) / (Summary!G$7 - Summary!G$9),0) -> 24.285714 | BH6: =IF(AND(AA6>0,AA6<=Summary!H$9),12.5 + 12.5 * (AA6 - Summary!H$9) / (Summary!H$7 - Summary!H$9),0) -> 25 | BI6: =IF(AND(AB6>0,AB6<=Summary!I$9),12.5 + 12.5 * (AB6 - Summary!I$9) / (Summary!I$7 - Summary!I$9),0) -> 20.9699 | ... BK6: =IF(AND(AD6>0,AD6<=Summary!K$9),12.5 + 12.5 * (AD6 - Summary!K$9) / (Summary!K$7 - Summary!K$9),0) -> 21.589862 | BM6: =IF(AND(U6>0,U6>Summary!B$9),12.5 - 12.5 * (U6 - Summary!B$9) / (Summary!B$3 - Summary!B$9),0) -> 0 | BN6: =IF(AND(V6>0,V6>Summary!C$9),12.5 - 12.5 * (V6 - Summary!C$9) / (Summary!C$3 - Summary!C$9),0) -> 0 | BO6: =IF(AND(W6>0,W6>Summary!D$9),12.5 - 12.5 * (W6 - Summary!D$9) / (Summary!D$3 - Summary!D$9),0) -> 6.088133 | BP6: =IF(AND(X6>0,X6>Summary!E$9),12.5 - 12.5 * (X6 - Summary!E$9) / (Summary!E$3 - Summary!E$9),0) -> 0 | BQ6: =IF(AND(Y6>0,Y6>Summary!F$9),12.5 - 12.5 * (Y6 - Summary!F$9) / (Summary!F$3 - Summary!F$9),0) -> 0 | BR6: =IF(AND(Z6>0,Z6>Summary!G$9),12.5 - 12.5 * (Z6 - Summary!G$9) / (Summary!G$3 - Summary!G$9),0) -> 0 | BS6: =IF(AND(AA6>0,AA6>Summary!H$9),12.5 - 12.5 * (AA6 - Summary!H$9) / (Summary!H$3 - Summary!H$9),0) -> 0 | BT6: =IF(AND(AB6>0,AB6>Summary!I$9),12.5 - 12.5 * (AB6 - Summary!I$9) / (Summary!I$3 - Summary!I$9),0) -> 0 | ... BV6: =IF(AND(AD6>0,AD6>Summary!K$9),12.5 - 12.5 * (AD6 - Summary!K$9) / (Summary!K$3 - Summary!K$9),0) -> 0 | BX6: =J6/60 -> 8.9 | BY6: =K6/60 -> 20.3 | BZ6: =L6/60 -> 49.5 | CA6: =M6/60 -> 16.883333 | CB6: =N6/60 -> 44.35 | CC6: =O6/60 -> 20.316667 | CD6: =P6/60 -> 32.133333 | CE6: =Q6/60 -> 44.133333 | ... CG6: =S6/60 -> 54.566667 | CI6: =AQ6+BB6+BM6 -> 49.17817 | CJ6: =AR6+BC6+BN6 -> 24.923453 | CK6: =AS6+BD6+BO6 -> 15.088133 | CL6: =AT6+BE6+BP6 -> 50 | CM6: =AU6+BF6+BQ6 -> 36.463738 | CN6: =AV6+BG6+BR6 -> 49.035714 | CO6: =AW6+BH6+BS6 -> 50 | CP6: =AX6+BI6+BT6 -> 43.2199 | ... CR6: =AZ6+BK6+BV6 -> 46.339862 | CT6: =MIN(CI6:CR6) -> 15.088133 | CU6: =SMALL(CI6:CR6,2) -> 24.923453 | CV6: =SUM(CI6:CR6)-CT6-CU6 -> 374.23738 | CW6: =50*MIN(8,COUNTIF(J6:S6,">0")) -> 400 | CX6: =CW6+CV6 -> 774.23738 | CZ6: =G6 -> 745.45735 | DA6: =A6 -> 2
A7: 3 | B7: Para | C7: Bram de Laat | D7: Netherlands | E7: 333.18227 | F7: 8/10/10 | G7: 733.18227 | H7: 28431 | J7: 878 | K7: 1342 | L7: 1369 | M7: 1512 | N7: 1771 | O7: 1479 | P7: 4963 | Q7: 2411 | R7: 2897 | S7: 9809 | U7: =IF(J7<=Summary!B$3,J7,0) -> 878 | V7: =IF(K7<=Summary!C$3,K7,0) -> 1342 | W7: =IF(L7<=Summary!D$3,L7,0) -> 1369 | X7: =IF(M7<=Summary!E$3,M7,0) -> 1512 | Y7: =IF(N7<=Summary!F$3,N7,0) -> 1771 | Z7: =IF(O7<=Summary!G$3,O7,0) -> 1479 | AA7: =IF(P7<=Summary!H$3,P7,0) -> 4963 | AB7: =IF(Q7<=Summary!I$3,Q7,0) -> 2411 | ... AD7: =IF(S7<=Summary!K$3,S7,0) -> 0 | AF7: =IF(J7>0,RANK(J7,J:J,1),0) -> 22 | AG7: =IF(K7>0,RANK(K7,K:K,1),0) -> 88 | AH7: =IF(L7>0,RANK(L7,L:L,1),0) -> 10 | AI7: =IF(M7>0,RANK(M7,M:M,1),0) -> 4 | AJ7: =IF(N7>0,RANK(N7,N:N,1),0) -> 3 | AK7: =IF(O7>0,RANK(O7,O:O,1),0) -> 5 | AL7: =IF(P7>0,RANK(P7,P:P,1),0) -> 41 | AM7: =IF(Q7>0,RANK(Q7,Q:Q,1),0) -> 5 | AN7: =IF(R7>0,RANK(R7,R:R,1),0) -> 6 | AO7: =IF(S7>0,RANK(S7,S:S,1),0) -> 43 | AQ7: =IF(AND(AF7<=Summary!B$6,AF7>0),25*(Summary!B$6+1-AF7)/Summary!B$6,0) -> 19.75 | AR7: =IF(AND(AG7<=Summary!C$6,AG7>0),25*(Summary!C$6+1-AG7)/Summary!C$6,0) -> 3.25 | AS7: =IF(AND(AH7<=Summary!D$6,AH7>0),25*(Summary!D$6+1-AH7)/Summary!D$6,0) -> 22.75 | AT7: =IF(AND(AI7<=Summary!E$6,AI7>0),25*(Summary!E$6+1-AI7)/Summary!E$6,0) -> 24.25 | AU7: =IF(AND(AJ7<=Summary!F$6,AJ7>0),25*(Summary!F$6+1-AJ7)/Summary!F$6,0) -> 24.5 | AV7: =IF(AND(AK7<=Summary!G$6,AK7>0),25*(Summary!G$6+1-AK7)/Summary!G$6,0) -> 24 | AW7: =IF(AND(AL7<=Summary!H$6,AL7>0),25*(Summary!H$6+1-AL7)/Summary!H$6,0) -> 15 | AX7: =IF(AND(AM7<=Summary!I$6,AM7>0),25*(Summary!I$6+1-AM7)/Summary!I$6,0) -> 24 | ... AZ7: =IF(AND(AO7<=Summary!K$6,AO7>0),25*(Summary!K$6+1-AO7)/Summary!K$6,0) -> 14.5 | BB7: =IF(AND(U7>0,U7<=Summary!B$9),12.5 + 12.5 * (U7 - Summary!B$9) / (Summary!B$7 - Summary!B$9),0) -> 20.977127 | BC7: =IF(AND(V7>0,V7<=Summary!C$9),12.5 + 12.5 * (V7 - Summary!C$9) / (Summary!C$7 - Summary!C$9),0) -> 15.534109 | BD7: =IF(AND(W7>0,W7<=Summary!D$9),12.5 + 12.5 * (W7 - Summary!D$9) / (Summary!D$7 - Summary!D$9),0) -> 20.447609 | BE7: =IF(AND(X7>0,X7<=Summary!E$9),12.5 + 12.5 * (X7 - Summary!E$9) / (Summary!E$7 - Summary!E$9),0) -> 21.662654 | BF7: =IF(AND(Y7>0,Y7<=Summary!F$9),12.5 + 12.5 * (Y7 - Summary!F$9) / (Summary!F$7 - Summary!F$9),0) -> 24.251727 | BG7: =IF(AND(Z7>0,Z7<=Summary!G$9),12.5 + 12.5 * (Z7 - Summary!G$9) / (Summary!G$7 - Summary!G$9),0) -> 22.371134 | BH7: =IF(AND(AA7>0,AA7<=Summary!H$9),12.5 + 12.5 * (AA7 - Summary!H$9) / (Summary!H$7 - Summary!H$9),0) -> 0 | BI7: =IF(AND(AB7>0,AB7<=Summary!I$9),12.5 + 12.5 * (AB7 - Summary!I$9) / (Summary!I$7 - Summary!I$9),0) -> 22.951505 | ... BK7: =IF(AND(AD7>0,AD7<=Summary!K$9),12.5 + 12.5 * (AD7 - Summary!K$9) / (Summary!K$7 - Summary!K$9),0) -> 0 | BM7: =IF(AND(U7>0,U7>Summary!B$9),12.5 - 12.5 * (U7 - Summary!B$9) / (Summary!B$3 - Summary!B$9),0) -> 0 | BN7: =IF(AND(V7>0,V7>Summary!C$9),12.5 - 12.5 * (V7 - Summary!C$9) / (Summary!C$3 - Summary!C$9),0) -> 0 | BO7: =IF(AND(W7>0,W7>Summary!D$9),12.5 - 12.5 * (W7 - Summary!D$9) / (Summary!D$3 - Summary!D$9),0) -> 0 | BP7: =IF(AND(X7>0,X7>Summary!E$9),12.5 - 12.5 * (X7 - Summary!E$9) / (Summary!E$3 - Summary!E$9),0) -> 0 | BQ7: =IF(AND(Y7>0,Y7>Summary!F$9),12.5 - 12.5 * (Y7 - Summary!F$9) / (Summary!F$3 - Summary!F$9),0) -> 0 | BR7: =IF(AND(Z7>0,Z7>Summary!G$9),12.5 - 12.5 * (Z7 - Summary!G$9) / (Summary!G$3 - Summary!G$9),0) -> 0 | BS7: =IF(AND(AA7>0,AA7>Summary!H$9),12.5 - 12.5 * (AA7 - Summary!H$9) / (Summary!H$3 - Summary!H$9),0) -> 3.0975333 | BT7: =IF(AND(AB7>0,AB7>Summary!I$9),12.5 - 12.5 * (AB7 - Summary!I$9) / (Summary!I$3 - Summary!I$9),0) -> 0 | ... BV7: =IF(AND(AD7>0,AD7>Summary!K$9),12.5 - 12.5 * (AD7 - Summary!K$9) / (Summary!K$3 - Summary!K$9),0) -> 0 | BX7: =J7/60 -> 14.633333 | BY7: =K7/60 -> 22.366667 | BZ7: =L7/60 -> 22.816667 | CA7: =M7/60 -> 25.2 | CB7: =N7/60 -> 29.516667 | CC7: =O7/60 -> 24.65 | CD7: =P7/60 -> 82.716667 | CE7: =Q7/60 -> 40.183333 | ... CG7: =S7/60 -> 163.48333 | CI7: =AQ7+BB7+BM7 -> 40.727127 | CJ7: =AR7+BC7+BN7 -> 18.784109 | CK7: =AS7+BD7+BO7 -> 43.197609 | CL7: =AT7+BE7+BP7 -> 45.912654 | CM7: =AU7+BF7+BQ7 -> 48.751727 | CN7: =AV7+BG7+BR7 -> 46.371134 | CO7: =AW7+BH7+BS7 -> 18.097533 | CP7: =AX7+BI7+BT7 -> 46.951505 | ... CR7: =AZ7+BK7+BV7 -> 14.5 | CT7: =MIN(CI7:CR7) -> 14.5 | CU7: =SMALL(CI7:CR7,2) -> 18.097533 | CV7: =SUM(CI7:CR7)-CT7-CU7 -> 334.9053 | CW7: =50*MIN(8,COUNTIF(J7:S7,">0")) -> 400 | CX7: =CW7+CV7 -> 734.9053 | CZ7: =G7 -> 733.18227 | DA7: =A7 -> 3
A8: 4 | B8: rob | C8: Robert Vollmert | D8: Germany | E8: 339.79876 | F8: 9/9/9 + 1 | G8: 726.53204 | H8: 17640 | J8: 803 | K8: 694 | L8: 1460 | M8: 2044 | N8: 3147 | O8: 1533 | P8: 2617 | Q8: 2288 | R8: 3054 | U8: =IF(J8<=Summary!B$3,J8,0) -> 803 | V8: =IF(K8<=Summary!C$3,K8,0) -> 694 | W8: =IF(L8<=Summary!D$3,L8,0) -> 1460 | X8: =IF(M8<=Summary!E$3,M8,0) -> 2044 | Y8: =IF(N8<=Summary!F$3,N8,0) -> 3147 | Z8: =IF(O8<=Summary!G$3,O8,0) -> 1533 | AA8: =IF(P8<=Summary!H$3,P8,0) -> 2617 | AB8: =IF(Q8<=Summary!I$3,Q8,0) -> 2288 | ... AD8: =IF(S8<=Summary!K$3,S8,0) -> 0 | AF8: =IF(J8>0,RANK(J8,J:J,1),0) -> 17 | AG8: =IF(K8>0,RANK(K8,K:K,1),0) -> 5 | AH8: =IF(L8>0,RANK(L8,L:L,1),0) -> 15 | AI8: =IF(M8>0,RANK(M8,M:M,1),0) -> 21 | AJ8: =IF(N8>0,RANK(N8,N:N,1),0) -> 31 | AK8: =IF(O8>0,RANK(O8,O:O,1),0) -> 8 | AL8: =IF(P8>0,RANK(P8,P:P,1),0) -> 5 | AM8: =IF(Q8>0,RANK(Q8,Q:Q,1),0) -> 4 | AN8: =IF(R8>0,RANK(R8,R:R,1),0) -> 7 | AO8: =IF(S8>0,RANK(S8,S:S,1),0) -> 0 | AQ8: =IF(AND(AF8<=Summary!B$6,AF8>0),25*(Summary!B$6+1-AF8)/Summary!B$6,0) -> 21 | AR8: =IF(AND(AG8<=Summary!C$6,AG8>0),25*(Summary!C$6+1-AG8)/Summary!C$6,0) -> 24 | AS8: =IF(AND(AH8<=Summary!D$6,AH8>0),25*(Summary!D$6+1-AH8)/Summary!D$6,0) -> 21.5 | AT8: =IF(AND(AI8<=Summary!E$6,AI8>0),25*(Summary!E$6+1-AI8)/Summary!E$6,0) -> 20 | AU8: =IF(AND(AJ8<=Summary!F$6,AJ8>0),25*(Summary!F$6+1-AJ8)/Summary!F$6,0) -> 17.5 | AV8: =IF(AND(AK8<=Summary!G$6,AK8>0),25*(Summary!G$6+1-AK8)/Summary!G$6,0) -> 23.25 | AW8: =IF(AND(AL8<=Summary!H$6,AL8>0),25*(Summary!H$6+1-AL8)/Summary!H$6,0) -> 24 | AX8: =IF(AND(AM8<=Summary!I$6,AM8>0),25*(Summary!I$6+1-AM8)/Summary!I$6,0) -> 24.25 | ... AZ8: =IF(AND(AO8<=Summary!K$6,AO8>0),25*(Summary!K$6+1-AO8)/Summary!K$6,0) -> 0 | BB8: =IF(AND(U8>0,U8<=Summary!B$9),12.5 + 12.5 * (U8 - Summary!B$9) / (Summary!B$7 - Summary!B$9),0) -> 21.729535 | BC8: =IF(AND(V8>0,V8<=Summary!C$9),12.5 + 12.5 * (V8 - Summary!C$9) / (Summary!C$7 - Summary!C$9),0) -> 24.101005 | BD8: =IF(AND(W8>0,W8<=Summary!D$9),12.5 + 12.5 * (W8 - Summary!D$9) / (Summary!D$7 - Summary!D$9),0) -> 19.676161 | BE8: =IF(AND(X8>0,X8<=Summary!E$9),12.5 + 12.5 * (X8 - Summary!E$9) / (Summary!E$7 - Summary!E$9),0) -> 18.104601 | BF8: =IF(AND(Y8>0,Y8<=Summary!F$9),12.5 + 12.5 * (Y8 - Summary!F$9) / (Summary!F$7 - Summary!F$9),0) -> 0 | BG8: =IF(AND(Z8>0,Z8<=Summary!G$9),12.5 + 12.5 * (Z8 - Summary!G$9) / (Summary!G$7 - Summary!G$9),0) -> 21.97349 | BH8: =IF(AND(AA8>0,AA8<=Summary!H$9),12.5 + 12.5 * (AA8 - Summary!H$9) / (Summary!H$7 - Summary!H$9),0) -> 19.959028 | BI8: =IF(AND(AB8>0,AB8<=Summary!I$9),12.5 + 12.5 * (AB8 - Summary!I$9) / (Summary!I$7 - Summary!I$9),0) -> 23.979933 | ... BK8: =IF(AND(AD8>0,AD8<=Summary!K$9),12.5 + 12.5 * (AD8 - Summary!K$9) / (Summary!K$7 - Summary!K$9),0) -> 0 | BM8: =IF(AND(U8>0,U8>Summary!B$9),12.5 - 12.5 * (U8 - Summary!B$9) / (Summary!B$3 - Summary!B$9),0) -> 0 | BN8: =IF(AND(V8>0,V8>Summary!C$9),12.5 - 12.5 * (V8 - Summary!C$9) / (Summary!C$3 - Summary!C$9),0) -> 0 | BO8: =IF(AND(W8>0,W8>Summary!D$9),12.5 - 12.5 * (W8 - Summary!D$9) / (Summary!D$3 - Summary!D$9),0) -> 0 | BP8: =IF(AND(X8>0,X8>Summary!E$9),12.5 - 12.5 * (X8 - Summary!E$9) / (Summary!E$3 - Summary!E$9),0) -> 0 | BQ8: =IF(AND(Y8>0,Y8>Summary!F$9),12.5 - 12.5 * (Y8 - Summary!F$9) / (Summary!F$3 - Summary!F$9),0) -> 11.245013 | BR8: =IF(AND(Z8>0,Z8>Summary!G$9),12.5 - 12.5 * (Z8 - Summary!G$9) / (Summary!G$3 - Summary!G$9),0) -> 0 | BS8: =IF(AND(AA8>0,AA8>Summary!H$9),12.5 - 12.5 * (AA8 - Summary!H$9) / (Summary!H$3 - Summary!H$9),0) -> 0 | BT8: =IF(AND(AB8>0,AB8>Summary!I$9),12.5 - 12.5 * (AB8 - Summary!I$9) / (Summary!I$3 - Summary!I$9),0) -> 0 | ... BV8: =IF(AND(AD8>0,AD8>Summary!K$9),12.5 - 12.5 * (AD8 - Summary!K$9) / (Summary!K$3 - Summary!K$9),0) -> 0 | BX8: =J8/60 -> 13.383333 | BY8: =K8/60 -> 11.566667 | BZ8: =L8/60 -> 24.333333 | CA8: =M8/60 -> 34.066667 | CB8: =N8/60 -> 52.45 | CC8: =O8/60 -> 25.55 | CD8: =P8/60 -> 43.616667 | CE8: =Q8/60 -> 38.133333 | ... CG8: =S8/60 -> 0 | CI8: =AQ8+BB8+BM8 -> 42.729535 | CJ8: =AR8+BC8+BN8 -> 48.101005 | CK8: =AS8+BD8+BO8 -> 41.176161 | CL8: =AT8+BE8+BP8 -> 38.104601 | CM8: =AU8+BF8+BQ8 -> 28.745013 | CN8: =AV8+BG8+BR8 -> 45.22349 | CO8: =AW8+BH8+BS8 -> 43.959028 | CP8: =AX8+BI8+BT8 -> 48.229933 | ... CR8: =AZ8+BK8+BV8 -> 0 | CT8: =MIN(CI8:CR8) -> 0 | CU8: =SMALL(CI8:CR8,2) -> 28.745013 | CV8: =SUM(CI8:CR8)-CT8-CU8 -> 350.42864 | CW8: =50*MIN(8,COUNTIF(J8:S8,">0")) -> 400 | CX8: =CW8+CV8 -> 750.42864 | CZ8: =G8 -> 726.53204 | DA8: =A8 -> 4
A9: 5 | B9: willwc | C9: William Blatt | D9: USA | E9: 332.5145 | F9: 9/10/10 | G9: 705.28615 | H9: 31137 | J9: 1381 | K9: 1389 | L9: 1358 | M9: 1868 | N9: 2574 | O9: 1427 | P9: 2472 | Q9: 2948 | R9: 2652 | S9: 13068 | U9: =IF(J9<=Summary!B$3,J9,0) -> 1381 | V9: =IF(K9<=Summary!C$3,K9,0) -> 1389 | W9: =IF(L9<=Summary!D$3,L9,0) -> 1358 | X9: =IF(M9<=Summary!E$3,M9,0) -> 1868 | Y9: =IF(N9<=Summary!F$3,N9,0) -> 2574 | Z9: =IF(O9<=Summary!G$3,O9,0) -> 1427 | AA9: =IF(P9<=Summary!H$3,P9,0) -> 2472 | AB9: =IF(Q9<=Summary!I$3,Q9,0) -> 2948 | ... AD9: =IF(S9<=Summary!K$3,S9,0) -> 0 | AF9: =IF(J9>0,RANK(J9,J:J,1),0) -> 69 | AG9: =IF(K9>0,RANK(K9,K:K,1),0) -> 95 | AH9: =IF(L9>0,RANK(L9,L:L,1),0) -> 9 | AI9: =IF(M9>0,RANK(M9,M:M,1),0) -> 12 | AJ9: =IF(N9>0,RANK(N9,N:N,1),0) -> 14 | AK9: =IF(O9>0,RANK(O9,O:O,1),0) -> 4 | AL9: =IF(P9>0,RANK(P9,P:P,1),0) -> 3 | AM9: =IF(Q9>0,RANK(Q9,Q:Q,1),0) -> 15 | AN9: =IF(R9>0,RANK(R9,R:R,1),0) -> 3 | AO9: =IF(S9>0,RANK(S9,S:S,1),0) -> 56 | AQ9: =IF(AND(AF9<=Summary!B$6,AF9>0),25*(Summary!B$6+1-AF9)/Summary!B$6,0) -> 8 | AR9: =IF(AND(AG9<=Summary!C$6,AG9>0),25*(Summary!C$6+1-AG9)/Summary!C$6,0) -> 1.5 | AS9: =IF(AND(AH9<=Summary!D$6,AH9>0),25*(Summary!D$6+1-AH9)/Summary!D$6,0) -> 23 | AT9: =IF(AND(AI9<=Summary!E$6,AI9>0),25*(Summary!E$6+1-AI9)/Summary!E$6,0) -> 22.25 | AU9: =IF(AND(AJ9<=Summary!F$6,AJ9>0),25*(Summary!F$6+1-AJ9)/Summary!F$6,0) -> 21.75 | AV9: =IF(AND(AK9<=Summary!G$6,AK9>0),25*(Summary!G$6+1-AK9)/Summary!G$6,0) -> 24.25 | AW9: =IF(AND(AL9<=Summary!H$6,AL9>0),25*(Summary!H$6+1-AL9)/Summary!H$6,0) -> 24.5 | AX9: =IF(AND(AM9<=Summary!I$6,AM9>0),25*(Summary!I$6+1-AM9)/Summary!I$6,0) -> 21.5 | ... AZ9: =IF(AND(AO9<=Summary!K$6,AO9>0),25*(Summary!K$6+1-AO9)/Summary!K$6,0) -> 11.25 | BB9: =IF(AND(U9>0,U9<=Summary!B$9),12.5 + 12.5 * (U9 - Summary!B$9) / (Summary!B$7 - Summary!B$9),0) -> 15.930979 | BC9: =IF(AND(V9>0,V9<=Summary!C$9),12.5 + 12.5 * (V9 - Summary!C$9) / (Summary!C$7 - Summary!C$9),0) -> 14.912745 | BD9: =IF(AND(W9>0,W9<=Summary!D$9),12.5 + 12.5 * (W9 - Summary!D$9) / (Summary!D$7 - Summary!D$9),0) -> 20.540861 | BE9: =IF(AND(X9>0,X9<=Summary!E$9),12.5 + 12.5 * (X9 - Summary!E$9) / (Summary!E$7 - Summary!E$9),0) -> 19.281701 | BF9: =IF(AND(Y9>0,Y9<=Summary!F$9),12.5 + 12.5 * (Y9 - Summary!F$9) / (Summary!F$7 - Summary!F$9),0) -> 16.54835 | BG9: =IF(AND(Z9>0,Z9<=Summary!G$9),12.5 + 12.5 * (Z9 - Summary!G$9) / (Summary!G$7 - Summary!G$9),0) -> 22.75405 | BH9: =IF(AND(AA9>0,AA9<=Summary!H$9),12.5 + 12.5 * (AA9 - Summary!H$9) / (Summary!H$7 - Summary!H$9),0) -> 21.0199 | BI9: =IF(AND(AB9>0,AB9<=Summary!I$9),12.5 + 12.5 * (AB9 - Summary!I$9) / (Summary!I$7 - Summary!I$9),0) -> 18.461538 | ... BK9: =IF(AND(AD9>0,AD9<=Summary!K$9),12.5 + 12.5 * (AD9 - Summary!K$9) / (Summary!K$7 - Summary!K$9),0) -> 0 | BM9: =IF(AND(U9>0,U9>Summary!B$9),12.5 - 12.5 * (U9 - Summary!B$9) / (Summary!B$3 - Summary!B$9),0) -> 0 | BN9: =IF(AND(V9>0,V9>Summary!C$9),12.5 - 12.5 * (V9 - Summary!C$9) / (Summary!C$3 - Summary!C$9),0) -> 0 | BO9: =IF(AND(W9>0,W9>Summary!D$9),12.5 - 12.5 * (W9 - Summary!D$9) / (Summary!D$3 - Summary!D$9),0) -> 0 | BP9: =IF(AND(X9>0,X9>Summary!E$9),12.5 - 12.5 * (X9 - Summary!E$9) / (Summary!E$3 - Summary!E$9),0) -> 0 | BQ9: =IF(AND(Y9>0,Y9>Summary!F$9),12.5 - 12.5 * (Y9 - Summary!F$9) / (Summary!F$3 - Summary!F$9),0) -> 0 | BR9: =IF(AND(Z9>0,Z9>Summary!G$9),12.5 - 12.5 * (Z9 - Summary!G$9) / (Summary!G$3 - Summary!G$9),0) -> 0 | BS9: =IF(AND(AA9>0,AA9>Summary!H$9),12.5 - 12.5 * (AA9 - Summary!H$9) / (Summary!H$3 - Summary!H$9),0) -> 0 | BT9: =IF(AND(AB9>0,AB9>Summary!I$9),12.5 - 12.5 * (AB9 - Summary!I$9) / (Summary!I$3 - Summary!I$9),0) -> 0 | ... BV9: =IF(AND(AD9>0,AD9>Summary!K$9),12.5 - 12.5 * (AD9 - Summary!K$9) / (Summary!K$3 - Summary!K$9),0) -> 0 | BX9: =J9/60 -> 23.016667 | BY9: =K9/60 -> 23.15 | BZ9: =L9/60 -> 22.633333 | CA9: =M9/60 -> 31.133333 | CB9: =N9/60 -> 42.9 | CC9: =O9/60 -> 23.783333 | CD9: =P9/60 -> 41.2 | CE9: =Q9/60 -> 49.133333 | ... CG9: =S9/60 -> 217.8 | CI9: =AQ9+BB9+BM9 -> 23.930979 | CJ9: =AR9+BC9+BN9 -> 16.412745 | CK9: =AS9+BD9+BO9 -> 43.540861 | CL9: =AT9+BE9+BP9 -> 41.531701 | CM9: =AU9+BF9+BQ9 -> 38.29835 | CN9: =AV9+BG9+BR9 -> 47.00405 | CO9: =AW9+BH9+BS9 -> 45.5199 | CP9: =AX9+BI9+BT9 -> 39.961538 | ... CR9: =AZ9+BK9+BV9 -> 11.25 | CT9: =MIN(CI9:CR9) -> 11.25 | CU9: =SMALL(CI9:CR9,2) -> 16.412745 | CV9: =SUM(CI9:CR9)-CT9-CU9 -> 326.39243 | CW9: =50*MIN(8,COUNTIF(J9:S9,">0")) -> 400 | CX9: =CW9+CV9 -> 726.39243 | CZ9: =G9 -> 705.28615 | DA9: =A9 -> 5
A10: 6 | B10: Kota | C10: Kota Morinishi | D10: Japan | E10: 295.04347 | F10: 8/10/10 | G10: 695.04347 | H10: 24236 | J10: 797 | K10: 889 | L10: 1938 | M10: 1659 | N10: 2200 | O10: 1122 | P10: 3981 | Q10: 3141 | R10: 3290 | S10: 5219 | U10: =IF(J10<=Summary!B$3,J10,0) -> 797 | V10: =IF(K10<=Summary!C$3,K10,0) -> 889 | W10: =IF(L10<=Summary!D$3,L10,0) -> 1938 | X10: =IF(M10<=Summary!E$3,M10,0) -> 1659 | Y10: =IF(N10<=Summary!F$3,N10,0) -> 2200 | Z10: =IF(O10<=Summary!G$3,O10,0) -> 1122 | AA10: =IF(P10<=Summary!H$3,P10,0) -> 3981 | AB10: =IF(Q10<=Summary!I$3,Q10,0) -> 3141 | ... AD10: =IF(S10<=Summary!K$3,S10,0) -> 5219 | AF10: =IF(J10>0,RANK(J10,J:J,1),0) -> 16 | AG10: =IF(K10>0,RANK(K10,K:K,1),0) -> 20 | AH10: =IF(L10>0,RANK(L10,L:L,1),0) -> 34 | AI10: =IF(M10>0,RANK(M10,M:M,1),0) -> 7 | AJ10: =IF(N10>0,RANK(N10,N:N,1),0) -> 4 | AK10: =IF(O10>0,RANK(O10,O:O,1),0) -> 1 | AL10: =IF(P10>0,RANK(P10,P:P,1),0) -> 24 | AM10: =IF(Q10>0,RANK(Q10,Q:Q,1),0) -> 21 | AN10: =IF(R10>0,RANK(R10,R:R,1),0) -> 11 | AO10: =IF(S10>0,RANK(S10,S:S,1),0) -> 17 | AQ10: =IF(AND(AF10<=Summary!B$6,AF10>0),25*(Summary!B$6+1-AF10)/Summary!B$6,0) -> 21.25 | AR10: =IF(AND(AG10<=Summary!C$6,AG10>0),25*(Summary!C$6+1-AG10)/Summary!C$6,0) -> 20.25 | AS10: =IF(AND(AH10<=Summary!D$6,AH10>0),25*(Summary!D$6+1-AH10)/Summary!D$6,0) -> 16.75 | AT10: =IF(AND(AI10<=Summary!E$6,AI10>0),25*(Summary!E$6+1-AI10)/Summary!E$6,0) -> 23.5 | AU10: =IF(AND(AJ10<=Summary!F$6,AJ10>0),25*(Summary!F$6+1-AJ10)/Summary!F$6,0) -> 24.25 | AV10: =IF(AND(AK10<=Summary!G$6,AK10>0),25*(Summary!G$6+1-AK10)/Summary!G$6,0) -> 25 | AW10: =IF(AND(AL10<=Summary!H$6,AL10>0),25*(Summary!H$6+1-AL10)/Summary!H$6,0) -> 19.25 | AX10: =IF(AND(AM10<=Summary!I$6,AM10>0),25*(Summary!I$6+1-AM10)/Summary!I$6,0) -> 20 | ... AZ10: =IF(AND(AO10<=Summary!K$6,AO10>0),25*(Summary!K$6+1-AO10)/Summary!K$6,0) -> 21 | BB10: =IF(AND(U10>0,U10<=Summary!B$9),12.5 + 12.5 * (U10 - Summary!B$9) / (Summary!B$7 - Summary!B$9),0) -> 21.789727 | BC10: =IF(AND(V10>0,V10<=Summary!C$9),12.5 + 12.5 * (V10 - Summary!C$9) / (Summary!C$7 - Summary!C$9),0) -> 21.523004 | BD10: =IF(AND(W10>0,W10<=Summary!D$9),12.5 + 12.5 * (W10 - Summary!D$9) / (Summary!D$7 - Summary!D$9),0) -> 15.62394 | BE10: =IF(AND(X10>0,X10<=Summary!E$9),12.5 + 12.5 * (X10 - Summary!E$9) / (Summary!E$7 - Summary!E$9),0) -> 20.679508 | BF10: =IF(AND(Y10>0,Y10<=Summary!F$9),12.5 + 12.5 * (Y10 - Summary!F$9) / (Summary!F$7 - Summary!F$9),0) -> 20.136224 | BG10: =IF(AND(Z10>0,Z10<=Summary!G$9),12.5 + 12.5 * (Z10 - Summary!G$9) / (Summary!G$7 - Summary!G$9),0) -> 25 | BH10: =IF(AND(AA10>0,AA10<=Summary!H$9),12.5 + 12.5 * (AA10 - Summary!H$9) / (Summary!H$7 - Summary!H$9),0) -> 0 | BI10: =IF(AND(AB10>0,AB10<=Summary!I$9),12.5 + 12.5 * (AB10 - Summary!I$9) / (Summary!I$7 - Summary!I$9),0) -> 16.847826 | ... BK10: =IF(AND(AD10>0,AD10<=Summary!K$9),12.5 + 12.5 * (AD10 - Summary!K$9) / (Summary!K$7 - Summary!K$9),0) -> 0 | BM10: =IF(AND(U10>0,U10>Summary!B$9),12.5 - 12.5 * (U10 - Summary!B$9) / (Summary!B$3 - Summary!B$9),0) -> 0 | BN10: =IF(AND(V10>0,V10>Summary!C$9),12.5 - 12.5 * (V10 - Summary!C$9) / (Summary!C$3 - Summary!C$9),0) -> 0 | BO10: =IF(AND(W10>0,W10>Summary!D$9),12.5 - 12.5 * (W10 - Summary!D$9) / (Summary!D$3 - Summary!D$9),0) -> 0 | BP10: =IF(AND(X10>0,X10>Summary!E$9),12.5 - 12.5 * (X10 - Summary!E$9) / (Summary!E$3 - Summary!E$9),0) -> 0 | BQ10: =IF(AND(Y10>0,Y10>Summary!F$9),12.5 - 12.5 * (Y10 - Summary!F$9) / (Summary!F$3 - Summary!F$9),0) -> 0 | BR10: =IF(AND(Z10>0,Z10>Summary!G$9),12.5 - 12.5 * (Z10 - Summary!G$9) / (Summary!G$3 - Summary!G$9),0) -> 0 | BS10: =IF(AND(AA10>0,AA10>Summary!H$9),12.5 - 12.5 * (AA10 - Summary!H$9) / (Summary!H$3 - Summary!H$9),0) -> 10.058123 | BT10: =IF(AND(AB10>0,AB10>Summary!I$9),12.5 - 12.5 * (AB10 - Summary!I$9) / (Summary!I$3 - Summary!I$9),0) -> 0 | ... BV10: =IF(AND(AD10>0,AD10>Summary!K$9),12.5 - 12.5 * (AD10 - Summary!K$9) / (Summary!K$3 - Summary!K$9),0) -> 4.1286496 | BX10: =J10/60 -> 13.283333 | BY10: =K10/60 -> 14.816667 | BZ10: =L10/60 -> 32.3 | CA10: =M10/60 -> 27.65 | CB10: =N10/60 -> 36.666667 | CC10: =O10/60 -> 18.7 | CD10: =P10/60 -> 66.35 | CE10: =Q10/60 -> 52.35 | ... CG10: =S10/60 -> 86.983333 | CI10: =AQ10+BB10+BM10 -> 43.039727 | CJ10: =AR10+BC10+BN10 -> 41.773004 | CK10: =AS10+BD10+BO10 -> 32.37394 | CL10: =AT10+BE10+BP10 -> 44.179508 | CM10: =AU10+BF10+BQ10 -> 44.386224 | CN10: =AV10+BG10+BR10 -> 50 | CO10: =AW10+BH10+BS10 -> 29.308123 | CP10: =AX10+BI10+BT10 -> 36.847826 | ... CR10: =AZ10+BK10+BV10 -> 25.12865 | CT10: =MIN(CI10:CR10) -> 25.12865 | CU10: =SMALL(CI10:CR10,2) -> 29.308123 | CV10: =SUM(CI10:CR10)-CT10-CU10 -> 332.91995 | CW10: =50*MIN(8,COUNTIF(J10:S10,">0")) -> 400 | CX10: =CW10+CV10 -> 732.91995 | CZ10: =G10 -> 695.04347 | DA10: =A10 -> 6
A11: 7 | B11: MellowMelon | C11: Palmer Mebane | D11: USA | E11: 292.76863 | F11: 9/10/10 | G11: 686.68537 | H11: 24260 | J11: 477 | K11: 765 | L11: 1198 | M11: 3269 | N11: 2866 | O11: 1346 | P11: 3369 | Q11: 2951 | R11: 2867 | S11: 5152 | U11: =IF(J11<=Summary!B$3,J11,0) -> 477 | V11: =IF(K11<=Summary!C$3,K11,0) -> 765 | W11: =IF(L11<=Summary!D$3,L11,0) -> 1198 | X11: =IF(M11<=Summary!E$3,M11,0) -> 3269 | Y11: =IF(N11<=Summary!F$3,N11,0) -> 2866 | Z11: =IF(O11<=Summary!G$3,O11,0) -> 1346 | AA11: =IF(P11<=Summary!H$3,P11,0) -> 3369 | AB11: =IF(Q11<=Summary!I$3,Q11,0) -> 2951 | ... AD11: =IF(S11<=Summary!K$3,S11,0) -> 5152 | AF11: =IF(J11>0,RANK(J11,J:J,1),0) -> 1 | AG11: =IF(K11>0,RANK(K11,K:K,1),0) -> 8 | AH11: =IF(L11>0,RANK(L11,L:L,1),0) -> 7 | AI11: =IF(M11>0,RANK(M11,M:M,1),0) -> 68 | AJ11: =IF(N11>0,RANK(N11,N:N,1),0) -> 22 | AK11: =IF(O11>0,RANK(O11,O:O,1),0) -> 3 | AL11: =IF(P11>0,RANK(P11,P:P,1),0) -> 16 | AM11: =IF(Q11>0,RANK(Q11,Q:Q,1),0) -> 16 | AN11: =IF(R11>0,RANK(R11,R:R,1),0) -> 5 | AO11: =IF(S11>0,RANK(S11,S:S,1),0) -> 15 | AQ11: =IF(AND(AF11<=Summary!B$6,AF11>0),25*(Summary!B$6+1-AF11)/Summary!B$6,0) -> 25 | AR11: =IF(AND(AG11<=Summary!C$6,AG11>0),25*(Summary!C$6+1-AG11)/Summary!C$6,0) -> 23.25 | AS11: =IF(AND(AH11<=Summary!D$6,AH11>0),25*(Summary!D$6+1-AH11)/Summary!D$6,0) -> 23.5 | AT11: =IF(AND(AI11<=Summary!E$6,AI11>0),25*(Summary!E$6+1-AI11)/Summary!E$6,0) -> 8.25 | AU11: =IF(AND(AJ11<=Summary!F$6,AJ11>0),25*(Summary!F$6+1-AJ11)/Summary!F$6,0) -> 19.75 | AV11: =IF(AND(AK11<=Summary!G$6,AK11>0),25*(Summary!G$6+1-AK11)/Summary!G$6,0) -> 24.5 | AW11: =IF(AND(AL11<=Summary!H$6,AL11>0),25*(Summary!H$6+1-AL11)/Summary!H$6,0) -> 21.25 | AX11: =IF(AND(AM11<=Summary!I$6,AM11>0),25*(Summary!I$6+1-AM11)/Summary!I$6,0) -> 21.25 | ... AZ11: =IF(AND(AO11<=Summary!K$6,AO11>0),25*(Summary!K$6+1-AO11)/Summary!K$6,0) -> 21.5 | BB11: =IF(AND(U11>0,U11<=Summary!B$9),12.5 + 12.5 * (U11 - Summary!B$9) / (Summary!B$7 - Summary!B$9),0) -> 25 | BC11: =IF(AND(V11>0,V11<=Summary!C$9),12.5 + 12.5 * (V11 - Summary!C$9) / (Summary!C$7 - Summary!C$9),0) -> 23.162348 | BD11: =IF(AND(W11>0,W11<=Summary!D$9),12.5 + 12.5 * (W11 - Summary!D$9) / (Summary!D$7 - Summary!D$9),0) -> 21.897253 | BE11: =IF(AND(X11>0,X11<=Summary!E$9),12.5 + 12.5 * (X11 - Summary!E$9) / (Summary!E$7 - Summary!E$9),0) -> 0 | BF11: =IF(AND(Y11>0,Y11<=Summary!F$9),12.5 + 12.5 * (Y11 - Summary!F$9) / (Summary!F$7 - Summary!F$9),0) -> 13.747122 | BG11: =IF(AND(Z11>0,Z11<=Summary!G$9),12.5 + 12.5 * (Z11 - Summary!G$9) / (Summary!G$7 - Summary!G$9),0) -> 23.350515 | BH11: =IF(AND(AA11>0,AA11<=Summary!H$9),12.5 + 12.5 * (AA11 - Summary!H$9) / (Summary!H$7 - Summary!H$9),0) -> 14.457126 | BI11: =IF(AND(AB11>0,AB11<=Summary!I$9),12.5 + 12.5 * (AB11 - Summary!I$9) / (Summary!I$7 - Summary!I$9),0) -> 18.436455 | ... BK11: =IF(AND(AD11>0,AD11<=Summary!K$9),12.5 + 12.5 * (AD11 - Summary!K$9) / (Summary!K$7 - Summary!K$9),0) -> 0 | BM11: =IF(AND(U11>0,U11>Summary!B$9),12.5 - 12.5 * (U11 - Summary!B$9) / (Summary!B$3 - Summary!B$9),0) -> 0 | BN11: =IF(AND(V11>0,V11>Summary!C$9),12.5 - 12.5 * (V11 - Summary!C$9) / (Summary!C$3 - Summary!C$9),0) -> 0 | BO11: =IF(AND(W11>0,W11>Summary!D$9),12.5 - 12.5 * (W11 - Summary!D$9) / (Summary!D$3 - Summary!D$9),0) -> 0 | BP11: =IF(AND(X11>0,X11>Summary!E$9),12.5 - 12.5 * (X11 - Summary!E$9) / (Summary!E$3 - Summary!E$9),0) -> 9.5101978 | BQ11: =IF(AND(Y11>0,Y11>Summary!F$9),12.5 - 12.5 * (Y11 - Summary!F$9) / (Summary!F$3 - Summary!F$9),0) -> 0 | BR11: =IF(AND(Z11>0,Z11>Summary!G$9),12.5 - 12.5 * (Z11 - Summary!G$9) / (Summary!G$3 - Summary!G$9),0) -> 0 | BS11: =IF(AND(AA11>0,AA11>Summary!H$9),12.5 - 12.5 * (AA11 - Summary!H$9) / (Summary!H$3 - Summary!H$9),0) -> 0 | BT11: =IF(AND(AB11>0,AB11>Summary!I$9),12.5 - 12.5 * (AB11 - Summary!I$9) / (Summary!I$3 - Summary!I$9),0) -> 0 | ... BV11: =IF(AND(AD11>0,AD11>Summary!K$9),12.5 - 12.5 * (AD11 - Summary!K$9) / (Summary!K$3 - Summary!K$9),0) -> 5.6569343 | BX11: =J11/60 -> 7.95 | BY11: =K11/60 -> 12.75 | BZ11: =L11/60 -> 19.966667 | CA11: =M11/60 -> 54.483333 | CB11: =N11/60 -> 47.766667 | CC11: =O11/60 -> 22.433333 | CD11: =P11/60 -> 56.15 | CE11: =Q11/60 -> 49.183333 | ... CG11: =S11/60 -> 85.866667 | CI11: =AQ11+BB11+BM11 -> 50 | CJ11: =AR11+BC11+BN11 -> 46.412348 | CK11: =AS11+BD11+BO11 -> 45.397253 | CL11: =AT11+BE11+BP11 -> 17.760198 | CM11: =AU11+BF11+BQ11 -> 33.497122 | CN11: =AV11+BG11+BR11 -> 47.850515 | CO11: =AW11+BH11+BS11 -> 35.707126 | CP11: =AX11+BI11+BT11 -> 39.686455 | ... CR11: =AZ11+BK11+BV11 -> 27.156934 | CT11: =MIN(CI11:CR11) -> 17.760198 | CU11: =SMALL(CI11:CR11,2) -> 27.156934 | CV11: =SUM(CI11:CR11)-CT11-CU11 -> 343.21175 | CW11: =50*MIN(8,COUNTIF(J11:S11,">0")) -> 400 | CX11: =CW11+CV11 -> 743.21175 | CZ11: =G11 -> 686.68537 | DA11: =A11 -> 7
A12: 8 | B12: kiwijam | C12: James McGowan | D12: United Kingdom | E12: 275.64925 | F12: 8/9/9 + 1 | G12: 675.64925 | H12: 21285 | J12: 784 | K12: 1270 | L12: 1511 | M12: 3098 | N12: 2322 | O12: 1603 | P12: 2492 | Q12: 3033 | S12: 5172 | U12: =IF(J12<=Summary!B$3,J12,0) -> 784 | V12: =IF(K12<=Summary!C$3,K12,0) -> 1270 | W12: =IF(L12<=Summary!D$3,L12,0) -> 1511 | X12: =IF(M12<=Summary!E$3,M12,0) -> 3098 | Y12: =IF(N12<=Summary!F$3,N12,0) -> 2322 | Z12: =IF(O12<=Summary!G$3,O12,0) -> 1603 | AA12: =IF(P12<=Summary!H$3,P12,0) -> 2492 | AB12: =IF(Q12<=Summary!I$3,Q12,0) -> 3033 | ... AD12: =IF(S12<=Summary!K$3,S12,0) -> 5172 | AF12: =IF(J12>0,RANK(J12,J:J,1),0) -> 13 | AG12: =IF(K12>0,RANK(K12,K:K,1),0) -> 81 | AH12: =IF(L12>0,RANK(L12,L:L,1),0) -> 17 | AI12: =IF(M12>0,RANK(M12,M:M,1),0) -> 60 | AJ12: =IF(N12>0,RANK(N12,N:N,1),0) -> 6 | AK12: =IF(O12>0,RANK(O12,O:O,1),0) -> 9 | AL12: =IF(P12>0,RANK(P12,P:P,1),0) -> 4 | AM12: =IF(Q12>0,RANK(Q12,Q:Q,1),0) -> 17 | AN12: =IF(R12>0,RANK(R12,R:R,1),0) -> 0 | AO12: =IF(S12>0,RANK(S12,S:S,1),0) -> 16 | AQ12: =IF(AND(AF12<=Summary!B$6,AF12>0),25*(Summary!B$6+1-AF12)/Summary!B$6,0) -> 22 | AR12: =IF(AND(AG12<=Summary!C$6,AG12>0),25*(Summary!C$6+1-AG12)/Summary!C$6,0) -> 5 | AS12: =IF(AND(AH12<=Summary!D$6,AH12>0),25*(Summary!D$6+1-AH12)/Summary!D$6,0) -> 21 | AT12: =IF(AND(AI12<=Summary!E$6,AI12>0),25*(Summary!E$6+1-AI12)/Summary!E$6,0) -> 10.25 | AU12: =IF(AND(AJ12<=Summary!F$6,AJ12>0),25*(Summary!F$6+1-AJ12)/Summary!F$6,0) -> 23.75 | AV12: =IF(AND(AK12<=Summary!G$6,AK12>0),25*(Summary!G$6+1-AK12)/Summary!G$6,0) -> 23 | AW12: =IF(AND(AL12<=Summary!H$6,AL12>0),25*(Summary!H$6+1-AL12)/Summary!H$6,0) -> 24.25 | AX12: =IF(AND(AM12<=Summary!I$6,AM12>0),25*(Summary!I$6+1-AM12)/Summary!I$6,0) -> 21 | ... AZ12: =IF(AND(AO12<=Summary!K$6,AO12>0),25*(Summary!K$6+1-AO12)/Summary!K$6,0) -> 21.25 | BB12: =IF(AND(U12>0,U12<=Summary!B$9),12.5 + 12.5 * (U12 - Summary!B$9) / (Summary!B$7 - Summary!B$9),0) -> 21.920144 | BC12: =IF(AND(V12>0,V12<=Summary!C$9),12.5 + 12.5 * (V12 - Summary!C$9) / (Summary!C$7 - Summary!C$9),0) -> 16.485986 | BD12: =IF(AND(W12>0,W12<=Summary!D$9),12.5 + 12.5 * (W12 - Summary!D$9) / (Summary!D$7 - Summary!D$9),0) -> 19.243811 | BE12: =IF(AND(X12>0,X12<=Summary!E$9),12.5 + 12.5 * (X12 - Summary!E$9) / (Summary!E$7 - Summary!E$9),0) -> 0 | BF12: =IF(AND(Y12>0,Y12<=Summary!F$9),12.5 + 12.5 * (Y12 - Summary!F$9) / (Summary!F$7 - Summary!F$9),0) -> 18.965848 | BG12: =IF(AND(Z12>0,Z12<=Summary!G$9),12.5 + 12.5 * (Z12 - Summary!G$9) / (Summary!G$7 - Summary!G$9),0) -> 21.458027 | BH12: =IF(AND(AA12>0,AA12<=Summary!H$9),12.5 + 12.5 * (AA12 - Summary!H$9) / (Summary!H$7 - Summary!H$9),0) -> 20.873573 | BI12: =IF(AND(AB12>0,AB12<=Summary!I$9),12.5 + 12.5 * (AB12 - Summary!I$9) / (Summary!I$7 - Summary!I$9),0) -> 17.750836 | ... BK12: =IF(AND(AD12>0,AD12<=Summary!K$9),12.5 + 12.5 * (AD12 - Summary!K$9) / (Summary!K$7 - Summary!K$9),0) -> 0 | BM12: =IF(AND(U12>0,U12>Summary!B$9),12.5 - 12.5 * (U12 - Summary!B$9) / (Summary!B$3 - Summary!B$9),0) -> 0 | BN12: =IF(AND(V12>0,V12>Summary!C$9),12.5 - 12.5 * (V12 - Summary!C$9) / (Summary!C$3 - Summary!C$9),0) -> 0 | BO12: =IF(AND(W12>0,W12>Summary!D$9),12.5 - 12.5 * (W12 - Summary!D$9) / (Summary!D$3 - Summary!D$9),0) -> 0 | BP12: =IF(AND(X12>0,X12>Summary!E$9),12.5 - 12.5 * (X12 - Summary!E$9) / (Summary!E$3 - Summary!E$9),0) -> 10.831273 | BQ12: =IF(AND(Y12>0,Y12>Summary!F$9),12.5 - 12.5 * (Y12 - Summary!F$9) / (Summary!F$3 - Summary!F$9),0) -> 0 | BR12: =IF(AND(Z12>0,Z12>Summary!G$9),12.5 - 12.5 * (Z12 - Summary!G$9) / (Summary!G$3 - Summary!G$9),0) -> 0 | BS12: =IF(AND(AA12>0,AA12>Summary!H$9),12.5 - 12.5 * (AA12 - Summary!H$9) / (Summary!H$3 - Summary!H$9),0) -> 0 | BT12: =IF(AND(AB12>0,AB12>Summary!I$9),12.5 - 12.5 * (AB12 - Summary!I$9) / (Summary!I$3 - Summary!I$9),0) -> 0 | ... BV12: =IF(AND(AD12>0,AD12>Summary!K$9),12.5 - 12.5 * (AD12 - Summary!K$9) / (Summary!K$3 - Summary!K$9),0) -> 5.2007299 | BX12: =J12/60 -> 13.066667 | BY12: =K12/60 -> 21.166667 | BZ12: =L12/60 -> 25.183333 | CA12: =M12/60 -> 51.633333 | CB12: =N12/60 -> 38.7 | CC12: =O12/60 -> 26.716667 | CD12: =P12/60 -> 41.533333 | CE12: =Q12/60 -> 50.55 | ... CG12: =S12/60 -> 86.2 | CI12: =AQ12+BB12+BM12 -> 43.920144 | CJ12: =AR12+BC12+BN12 -> 21.485986 | CK12: =AS12+BD12+BO12 -> 40.243811 | CL12: =AT12+BE12+BP12 -> 21.081273 | CM12: =AU12+BF12+BQ12 -> 42.715848 | CN12: =AV12+BG12+BR12 -> 44.458027 | CO12: =AW12+BH12+BS12 -> 45.123573 | CP12: =AX12+BI12+BT12 -> 38.750836 | ... CR12: =AZ12+BK12+BV12 -> 26.45073 | CT12: =MIN(CI12:CR12) -> 0 | CU12: =SMALL(CI12:CR12,2) -> 21.081273 | CV12: =SUM(CI12:CR12)-CT12-CU12 -> 303.14896 | CW12: =50*MIN(8,COUNTIF(J12:S12,">0")) -> 400 | CX12: =CW12+CV12 -> 703.14896 | CZ12: =G12 -> 675.64925 | DA12: =A12 -> 8
A13: 9 | B13: Nikola | C13: Nikola | D13: Serbia | E13: 269.00102 | F13: 8/10/10 | G13: 669.00102 | H13: 26800 | J13: 848 | K13: 675 | L13: 3146 | M13: 2042 | N13: 4519 | O13: 2590 | P13: 4568 | Q13: 2244 | R13: 3486 | S13: 2682 | U13: =IF(J13<=Summary!B$3,J13,0) -> 848 | V13: =IF(K13<=Summary!C$3,K13,0) -> 675 | W13: =IF(L13<=Summary!D$3,L13,0) -> 3146 | X13: =IF(M13<=Summary!E$3,M13,0) -> 2042 | Y13: =IF(N13<=Summary!F$3,N13,0) -> 0 | Z13: =IF(O13<=Summary!G$3,O13,0) -> 2590 | AA13: =IF(P13<=Summary!H$3,P13,0) -> 4568 | AB13: =IF(Q13<=Summary!I$3,Q13,0) -> 2244 | ... AD13: =IF(S13<=Summary!K$3,S13,0) -> 2682 | AF13: =IF(J13>0,RANK(J13,J:J,1),0) -> 20 | AG13: =IF(K13>0,RANK(K13,K:K,1),0) -> 4 | AH13: =IF(L13>0,RANK(L13,L:L,1),0) -> 74 | AI13: =IF(M13>0,RANK(M13,M:M,1),0) -> 20 | AJ13: =IF(N13>0,RANK(N13,N:N,1),0) -> 54 | AK13: =IF(O13>0,RANK(O13,O:O,1),0) -> 46 | AL13: =IF(P13>0,RANK(P13,P:P,1),0) -> 35 | AM13: =IF(Q13>0,RANK(Q13,Q:Q,1),0) -> 3 | AN13: =IF(R13>0,RANK(R13,R:R,1),0) -> 13 | AO13: =IF(S13>0,RANK(S13,S:S,1),0) -> 1 | AQ13: =IF(AND(AF13<=Summary!B$6,AF13>0),25*(Summary!B$6+1-AF13)/Summary!B$6,0) -> 20.25 | AR13: =IF(AND(AG13<=Summary!C$6,AG13>0),25*(Summary!C$6+1-AG13)/Summary!C$6,0) -> 24.25 | AS13: =IF(AND(AH13<=Summary!D$6,AH13>0),25*(Summary!D$6+1-AH13)/Summary!D$6,0) -> 6.75 | AT13: =IF(AND(AI13<=Summary!E$6,AI13>0),25*(Summary!E$6+1-AI13)/Summary!E$6,0) -> 20.25 | AU13: =IF(AND(AJ13<=Summary!F$6,AJ13>0),25*(Summary!F$6+1-AJ13)/Summary!F$6,0) -> 11.75 | AV13: =IF(AND(AK13<=Summary!G$6,AK13>0),25*(Summary!G$6+1-AK13)/Summary!G$6,0) -> 13.75 | AW13: =IF(AND(AL13<=Summary!H$6,AL13>0),25*(Summary!H$6+1-AL13)/Summary!H$6,0) -> 16.5 | AX13: =IF(AND(AM13<=Summary!I$6,AM13>0),25*(Summary!I$6+1-AM13)/Summary!I$6,0) -> 24.5 | ... AZ13: =IF(AND(AO13<=Summary!K$6,AO13>0),25*(Summary!K$6+1-AO13)/Summary!K$6,0) -> 25 | BB13: =IF(AND(U13>0,U13<=Summary!B$9),12.5 + 12.5 * (U13 - Summary!B$9) / (Summary!B$7 - Summary!B$9),0) -> 21.27809 | BC13: =IF(AND(V13>0,V13<=Summary!C$9),12.5 + 12.5 * (V13 - Summary!C$9) / (Summary!C$7 - Summary!C$9),0) -> 24.352195 | BD13: =IF(AND(W13>0,W13<=Summary!D$9),12.5 + 12.5 * (W13 - Summary!D$9) / (Summary!D$7 - Summary!D$9),0) -> 0 | BE13: =IF(AND(X13>0,X13<=Summary!E$9),12.5 + 12.5 * (X13 - Summary!E$9) / (Summary!E$7 - Summary!E$9),0) -> 18.117978 | BF13: =IF(AND(Y13>0,Y13<=Summary!F$9),12.5 + 12.5 * (Y13 - Summary!F$9) / (Summary!F$7 - Summary!F$9),0) -> 0 | BG13: =IF(AND(Z13>0,Z13<=Summary!G$9),12.5 + 12.5 * (Z13 - Summary!G$9) / (Summary!G$7 - Summary!G$9),0) -> 14.189985 | BH13: =IF(AND(AA13>0,AA13<=Summary!H$9),12.5 + 12.5 * (AA13 - Summary!H$9) / (Summary!H$7 - Summary!H$9),0) -> 0 | BI13: =IF(AND(AB13>0,AB13<=Summary!I$9),12.5 + 12.5 * (AB13 - Summary!I$9) / (Summary!I$7 - Summary!I$9),0) -> 24.347826 | ... BK13: =IF(AND(AD13>0,AD13<=Summary!K$9),12.5 + 12.5 * (AD13 - Summary!K$9) / (Summary!K$7 - Summary!K$9),0) -> 25 | BM13: =IF(AND(U13>0,U13>Summary!B$9),12.5 - 12.5 * (U13 - Summary!B$9) / (Summary!B$3 - Summary!B$9),0) -> 0 | BN13: =IF(AND(V13>0,V13>Summary!C$9),12.5 - 12.5 * (V13 - Summary!C$9) / (Summary!C$3 - Summary!C$9),0) -> 0 | BO13: =IF(AND(W13>0,W13>Summary!D$9),12.5 - 12.5 * (W13 - Summary!D$9) / (Summary!D$3 - Summary!D$9),0) -> 4.3873212 | BP13: =IF(AND(X13>0,X13>Summary!E$9),12.5 - 12.5 * (X13 - Summary!E$9) / (Summary!E$3 - Summary!E$9),0) -> 0 | BQ13: =IF(AND(Y13>0,Y13>Summary!F$9),12.5 - 12.5 * (Y13 - Summary!F$9) / (Summary!F$3 - Summary!F$9),0) -> 0 | BR13: =IF(AND(Z13>0,Z13>Summary!G$9),12.5 - 12.5 * (Z13 - Summary!G$9) / (Summary!G$3 - Summary!G$9),0) -> 0 | BS13: =IF(AND(AA13>0,AA13>Summary!H$9),12.5 - 12.5 * (AA13 - Summary!H$9) / (Summary!H$3 - Summary!H$9),0) -> 5.8973632 | BT13: =IF(AND(AB13>0,AB13>Summary!I$9),12.5 - 12.5 * (AB13 - Summary!I$9) / (Summary!I$3 - Summary!I$9),0) -> 0 | ... BV13: =IF(AND(AD13>0,AD13>Summary!K$9),12.5 - 12.5 * (AD13 - Summary!K$9) / (Summary!K$3 - Summary!K$9),0) -> 0 | BX13: =J13/60 -> 14.133333 | BY13: =K13/60 -> 11.25 | BZ13: =L13/60 -> 52.433333 | CA13: =M13/60 -> 34.033333 | CB13: =N13/60 -> 75.316667 | CC13: =O13/60 -> 43.166667 | CD13: =P13/60 -> 76.133333 | CE13: =Q13/60 -> 37.4 | ... CG13: =S13/60 -> 44.7 | CI13: =AQ13+BB13+BM13 -> 41.52809 | CJ13: =AR13+BC13+BN13 -> 48.602195 | CK13: =AS13+BD13+BO13 -> 11.137321 | CL13: =AT13+BE13+BP13 -> 38.367978 | CM13: =AU13+BF13+BQ13 -> 11.75 | CN13: =AV13+BG13+BR13 -> 27.939985 | CO13: =AW13+BH13+BS13 -> 22.397363 | CP13: =AX13+BI13+BT13 -> 48.847826 | ... CR13: =AZ13+BK13+BV13 -> 50 | CT13: =MIN(CI13:CR13) -> 11.137321 | CU13: =SMALL(CI13:CR13,2) -> 11.75 | CV13: =SUM(CI13:CR13)-CT13-CU13 -> 316.18666 | CW13: =50*MIN(8,COUNTIF(J13:S13,">0")) -> 400 | CX13: =CW13+CV13 -> 716.18666 | CZ13: =G13 -> 669.00102 | DA13: =A13 -> 9
A14: 10 | B14: Nilz | C14: Neil Zussman | D14: United Kingdom | E14: 261.09571 | F14: 8/10/10 | G14: 661.09571 | H14: 25384 | J14: 1094 | K14: 779 | L14: 1375 | M14: 2900 | N14: 2552 | O14: 2001 | P14: 3630 | Q14: 2608 | R14: 3489 | S14: 4956 | U14: =IF(J14<=Summary!B$3,J14,0) -> 1094 | V14: =IF(K14<=Summary!C$3,K14,0) -> 779 | W14: =IF(L14<=Summary!D$3,L14,0) -> 1375 | X14: =IF(M14<=Summary!E$3,M14,0) -> 2900 | Y14: =IF(N14<=Summary!F$3,N14,0) -> 2552 | Z14: =IF(O14<=Summary!G$3,O14,0) -> 2001 | AA14: =IF(P14<=Summary!H$3,P14,0) -> 3630 | AB14: =IF(Q14<=Summary!I$3,Q14,0) -> 2608 | ... AD14: =IF(S14<=Summary!K$3,S14,0) -> 4956 | AF14: =IF(J14>0,RANK(J14,J:J,1),0) -> 43 | AG14: =IF(K14>0,RANK(K14,K:K,1),0) -> 9 | AH14: =IF(L14>0,RANK(L14,L:L,1),0) -> 11 | AI14: =IF(M14>0,RANK(M14,M:M,1),0) -> 52 | AJ14: =IF(N14>0,RANK(N14,N:N,1),0) -> 12 | AK14: =IF(O14>0,RANK(O14,O:O,1),0) -> 23 | AL14: =IF(P14>0,RANK(P14,P:P,1),0) -> 21 | AM14: =IF(Q14>0,RANK(Q14,Q:Q,1),0) -> 8 | AN14: =IF(R14>0,RANK(R14,R:R,1),0) -> 14 | AO14: =IF(S14>0,RANK(S14,S:S,1),0) -> 10 | AQ14: =IF(AND(AF14<=Summary!B$6,AF14>0),25*(Summary!B$6+1-AF14)/Summary!B$6,0) -> 14.5 | AR14: =IF(AND(AG14<=Summary!C$6,AG14>0),25*(Summary!C$6+1-AG14)/Summary!C$6,0) -> 23 | AS14: =IF(AND(AH14<=Summary!D$6,AH14>0),25*(Summary!D$6+1-AH14)/Summary!D$6,0) -> 22.5 | AT14: =IF(AND(AI14<=Summary!E$6,AI14>0),25*(Summary!E$6+1-AI14)/Summary!E$6,0) -> 12.25 | AU14: =IF(AND(AJ14<=Summary!F$6,AJ14>0),25*(Summary!F$6+1-AJ14)/Summary!F$6,0) -> 22.25 | AV14: =IF(AND(AK14<=Summary!G$6,AK14>0),25*(Summary!G$6+1-AK14)/Summary!G$6,0) -> 19.5 | AW14: =IF(AND(AL14<=Summary!H$6,AL14>0),25*(Summary!H$6+1-AL14)/Summary!H$6,0) -> 20 | AX14: =IF(AND(AM14<=Summary!I$6,AM14>0),25*(Summary!I$6+1-AM14)/Summary!I$6,0) -> 23.25 | ... AZ14: =IF(AND(AO14<=Summary!K$6,AO14>0),25*(Summary!K$6+1-AO14)/Summary!K$6,0) -> 22.75 | BB14: =IF(AND(U14>0,U14<=Summary!B$9),12.5 + 12.5 * (U14 - Summary!B$9) / (Summary!B$7 - Summary!B$9),0) -> 18.810193 | BC14: =IF(AND(V14>0,V14<=Summary!C$9),12.5 + 12.5 * (V14 - Summary!C$9) / (Summary!C$7 - Summary!C$9),0) -> 22.977261 | BD14: =IF(AND(W14>0,W14<=Summary!D$9),12.5 + 12.5 * (W14 - Summary!D$9) / (Summary!D$7 - Summary!D$9),0) -> 20.396745 | BE14: =IF(AND(X14>0,X14<=Summary!E$9),12.5 + 12.5 * (X14 - Summary!E$9) / (Summary!E$7 - Summary!E$9),0) -> 0 | BF14: =IF(AND(Y14>0,Y14<=Summary!F$9),12.5 + 12.5 * (Y14 - Summary!F$9) / (Summary!F$7 - Summary!F$9),0) -> 16.759401 | BG14: =IF(AND(Z14>0,Z14<=Summary!G$9),12.5 + 12.5 * (Z14 - Summary!G$9) / (Summary!G$7 - Summary!G$9),0) -> 18.527246 | BH14: =IF(AND(AA14>0,AA14<=Summary!H$9),12.5 + 12.5 * (AA14 - Summary!H$9) / (Summary!H$7 - Summary!H$9),0) -> 12.547556 | BI14: =IF(AND(AB14>0,AB14<=Summary!I$9),12.5 + 12.5 * (AB14 - Summary!I$9) / (Summary!I$7 - Summary!I$9),0) -> 21.304348 | ... BK14: =IF(AND(AD14>0,AD14<=Summary!K$9),12.5 + 12.5 * (AD14 - Summary!K$9) / (Summary!K$7 - Summary!K$9),0) -> 0 | BM14: =IF(AND(U14>0,U14>Summary!B$9),12.5 - 12.5 * (U14 - Summary!B$9) / (Summary!B$3 - Summary!B$9),0) -> 0 | BN14: =IF(AND(V14>0,V14>Summary!C$9),12.5 - 12.5 * (V14 - Summary!C$9) / (Summary!C$3 - Summary!C$9),0) -> 0 | BO14: =IF(AND(W14>0,W14>Summary!D$9),12.5 - 12.5 * (W14 - Summary!D$9) / (Summary!D$3 - Summary!D$9),0) -> 0 | BP14: =IF(AND(X14>0,X14>Summary!E$9),12.5 - 12.5 * (X14 - Summary!E$9) / (Summary!E$3 - Summary!E$9),0) -> 12.360939 | BQ14: =IF(AND(Y14>0,Y14>Summary!F$9),12.5 - 12.5 * (Y14 - Summary!F$9) / (Summary!F$3 - Summary!F$9),0) -> 0 | BR14: =IF(AND(Z14>0,Z14>Summary!G$9),12.5 - 12.5 * (Z14 - Summary!G$9) / (Summary!G$3 - Summary!G$9),0) -> 0 | BS14: =IF(AND(AA14>0,AA14>Summary!H$9),12.5 - 12.5 * (AA14 - Summary!H$9) / (Summary!H$3 - Summary!H$9),0) -> 0 | BT14: =IF(AND(AB14>0,AB14>Summary!I$9),12.5 - 12.5 * (AB14 - Summary!I$9) / (Summary!I$3 - Summary!I$9),0) -> 0 | ... BV14: =IF(AND(AD14>0,AD14>Summary!K$9),12.5 - 12.5 * (AD14 - Summary!K$9) / (Summary!K$3 - Summary!K$9),0) -> 10.127737 | BX14: =J14/60 -> 18.233333 | BY14: =K14/60 -> 12.983333 | BZ14: =L14/60 -> 22.916667 | CA14: =M14/60 -> 48.333333 | CB14: =N14/60 -> 42.533333 | CC14: =O14/60 -> 33.35 | CD14: =P14/60 -> 60.5 | CE14: =Q14/60 -> 43.466667 | ... CG14: =S14/60 -> 82.6 | CI14: =AQ14+BB14+BM14 -> 33.310193 | CJ14: =AR14+BC14+BN14 -> 45.977261 | CK14: =AS14+BD14+BO14 -> 42.896745 | CL14: =AT14+BE14+BP14 -> 24.610939 | CM14: =AU14+BF14+BQ14 -> 39.009401 | CN14: =AV14+BG14+BR14 -> 38.027246 | CO14: =AW14+BH14+BS14 -> 32.547556 | CP14: =AX14+BI14+BT14 -> 44.554348 | ... CR14: =AZ14+BK14+BV14 -> 32.877737 | CT14: =MIN(CI14:CR14) -> 24.610939 | CU14: =SMALL(CI14:CR14,2) -> 32.547556 | CV14: =SUM(CI14:CR14)-CT14-CU14 -> 314.886 | CW14: =50*MIN(8,COUNTIF(J14:S14,">0")) -> 400 | CX14: =CW14+CV14 -> 714.886 | CZ14: =G14 -> 661.09571 | DA14: =A14 -> 10
A15: 11 | B15: martin | C15: Martin Merker | D15: Germany | E15: 257.50835 | F15: 8/10/10 | G15: 657.50835 | H15: 26154 | J15: 1034 | K15: 938 | L15: 1169 | M15: 2281 | N15: 2751 | O15: 1815 | P15: 2893 | Q15: 3463 | R15: 4739 | S15: 5071 | U15: =IF(J15<=Summary!B$3,J15,0) -> 1034 | V15: =IF(K15<=Summary!C$3,K15,0) -> 938 | W15: =IF(L15<=Summary!D$3,L15,0) -> 1169 | X15: =IF(M15<=Summary!E$3,M15,0) -> 2281 | Y15: =IF(N15<=Summary!F$3,N15,0) -> 2751 | Z15: =IF(O15<=Summary!G$3,O15,0) -> 1815 | AA15: =IF(P15<=Summary!H$3,P15,0) -> 2893 | AB15: =IF(Q15<=Summary!I$3,Q15,0) -> 3463 | ... AD15: =IF(S15<=Summary!K$3,S15,0) -> 5071 | AF15: =IF(J15>0,RANK(J15,J:J,1),0) -> 39 | AG15: =IF(K15>0,RANK(K15,K:K,1),0) -> 27 | AH15: =IF(L15>0,RANK(L15,L:L,1),0) -> 4 | AI15: =IF(M15>0,RANK(M15,M:M,1),0) -> 32 | AJ15: =IF(N15>0,RANK(N15,N:N,1),0) -> 20 | AK15: =IF(O15>0,RANK(O15,O:O,1),0) -> 18 | AL15: =IF(P15>0,RANK(P15,P:P,1),0) -> 8 | AM15: =IF(Q15>0,RANK(Q15,Q:Q,1),0) -> 30 | AN15: =IF(R15>0,RANK(R15,R:R,1),0) -> 42 | AO15: =IF(S15>0,RANK(S15,S:S,1),0) -> 13 | AQ15: =IF(AND(AF15<=Summary!B$6,AF15>0),25*(Summary!B$6+1-AF15)/Summary!B$6,0) -> 15.5 | AR15: =IF(AND(AG15<=Summary!C$6,AG15>0),25*(Summary!C$6+1-AG15)/Summary!C$6,0) -> 18.5 | AS15: =IF(AND(AH15<=Summary!D$6,AH15>0),25*(Summary!D$6+1-AH15)/Summary!D$6,0) -> 24.25 | AT15: =IF(AND(AI15<=Summary!E$6,AI15>0),25*(Summary!E$6+1-AI15)/Summary!E$6,0) -> 17.25 | AU15: =IF(AND(AJ15<=Summary!F$6,AJ15>0),25*(Summary!F$6+1-AJ15)/Summary!F$6,0) -> 20.25 | AV15: =IF(AND(AK15<=Summary!G$6,AK15>0),25*(Summary!G$6+1-AK15)/Summary!G$6,0) -> 20.75 | AW15: =IF(AND(AL15<=Summary!H$6,AL15>0),25*(Summary!H$6+1-AL15)/Summary!H$6,0) -> 23.25 | AX15: =IF(AND(AM15<=Summary!I$6,AM15>0),25*(Summary!I$6+1-AM15)/Summary!I$6,0) -> 17.75 | ... AZ15: =IF(AND(AO15<=Summary!K$6,AO15>0),25*(Summary!K$6+1-AO15)/Summary!K$6,0) -> 22 | BB15: =IF(AND(U15>0,U15<=Summary!B$9),12.5 + 12.5 * (U15 - Summary!B$9) / (Summary!B$7 - Summary!B$9),0) -> 19.412119 | BC15: =IF(AND(V15>0,V15<=Summary!C$9),12.5 + 12.5 * (V15 - Summary!C$9) / (Summary!C$7 - Summary!C$9),0) -> 20.875198 | BD15: =IF(AND(W15>0,W15<=Summary!D$9),12.5 + 12.5 * (W15 - Summary!D$9) / (Summary!D$7 - Summary!D$9),0) -> 22.143099 | BE15: =IF(AND(X15>0,X15<=Summary!E$9),12.5 + 12.5 * (X15 - Summary!E$9) / (Summary!E$7 - Summary!E$9),0) -> 16.519529 | BF15: =IF(AND(Y15>0,Y15<=Summary!F$9),12.5 + 12.5 * (Y15 - Summary!F$9) / (Summary!F$7 - Summary!F$9),0) -> 14.850345 | BG15: =IF(AND(Z15>0,Z15<=Summary!G$9),12.5 + 12.5 * (Z15 - Summary!G$9) / (Summary!G$7 - Summary!G$9),0) -> 19.896907 | BH15: =IF(AND(AA15>0,AA15<=Summary!H$9),12.5 + 12.5 * (AA15 - Summary!H$9) / (Summary!H$7 - Summary!H$9),0) -> 17.939713 | BI15: =IF(AND(AB15>0,AB15<=Summary!I$9),12.5 + 12.5 * (AB15 - Summary!I$9) / (Summary!I$7 - Summary!I$9),0) -> 14.155518 | ... BK15: =IF(AND(AD15>0,AD15<=Summary!K$9),12.5 + 12.5 * (AD15 - Summary!K$9) / (Summary!K$7 - Summary!K$9),0) -> 0 | BM15: =IF(AND(U15>0,U15>Summary!B$9),12.5 - 12.5 * (U15 - Summary!B$9) / (Summary!B$3 - Summary!B$9),0) -> 0 | BN15: =IF(AND(V15>0,V15>Summary!C$9),12.5 - 12.5 * (V15 - Summary!C$9) / (Summary!C$3 - Summary!C$9),0) -> 0 | BO15: =IF(AND(W15>0,W15>Summary!D$9),12.5 - 12.5 * (W15 - Summary!D$9) / (Summary!D$3 - Summary!D$9),0) -> 0 | BP15: =IF(AND(X15>0,X15>Summary!E$9),12.5 - 12.5 * (X15 - Summary!E$9) / (Summary!E$3 - Summary!E$9),0) -> 0 | BQ15: =IF(AND(Y15>0,Y15>Summary!F$9),12.5 - 12.5 * (Y15 - Summary!F$9) / (Summary!F$3 - Summary!F$9),0) -> 0 | BR15: =IF(AND(Z15>0,Z15>Summary!G$9),12.5 - 12.5 * (Z15 - Summary!G$9) / (Summary!G$3 - Summary!G$9),0) -> 0 | BS15: =IF(AND(AA15>0,AA15>Summary!H$9),12.5 - 12.5 * (AA15 - Summary!H$9) / (Summary!H$3 - Summary!H$9),0) -> 0 | BT15: =IF(AND(AB15>0,AB15>Summary!I$9),12.5 - 12.5 * (AB15 - Summary!I$9) / (Summary!I$3 - Summary!I$9),0) -> 0 | ... BV15: =IF(AND(AD15>0,AD15>Summary!K$9),12.5 - 12.5 * (AD15 - Summary!K$9) / (Summary!K$3 - Summary!K$9),0) -> 7.504562 | BX15: =J15/60 -> 17.233333 | BY15: =K15/60 -> 15.633333 | BZ15: =L15/60 -> 19.483333 | CA15: =M15/60 -> 38.016667 | CB15: =N15/60 -> 45.85 | CC15: =O15/60 -> 30.25 | CD15: =P15/60 -> 48.216667 | CE15: =Q15/60 -> 57.716667 | ... CG15: =S15/60 -> 84.516667 | CI15: =AQ15+BB15+BM15 -> 34.912119 | CJ15: =AR15+BC15+BN15 -> 39.375198 | CK15: =AS15+BD15+BO15 -> 46.393099 | CL15: =AT15+BE15+BP15 -> 33.769529 | CM15: =AU15+BF15+BQ15 -> 35.100345 | CN15: =AV15+BG15+BR15 -> 40.646907 | CO15: =AW15+BH15+BS15 -> 41.189713 | CP15: =AX15+BI15+BT15 -> 31.905518 | ... CR15: =AZ15+BK15+BV15 -> 29.504562 | CT15: =MIN(CI15:CR15) -> 21.018968 | CU15: =SMALL(CI15:CR15,2) -> 29.504562 | CV15: =SUM(CI15:CR15)-CT15-CU15 -> 303.29243 | CW15: =50*MIN(8,COUNTIF(J15:S15,">0")) -> 400 | CX15: =CW15+CV15 -> 703.29243 | CZ15: =G15 -> 657.50835 | DA15: =A15 -> 11
A16: 12 | B16: takeya | C16: Takeya Saikachi | D16: Japan | E16: 254.44327 | F16: 7/8/10 | G16: 654.44327 | H16: 16503 | J16: 648 | K16: 790 | L16: 2488 | M16: 1361 | N16: 2560 | O16: 1637 | Q16: 3171 | S16: 3848 | U16: =IF(J16<=Summary!B$3,J16,0) -> 648 | V16: =IF(K16<=Summary!C$3,K16,0) -> 790 | W16: =IF(L16<=Summary!D$3,L16,0) -> 2488 | X16: =IF(M16<=Summary!E$3,M16,0) -> 1361 | Y16: =IF(N16<=Summary!F$3,N16,0) -> 2560 | Z16: =IF(O16<=Summary!G$3,O16,0) -> 1637 | AA16: =IF(P16<=Summary!H$3,P16,0) -> 0 | AB16: =IF(Q16<=Summary!I$3,Q16,0) -> 3171 | ... AD16: =IF(S16<=Summary!K$3,S16,0) -> 3848 | AF16: =IF(J16>0,RANK(J16,J:J,1),0) -> 5 | AG16: =IF(K16>0,RANK(K16,K:K,1),0) -> 11 | AH16: =IF(L16>0,RANK(L16,L:L,1),0) -> 49 | AI16: =IF(M16>0,RANK(M16,M:M,1),0) -> 3 | AJ16: =IF(N16>0,RANK(N16,N:N,1),0) -> 13 | AK16: =IF(O16>0,RANK(O16,O:O,1),0) -> 11 | AL16: =IF(P16>0,RANK(P16,P:P,1),0) -> 0 | AM16: =IF(Q16>0,RANK(Q16,Q:Q,1),0) -> 22 | AN16: =IF(R16>0,RANK(R16,R:R,1),0) -> 0 | AO16: =IF(S16>0,RANK(S16,S:S,1),0) -> 4 | AQ16: =IF(AND(AF16<=Summary!B$6,AF16>0),25*(Summary!B$6+1-AF16)/Summary!B$6,0) -> 24 | AR16: =IF(AND(AG16<=Summary!C$6,AG16>0),25*(Summary!C$6+1-AG16)/Summary!C$6,0) -> 22.5 | AS16: =IF(AND(AH16<=Summary!D$6,AH16>0),25*(Summary!D$6+1-AH16)/Summary!D$6,0) -> 13 | AT16: =IF(AND(AI16<=Summary!E$6,AI16>0),25*(Summary!E$6+1-AI16)/Summary!E$6,0) -> 24.5 | AU16: =IF(AND(AJ16<=Summary!F$6,AJ16>0),25*(Summary!F$6+1-AJ16)/Summary!F$6,0) -> 22 | AV16: =IF(AND(AK16<=Summary!G$6,AK16>0),25*(Summary!G$6+1-AK16)/Summary!G$6,0) -> 22.5 | AW16: =IF(AND(AL16<=Summary!H$6,AL16>0),25*(Summary!H$6+1-AL16)/Summary!H$6,0) -> 0 | AX16: =IF(AND(AM16<=Summary!I$6,AM16>0),25*(Summary!I$6+1-AM16)/Summary!I$6,0) -> 19.75 | ... AZ16: =IF(AND(AO16<=Summary!K$6,AO16>0),25*(Summary!K$6+1-AO16)/Summary!K$6,0) -> 24.25 | BB16: =IF(AND(U16>0,U16<=Summary!B$9),12.5 + 12.5 * (U16 - Summary!B$9) / (Summary!B$7 - Summary!B$9),0) -> 23.28451 | BC16: =IF(AND(V16>0,V16<=Summary!C$9),12.5 + 12.5 * (V16 - Summary!C$9) / (Summary!C$7 - Summary!C$9),0) -> 22.831835 | BD16: =IF(AND(W16>0,W16<=Summary!D$9),12.5 + 12.5 * (W16 - Summary!D$9) / (Summary!D$7 - Summary!D$9),0) -> 0 | BE16: =IF(AND(X16>0,X16<=Summary!E$9),12.5 + 12.5 * (X16 - Summary!E$9) / (Summary!E$7 - Summary!E$9),0) -> 22.672552 | BF16: =IF(AND(Y16>0,Y16<=Summary!F$9),12.5 + 12.5 * (Y16 - Summary!F$9) / (Summary!F$7 - Summary!F$9),0) -> 16.682655 | BG16: =IF(AND(Z16>0,Z16<=Summary!G$9),12.5 + 12.5 * (Z16 - Summary!G$9) / (Summary!G$7 - Summary!G$9),0) -> 21.207658 | BH16: =IF(AND(AA16>0,AA16<=Summary!H$9),12.5 + 12.5 * (AA16 - Summary!H$9) / (Summary!H$7 - Summary!H$9),0) -> 0 | BI16: =IF(AND(AB16>0,AB16<=Summary!I$9),12.5 + 12.5 * (AB16 - Summary!I$9) / (Summary!I$7 - Summary!I$9),0) -> 16.59699 | ... BK16: =IF(AND(AD16>0,AD16<=Summary!K$9),12.5 + 12.5 * (AD16 - Summary!K$9) / (Summary!K$7 - Summary!K$9),0) -> 18.28341 | BM16: =IF(AND(U16>0,U16>Summary!B$9),12.5 - 12.5 * (U16 - Summary!B$9) / (Summary!B$3 - Summary!B$9),0) -> 0 | BN16: =IF(AND(V16>0,V16>Summary!C$9),12.5 - 12.5 * (V16 - Summary!C$9) / (Summary!C$3 - Summary!C$9),0) -> 0 | BO16: =IF(AND(W16>0,W16>Summary!D$9),12.5 - 12.5 * (W16 - Summary!D$9) / (Summary!D$3 - Summary!D$9),0) -> 10.746038 | BP16: =IF(AND(X16>0,X16>Summary!E$9),12.5 - 12.5 * (X16 - Summary!E$9) / (Summary!E$3 - Summary!E$9),0) -> 0 | BQ16: =IF(AND(Y16>0,Y16>Summary!F$9),12.5 - 12.5 * (Y16 - Summary!F$9) / (Summary!F$3 - Summary!F$9),0) -> 0 | BR16: =IF(AND(Z16>0,Z16>Summary!G$9),12.5 - 12.5 * (Z16 - Summary!G$9) / (Summary!G$3 - Summary!G$9),0) -> 0 | BS16: =IF(AND(AA16>0,AA16>Summary!H$9),12.5 - 12.5 * (AA16 - Summary!H$9) / (Summary!H$3 - Summary!H$9),0) -> 0 | BT16: =IF(AND(AB16>0,AB16>Summary!I$9),12.5 - 12.5 * (AB16 - Summary!I$9) / (Summary!I$3 - Summary!I$9),0) -> 0 | ... BV16: =IF(AND(AD16>0,AD16>Summary!K$9),12.5 - 12.5 * (AD16 - Summary!K$9) / (Summary!K$3 - Summary!K$9),0) -> 0 | BX16: =J16/60 -> 10.8 | BY16: =K16/60 -> 13.166667 | BZ16: =L16/60 -> 41.466667 | CA16: =M16/60 -> 22.683333 | CB16: =N16/60 -> 42.666667 | CC16: =O16/60 -> 27.283333 | CD16: =P16/60 -> 0 | CE16: =Q16/60 -> 52.85 | ... CG16: =S16/60 -> 64.133333 | CI16: =AQ16+BB16+BM16 -> 47.28451 | CJ16: =AR16+BC16+BN16 -> 45.331835 | CK16: =AS16+BD16+BO16 -> 23.746038 | CL16: =AT16+BE16+BP16 -> 47.172552 | CM16: =AU16+BF16+BQ16 -> 38.682655 | CN16: =AV16+BG16+BR16 -> 43.707658 | CO16: =AW16+BH16+BS16 -> 0 | CP16: =AX16+BI16+BT16 -> 36.34699 | ... CR16: =AZ16+BK16+BV16 -> 42.53341 | CT16: =MIN(CI16:CR16) -> 0 | CU16: =SMALL(CI16:CR16,2) -> 0 | CV16: =SUM(CI16:CR16)-CT16-CU16 -> 324.80565 | CW16: =50*MIN(8,COUNTIF(J16:S16,">0")) -> 400 | CX16: =CW16+CV16 -> 724.80565 | CZ16: =G16 -> 654.44327 | DA16: =A16 -> 12
A17: 13 | B17: Semax | C17: Sebastian Matschke | D17: Germany | E17: 260.51346 | F17: 9/10/10 | G17: 653.4411 | H17: 25003 | J17: 1049 | K17: 961 | L17: 1707 | M17: 1756 | N17: 3300 | O17: 1787 | P17: 3465 | Q17: 2615 | R17: 3511 | S17: 4852 | U17: =IF(J17<=Summary!B$3,J17,0) -> 1049 | V17: =IF(K17<=Summary!C$3,K17,0) -> 961 | W17: =IF(L17<=Summary!D$3,L17,0) -> 1707 | X17: =IF(M17<=Summary!E$3,M17,0) -> 1756 | Y17: =IF(N17<=Summary!F$3,N17,0) -> 3300 | Z17: =IF(O17<=Summary!G$3,O17,0) -> 1787 | AA17: =IF(P17<=Summary!H$3,P17,0) -> 3465 | AB17: =IF(Q17<=Summary!I$3,Q17,0) -> 2615 | ... AD17: =IF(S17<=Summary!K$3,S17,0) -> 4852 | AF17: =IF(J17>0,RANK(J17,J:J,1),0) -> 40 | AG17: =IF(K17>0,RANK(K17,K:K,1),0) -> 28 | AH17: =IF(L17>0,RANK(L17,L:L,1),0) -> 25 | AI17: =IF(M17>0,RANK(M17,M:M,1),0) -> 8 | AJ17: =IF(N17>0,RANK(N17,N:N,1),0) -> 33 | AK17: =IF(O17>0,RANK(O17,O:O,1),0) -> 16 | AL17: =IF(P17>0,RANK(P17,P:P,1),0) -> 17 | AM17: =IF(Q17>0,RANK(Q17,Q:Q,1),0) -> 9 | AN17: =IF(R17>0,RANK(R17,R:R,1),0) -> 15 | AO17: =IF(S17>0,RANK(S17,S:S,1),0) -> 9 | AQ17: =IF(AND(AF17<=Summary!B$6,AF17>0),25*(Summary!B$6+1-AF17)/Summary!B$6,0) -> 15.25 | AR17: =IF(AND(AG17<=Summary!C$6,AG17>0),25*(Summary!C$6+1-AG17)/Summary!C$6,0) -> 18.25 | AS17: =IF(AND(AH17<=Summary!D$6,AH17>0),25*(Summary!D$6+1-AH17)/Summary!D$6,0) -> 19 | AT17: =IF(AND(AI17<=Summary!E$6,AI17>0),25*(Summary!E$6+1-AI17)/Summary!E$6,0) -> 23.25 | AU17: =IF(AND(AJ17<=Summary!F$6,AJ17>0),25*(Summary!F$6+1-AJ17)/Summary!F$6,0) -> 17 | AV17: =IF(AND(AK17<=Summary!G$6,AK17>0),25*(Summary!G$6+1-AK17)/Summary!G$6,0) -> 21.25 | AW17: =IF(AND(AL17<=Summary!H$6,AL17>0),25*(Summary!H$6+1-AL17)/Summary!H$6,0) -> 21 | AX17: =IF(AND(AM17<=Summary!I$6,AM17>0),25*(Summary!I$6+1-AM17)/Summary!I$6,0) -> 23 | ... AZ17: =IF(AND(AO17<=Summary!K$6,AO17>0),25*(Summary!K$6+1-AO17)/Summary!K$6,0) -> 23 | BB17: =IF(AND(U17>0,U17<=Summary!B$9),12.5 + 12.5 * (U17 - Summary!B$9) / (Summary!B$7 - Summary!B$9),0) -> 19.261637 | BC17: =IF(AND(V17>0,V17<=Summary!C$9),12.5 + 12.5 * (V17 - Summary!C$9) / (Summary!C$7 - Summary!C$9),0) -> 20.571126 | BD17: =IF(AND(W17>0,W17<=Summary!D$9),12.5 + 12.5 * (W17 - Summary!D$9) / (Summary!D$7 - Summary!D$9),0) -> 17.582231 | BE17: =IF(AND(X17>0,X17<=Summary!E$9),12.5 + 12.5 * (X17 - Summary!E$9) / (Summary!E$7 - Summary!E$9),0) -> 20.030765 | BF17: =IF(AND(Y17>0,Y17<=Summary!F$9),12.5 + 12.5 * (Y17 - Summary!F$9) / (Summary!F$7 - Summary!F$9),0) -> 0 | BG17: =IF(AND(Z17>0,Z17<=Summary!G$9),12.5 + 12.5 * (Z17 - Summary!G$9) / (Summary!G$7 - Summary!G$9),0) -> 20.103093 | BH17: =IF(AND(AA17>0,AA17<=Summary!H$9),12.5 + 12.5 * (AA17 - Summary!H$9) / (Summary!H$7 - Summary!H$9),0) -> 13.754756 | BI17: =IF(AND(AB17>0,AB17<=Summary!I$9),12.5 + 12.5 * (AB17 - Summary!I$9) / (Summary!I$7 - Summary!I$9),0) -> 21.245819 | ... BK17: =IF(AND(AD17>0,AD17<=Summary!K$9),12.5 + 12.5 * (AD17 - Summary!K$9) / (Summary!K$7 - Summary!K$9),0) -> 12.5 | BM17: =IF(AND(U17>0,U17>Summary!B$9),12.5 - 12.5 * (U17 - Summary!B$9) / (Summary!B$3 - Summary!B$9),0) -> 0 | BN17: =IF(AND(V17>0,V17>Summary!C$9),12.5 - 12.5 * (V17 - Summary!C$9) / (Summary!C$3 - Summary!C$9),0) -> 0 | BO17: =IF(AND(W17>0,W17>Summary!D$9),12.5 - 12.5 * (W17 - Summary!D$9) / (Summary!D$3 - Summary!D$9),0) -> 0 | BP17: =IF(AND(X17>0,X17>Summary!E$9),12.5 - 12.5 * (X17 - Summary!E$9) / (Summary!E$3 - Summary!E$9),0) -> 0 | BQ17: =IF(AND(Y17>0,Y17>Summary!F$9),12.5 - 12.5 * (Y17 - Summary!F$9) / (Summary!F$3 - Summary!F$9),0) -> 9.9734043 | BR17: =IF(AND(Z17>0,Z17>Summary!G$9),12.5 - 12.5 * (Z17 - Summary!G$9) / (Summary!G$3 - Summary!G$9),0) -> 0 | BS17: =IF(AND(AA17>0,AA17>Summary!H$9),12.5 - 12.5 * (AA17 - Summary!H$9) / (Summary!H$3 - Summary!H$9),0) -> 0 | BT17: =IF(AND(AB17>0,AB17>Summary!I$9),12.5 - 12.5 * (AB17 - Summary!I$9) / (Summary!I$3 - Summary!I$9),0) -> 0 | ... BV17: =IF(AND(AD17>0,AD17>Summary!K$9),12.5 - 12.5 * (AD17 - Summary!K$9) / (Summary!K$3 - Summary!K$9),0) -> 0 | BX17: =J17/60 -> 17.483333 | BY17: =K17/60 -> 16.016667 | BZ17: =L17/60 -> 28.45 | CA17: =M17/60 -> 29.266667 | CB17: =N17/60 -> 55 | CC17: =O17/60 -> 29.783333 | CD17: =P17/60 -> 57.75 | CE17: =Q17/60 -> 43.583333 | ... CG17: =S17/60 -> 80.866667 | CI17: =AQ17+BB17+BM17 -> 34.511637 | CJ17: =AR17+BC17+BN17 -> 38.821126 | CK17: =AS17+BD17+BO17 -> 36.582231 | CL17: =AT17+BE17+BP17 -> 43.280765 | CM17: =AU17+BF17+BQ17 -> 26.973404 | CN17: =AV17+BG17+BR17 -> 41.353093 | CO17: =AW17+BH17+BS17 -> 34.754756 | CP17: =AX17+BI17+BT17 -> 44.245819 | ... CR17: =AZ17+BK17+BV17 -> 35.5 | CT17: =MIN(CI17:CR17) -> 26.973404 | CU17: =SMALL(CI17:CR17,2) -> 34.511637 | CV17: =SUM(CI17:CR17)-CT17-CU17 -> 312.37309 | CW17: =50*MIN(8,COUNTIF(J17:S17,">0")) -> 400 | CX17: =CW17+CV17 -> 712.37309 | CZ17: =G17 -> 653.4411 | DA17: =A17 -> 13
A18: 14 | B18: nyuta | C18: NAGATA Yuta | D18: Japan | E18: 248.98767 | F18: 8/10/10 | G18: 648.98767 | H18: 26926 | J18: 736 | K18: 997 | L18: 1078 | M18: 2337 | N18: 2618 | O18: 1956 | P18: 3293 | Q18: 4525 | R18: 3537 | S18: 5849 | U18: =IF(J18<=Summary!B$3,J18,0) -> 736 | V18: =IF(K18<=Summary!C$3,K18,0) -> 997 | W18: =IF(L18<=Summary!D$3,L18,0) -> 1078 | X18: =IF(M18<=Summary!E$3,M18,0) -> 2337 | Y18: =IF(N18<=Summary!F$3,N18,0) -> 2618 | Z18: =IF(O18<=Summary!G$3,O18,0) -> 1956 | AA18: =IF(P18<=Summary!H$3,P18,0) -> 3293 | AB18: =IF(Q18<=Summary!I$3,Q18,0) -> 4525 | ... AD18: =IF(S18<=Summary!K$3,S18,0) -> 0 | AF18: =IF(J18>0,RANK(J18,J:J,1),0) -> 10 | AG18: =IF(K18>0,RANK(K18,K:K,1),0) -> 33 | AH18: =IF(L18>0,RANK(L18,L:L,1),0) -> 2 | AI18: =IF(M18>0,RANK(M18,M:M,1),0) -> 35 | AJ18: =IF(N18>0,RANK(N18,N:N,1),0) -> 16 | AK18: =IF(O18>0,RANK(O18,O:O,1),0) -> 22 | AL18: =IF(P18>0,RANK(P18,P:P,1),0) -> 15 | AM18: =IF(Q18>0,RANK(Q18,Q:Q,1),0) -> 50 | AN18: =IF(R18>0,RANK(R18,R:R,1),0) -> 16 | AO18: =IF(S18>0,RANK(S18,S:S,1),0) -> 20 | AQ18: =IF(AND(AF18<=Summary!B$6,AF18>0),25*(Summary!B$6+1-AF18)/Summary!B$6,0) -> 22.75 | AR18: =IF(AND(AG18<=Summary!C$6,AG18>0),25*(Summary!C$6+1-AG18)/Summary!C$6,0) -> 17 | AS18: =IF(AND(AH18<=Summary!D$6,AH18>0),25*(Summary!D$6+1-AH18)/Summary!D$6,0) -> 24.75 | AT18: =IF(AND(AI18<=Summary!E$6,AI18>0),25*(Summary!E$6+1-AI18)/Summary!E$6,0) -> 16.5 | AU18: =IF(AND(AJ18<=Summary!F$6,AJ18>0),25*(Summary!F$6+1-AJ18)/Summary!F$6,0) -> 21.25 | AV18: =IF(AND(AK18<=Summary!G$6,AK18>0),25*(Summary!G$6+1-AK18)/Summary!G$6,0) -> 19.75 | AW18: =IF(AND(AL18<=Summary!H$6,AL18>0),25*(Summary!H$6+1-AL18)/Summary!H$6,0) -> 21.5 | AX18: =IF(AND(AM18<=Summary!I$6,AM18>0),25*(Summary!I$6+1-AM18)/Summary!I$6,0) -> 12.75 | ... AZ18: =IF(AND(AO18<=Summary!K$6,AO18>0),25*(Summary!K$6+1-AO18)/Summary!K$6,0) -> 20.25 | BB18: =IF(AND(U18>0,U18<=Summary!B$9),12.5 + 12.5 * (U18 - Summary!B$9) / (Summary!B$7 - Summary!B$9),0) -> 22.401685 | BC18: =IF(AND(V18>0,V18<=Summary!C$9),12.5 + 12.5 * (V18 - Summary!C$9) / (Summary!C$7 - Summary!C$9),0) -> 20.095188 | BD18: =IF(AND(W18>0,W18<=Summary!D$9),12.5 + 12.5 * (W18 - Summary!D$9) / (Summary!D$7 - Summary!D$9),0) -> 22.914547 | BE18: =IF(AND(X18>0,X18<=Summary!E$9),12.5 + 12.5 * (X18 - Summary!E$9) / (Summary!E$7 - Summary!E$9),0) -> 16.144997 | BF18: =IF(AND(Y18>0,Y18<=Summary!F$9),12.5 + 12.5 * (Y18 - Summary!F$9) / (Summary!F$7 - Summary!F$9),0) -> 16.126247 | BG18: =IF(AND(Z18>0,Z18<=Summary!G$9),12.5 + 12.5 * (Z18 - Summary!G$9) / (Summary!G$7 - Summary!G$9),0) -> 18.858616 | BH18: =IF(AND(AA18>0,AA18<=Summary!H$9),12.5 + 12.5 * (AA18 - Summary!H$9) / (Summary!H$7 - Summary!H$9),0) -> 15.013169 | BI18: =IF(AND(AB18>0,AB18<=Summary!I$9),12.5 + 12.5 * (AB18 - Summary!I$9) / (Summary!I$7 - Summary!I$9),0) -> 0 | ... BK18: =IF(AND(AD18>0,AD18<=Summary!K$9),12.5 + 12.5 * (AD18 - Summary!K$9) / (Summary!K$7 - Summary!K$9),0) -> 0 | BM18: =IF(AND(U18>0,U18>Summary!B$9),12.5 - 12.5 * (U18 - Summary!B$9) / (Summary!B$3 - Summary!B$9),0) -> 0 | BN18: =IF(AND(V18>0,V18>Summary!C$9),12.5 - 12.5 * (V18 - Summary!C$9) / (Summary!C$3 - Summary!C$9),0) -> 0 | BO18: =IF(AND(W18>0,W18>Summary!D$9),12.5 - 12.5 * (W18 - Summary!D$9) / (Summary!D$3 - Summary!D$9),0) -> 0 | BP18: =IF(AND(X18>0,X18>Summary!E$9),12.5 - 12.5 * (X18 - Summary!E$9) / (Summary!E$3 - Summary!E$9),0) -> 0 | BQ18: =IF(AND(Y18>0,Y18>Summary!F$9),12.5 - 12.5 * (Y18 - Summary!F$9) / (Summary!F$3 - Summary!F$9),0) -> 0 | BR18: =IF(AND(Z18>0,Z18>Summary!G$9),12.5 - 12.5 * (Z18 - Summary!G$9) / (Summary!G$3 - Summary!G$9),0) -> 0 | BS18: =IF(AND(AA18>0,AA18>Summary!H$9),12.5 - 12.5 * (AA18 - Summary!H$9) / (Summary!H$3 - Summary!H$9),0) -> 0 | BT18: =IF(AND(AB18>0,AB18>Summary!I$9),12.5 - 12.5 * (AB18 - Summary!I$9) / (Summary!I$3 - Summary!I$9),0) -> 6.2895342 | ... BV18: =IF(AND(AD18>0,AD18>Summary!K$9),12.5 - 12.5 * (AD18 - Summary!K$9) / (Summary!K$3 - Summary!K$9),0) -> 0 | BX18: =J18/60 -> 12.266667 | BY18: =K18/60 -> 16.616667 | BZ18: =L18/60 -> 17.966667 | CA18: =M18/60 -> 38.95 | CB18: =N18/60 -> 43.633333 | CC18: =O18/60 -> 32.6 | CD18: =P18/60 -> 54.883333 | CE18: =Q18/60 -> 75.416667 | ... CG18: =S18/60 -> 97.483333 | CI18: =AQ18+BB18+BM18 -> 45.151685 | CJ18: =AR18+BC18+BN18 -> 37.095188 | CK18: =AS18+BD18+BO18 -> 47.664547 | CL18: =AT18+BE18+BP18 -> 32.644997 | CM18: =AU18+BF18+BQ18 -> 37.376247 | CN18: =AV18+BG18+BR18 -> 38.608616 | CO18: =AW18+BH18+BS18 -> 36.513169 | CP18: =AX18+BI18+BT18 -> 19.039534 | ... CR18: =AZ18+BK18+BV18 -> 20.25 | CT18: =MIN(CI18:CR18) -> 19.039534 | CU18: =SMALL(CI18:CR18,2) -> 20.25 | CV18: =SUM(CI18:CR18)-CT18-CU18 -> 312.46512 | CW18: =50*MIN(8,COUNTIF(J18:S18,">0")) -> 400 | CX18: =CW18+CV18 -> 712.46512 | CZ18: =G18 -> 648.98767 | DA18: =A18 -> 14
A19: 15 | B19: tomek_s | C19: Tomasz Strózak | D19: Poland | E19: 244.96543 | F19: 7/8/10 | G19: 644.96543 | H19: 17638 | J19: 838 | K19: 668 | L19: 1703 | M19: 1529 | N19: 3145 | O19: 1776 | Q19: 3171 | R19: 4808 | U19: =IF(J19<=Summary!B$3,J19,0) -> 838 | V19: =IF(K19<=Summary!C$3,K19,0) -> 668 | W19: =IF(L19<=Summary!D$3,L19,0) -> 1703 | X19: =IF(M19<=Summary!E$3,M19,0) -> 1529 | Y19: =IF(N19<=Summary!F$3,N19,0) -> 3145 | Z19: =IF(O19<=Summary!G$3,O19,0) -> 1776 | AA19: =IF(P19<=Summary!H$3,P19,0) -> 0 | AB19: =IF(Q19<=Summary!I$3,Q19,0) -> 3171 | ... AD19: =IF(S19<=Summary!K$3,S19,0) -> 0 | AF19: =IF(J19>0,RANK(J19,J:J,1),0) -> 18 | AG19: =IF(K19>0,RANK(K19,K:K,1),0) -> 3 | AH19: =IF(L19>0,RANK(L19,L:L,1),0) -> 24 | AI19: =IF(M19>0,RANK(M19,M:M,1),0) -> 5 | AJ19: =IF(N19>0,RANK(N19,N:N,1),0) -> 30 | AK19: =IF(O19>0,RANK(O19,O:O,1),0) -> 15 | AL19: =IF(P19>0,RANK(P19,P:P,1),0) -> 0 | AM19: =IF(Q19>0,RANK(Q19,Q:Q,1),0) -> 22 | AN19: =IF(R19>0,RANK(R19,R:R,1),0) -> 44 | AO19: =IF(S19>0,RANK(S19,S:S,1),0) -> 0 | AQ19: =IF(AND(AF19<=Summary!B$6,AF19>0),25*(Summary!B$6+1-AF19)/Summary!B$6,0) -> 20.75 | AR19: =IF(AND(AG19<=Summary!C$6,AG19>0),25*(Summary!C$6+1-AG19)/Summary!C$6,0) -> 24.5 | AS19: =IF(AND(AH19<=Summary!D$6,AH19>0),25*(Summary!D$6+1-AH19)/Summary!D$6,0) -> 19.25 | AT19: =IF(AND(AI19<=Summary!E$6,AI19>0),25*(Summary!E$6+1-AI19)/Summary!E$6,0) -> 24 | AU19: =IF(AND(AJ19<=Summary!F$6,AJ19>0),25*(Summary!F$6+1-AJ19)/Summary!F$6,0) -> 17.75 | AV19: =IF(AND(AK19<=Summary!G$6,AK19>0),25*(Summary!G$6+1-AK19)/Summary!G$6,0) -> 21.5 | AW19: =IF(AND(AL19<=Summary!H$6,AL19>0),25*(Summary!H$6+1-AL19)/Summary!H$6,0) -> 0 | AX19: =IF(AND(AM19<=Summary!I$6,AM19>0),25*(Summary!I$6+1-AM19)/Summary!I$6,0) -> 19.75 | ... AZ19: =IF(AND(AO19<=Summary!K$6,AO19>0),25*(Summary!K$6+1-AO19)/Summary!K$6,0) -> 0 | BB19: =IF(AND(U19>0,U19<=Summary!B$9),12.5 + 12.5 * (U19 - Summary!B$9) / (Summary!B$7 - Summary!B$9),0) -> 21.378411 | BC19: =IF(AND(V19>0,V19<=Summary!C$9),12.5 + 12.5 * (V19 - Summary!C$9) / (Summary!C$7 - Summary!C$9),0) -> 24.444738 | BD19: =IF(AND(W19>0,W19<=Summary!D$9),12.5 + 12.5 * (W19 - Summary!D$9) / (Summary!D$7 - Summary!D$9),0) -> 17.616141 | BE19: =IF(AND(X19>0,X19<=Summary!E$9),12.5 + 12.5 * (X19 - Summary!E$9) / (Summary!E$7 - Summary!E$9),0) -> 21.548957 | BF19: =IF(AND(Y19>0,Y19<=Summary!F$9),12.5 + 12.5 * (Y19 - Summary!F$9) / (Summary!F$7 - Summary!F$9),0) -> 0 | BG19: =IF(AND(Z19>0,Z19<=Summary!G$9),12.5 + 12.5 * (Z19 - Summary!G$9) / (Summary!G$7 - Summary!G$9),0) -> 20.184094 | BH19: =IF(AND(AA19>0,AA19<=Summary!H$9),12.5 + 12.5 * (AA19 - Summary!H$9) / (Summary!H$7 - Summary!H$9),0) -> 0 | BI19: =IF(AND(AB19>0,AB19<=Summary!I$9),12.5 + 12.5 * (AB19 - Summary!I$9) / (Summary!I$7 - Summary!I$9),0) -> 16.59699 | ... BK19: =IF(AND(AD19>0,AD19<=Summary!K$9),12.5 + 12.5 * (AD19 - Summary!K$9) / (Summary!K$7 - Summary!K$9),0) -> 0 | BM19: =IF(AND(U19>0,U19>Summary!B$9),12.5 - 12.5 * (U19 - Summary!B$9) / (Summary!B$3 - Summary!B$9),0) -> 0 | BN19: =IF(AND(V19>0,V19>Summary!C$9),12.5 - 12.5 * (V19 - Summary!C$9) / (Summary!C$3 - Summary!C$9),0) -> 0 | BO19: =IF(AND(W19>0,W19>Summary!D$9),12.5 - 12.5 * (W19 - Summary!D$9) / (Summary!D$3 - Summary!D$9),0) -> 0 | BP19: =IF(AND(X19>0,X19>Summary!E$9),12.5 - 12.5 * (X19 - Summary!E$9) / (Summary!E$3 - Summary!E$9),0) -> 0 | BQ19: =IF(AND(Y19>0,Y19>Summary!F$9),12.5 - 12.5 * (Y19 - Summary!F$9) / (Summary!F$3 - Summary!F$9),0) -> 11.261636 | BR19: =IF(AND(Z19>0,Z19>Summary!G$9),12.5 - 12.5 * (Z19 - Summary!G$9) / (Summary!G$3 - Summary!G$9),0) -> 0 | BS19: =IF(AND(AA19>0,AA19>Summary!H$9),12.5 - 12.5 * (AA19 - Summary!H$9) / (Summary!H$3 - Summary!H$9),0) -> 0 | BT19: =IF(AND(AB19>0,AB19>Summary!I$9),12.5 - 12.5 * (AB19 - Summary!I$9) / (Summary!I$3 - Summary!I$9),0) -> 0 | ... BV19: =IF(AND(AD19>0,AD19>Summary!K$9),12.5 - 12.5 * (AD19 - Summary!K$9) / (Summary!K$3 - Summary!K$9),0) -> 0 | BX19: =J19/60 -> 13.966667 | BY19: =K19/60 -> 11.133333 | BZ19: =L19/60 -> 28.383333 | CA19: =M19/60 -> 25.483333 | CB19: =N19/60 -> 52.416667 | CC19: =O19/60 -> 29.6 | CD19: =P19/60 -> 0 | CE19: =Q19/60 -> 52.85 | ... CG19: =S19/60 -> 0 | CI19: =AQ19+BB19+BM19 -> 42.128411 | CJ19: =AR19+BC19+BN19 -> 48.944738 | CK19: =AS19+BD19+BO19 -> 36.866141 | CL19: =AT19+BE19+BP19 -> 45.548957 | CM19: =AU19+BF19+BQ19 -> 29.011636 | CN19: =AV19+BG19+BR19 -> 41.684094 | CO19: =AW19+BH19+BS19 -> 0 | CP19: =AX19+BI19+BT19 -> 36.34699 | ... CR19: =AZ19+BK19+BV19 -> 0 | CT19: =MIN(CI19:CR19) -> 0 | CU19: =SMALL(CI19:CR19,2) -> 0 | CV19: =SUM(CI19:CR19)-CT19-CU19 -> 300.39553 | CW19: =50*MIN(8,COUNTIF(J19:S19,">0")) -> 400 | CX19: =CW19+CV19 -> 700.39553 | CZ19: =G19 -> 644.96543 | DA19: =A19 -> 15
A20: 16 | B20: nyoroppyi | C20: Yuki Kawabe | D20: Japan | E20: 231.72777 | F20: 6/10/10 | G20: 631.72777 | H20: 29460 | J20: 728 | K20: 626 | L20: 1699 | M20: 3752 | N20: 3827 | O20: 1860 | P20: 4226 | Q20: 2628 | R20: 3226 | S20: 6888 | U20: =IF(J20<=Summary!B$3,J20,0) -> 728 | V20: =IF(K20<=Summary!C$3,K20,0) -> 626 | W20: =IF(L20<=Summary!D$3,L20,0) -> 1699 | X20: =IF(M20<=Summary!E$3,M20,0) -> 3752 | Y20: =IF(N20<=Summary!F$3,N20,0) -> 3827 | Z20: =IF(O20<=Summary!G$3,O20,0) -> 1860 | AA20: =IF(P20<=Summary!H$3,P20,0) -> 4226 | AB20: =IF(Q20<=Summary!I$3,Q20,0) -> 2628 | ... AD20: =IF(S20<=Summary!K$3,S20,0) -> 0 | AF20: =IF(J20>0,RANK(J20,J:J,1),0) -> 9 | AG20: =IF(K20>0,RANK(K20,K:K,1),0) -> 1 | AH20: =IF(L20>0,RANK(L20,L:L,1),0) -> 23 | AI20: =IF(M20>0,RANK(M20,M:M,1),0) -> 80 | AJ20: =IF(N20>0,RANK(N20,N:N,1),0) -> 46 | AK20: =IF(O20>0,RANK(O20,O:O,1),0) -> 20 | AL20: =IF(P20>0,RANK(P20,P:P,1),0) -> 26 | AM20: =IF(Q20>0,RANK(Q20,Q:Q,1),0) -> 10 | AN20: =IF(R20>0,RANK(R20,R:R,1),0) -> 10 | AO20: =IF(S20>0,RANK(S20,S:S,1),0) -> 27 | AQ20: =IF(AND(AF20<=Summary!B$6,AF20>0),25*(Summary!B$6+1-AF20)/Summary!B$6,0) -> 23 | AR20: =IF(AND(AG20<=Summary!C$6,AG20>0),25*(Summary!C$6+1-AG20)/Summary!C$6,0) -> 25 | AS20: =IF(AND(AH20<=Summary!D$6,AH20>0),25*(Summary!D$6+1-AH20)/Summary!D$6,0) -> 19.5 | AT20: =IF(AND(AI20<=Summary!E$6,AI20>0),25*(Summary!E$6+1-AI20)/Summary!E$6,0) -> 5.25 | AU20: =IF(AND(AJ20<=Summary!F$6,AJ20>0),25*(Summary!F$6+1-AJ20)/Summary!F$6,0) -> 13.75 | AV20: =IF(AND(AK20<=Summary!G$6,AK20>0),25*(Summary!G$6+1-AK20)/Summary!G$6,0) -> 20.25 | AW20: =IF(AND(AL20<=Summary!H$6,AL20>0),25*(Summary!H$6+1-AL20)/Summary!H$6,0) -> 18.75 | AX20: =IF(AND(AM20<=Summary!I$6,AM20>0),25*(Summary!I$6+1-AM20)/Summary!I$6,0) -> 22.75 | ... AZ20: =IF(AND(AO20<=Summary!K$6,AO20>0),25*(Summary!K$6+1-AO20)/Summary!K$6,0) -> 18.5 | BB20: =IF(AND(U20>0,U20<=Summary!B$9),12.5 + 12.5 * (U20 - Summary!B$9) / (Summary!B$7 - Summary!B$9),0) -> 22.481942 | BC20: =IF(AND(V20>0,V20<=Summary!C$9),12.5 + 12.5 * (V20 - Summary!C$9) / (Summary!C$7 - Summary!C$9),0) -> 25 | BD20: =IF(AND(W20>0,W20<=Summary!D$9),12.5 + 12.5 * (W20 - Summary!D$9) / (Summary!D$7 - Summary!D$9),0) -> 17.650051 | BE20: =IF(AND(X20>0,X20<=Summary!E$9),12.5 + 12.5 * (X20 - Summary!E$9) / (Summary!E$7 - Summary!E$9),0) -> 0 | BF20: =IF(AND(Y20>0,Y20<=Summary!F$9),12.5 + 12.5 * (Y20 - Summary!F$9) / (Summary!F$7 - Summary!F$9),0) -> 0 | BG20: =IF(AND(Z20>0,Z20<=Summary!G$9),12.5 + 12.5 * (Z20 - Summary!G$9) / (Summary!G$7 - Summary!G$9),0) -> 19.565538 | BH20: =IF(AND(AA20>0,AA20<=Summary!H$9),12.5 + 12.5 * (AA20 - Summary!H$9) / (Summary!H$7 - Summary!H$9),0) -> 0 | BI20: =IF(AND(AB20>0,AB20<=Summary!I$9),12.5 + 12.5 * (AB20 - Summary!I$9) / (Summary!I$7 - Summary!I$9),0) -> 21.137124 | ... BK20: =IF(AND(AD20>0,AD20<=Summary!K$9),12.5 + 12.5 * (AD20 - Summary!K$9) / (Summary!K$7 - Summary!K$9),0) -> 0 | BM20: =IF(AND(U20>0,U20>Summary!B$9),12.5 - 12.5 * (U20 - Summary!B$9) / (Summary!B$3 - Summary!B$9),0) -> 0 | BN20: =IF(AND(V20>0,V20>Summary!C$9),12.5 - 12.5 * (V20 - Summary!C$9) / (Summary!C$3 - Summary!C$9),0) -> 0 | BO20: =IF(AND(W20>0,W20>Summary!D$9),12.5 - 12.5 * (W20 - Summary!D$9) / (Summary!D$3 - Summary!D$9),0) -> 0 | BP20: =IF(AND(X20>0,X20>Summary!E$9),12.5 - 12.5 * (X20 - Summary!E$9) / (Summary!E$3 - Summary!E$9),0) -> 5.7787392 | BQ20: =IF(AND(Y20>0,Y20>Summary!F$9),12.5 - 12.5 * (Y20 - Summary!F$9) / (Summary!F$3 - Summary!F$9),0) -> 5.5934176 | BR20: =IF(AND(Z20>0,Z20>Summary!G$9),12.5 - 12.5 * (Z20 - Summary!G$9) / (Summary!G$3 - Summary!G$9),0) -> 0 | BS20: =IF(AND(AA20>0,AA20>Summary!H$9),12.5 - 12.5 * (AA20 - Summary!H$9) / (Summary!H$3 - Summary!H$9),0) -> 8.3215197 | BT20: =IF(AND(AB20>0,AB20>Summary!I$9),12.5 - 12.5 * (AB20 - Summary!I$9) / (Summary!I$3 - Summary!I$9),0) -> 0 | ... BV20: =IF(AND(AD20>0,AD20>Summary!K$9),12.5 - 12.5 * (AD20 - Summary!K$9) / (Summary!K$3 - Summary!K$9),0) -> 0 | BX20: =J20/60 -> 12.133333 | BY20: =K20/60 -> 10.433333 | BZ20: =L20/60 -> 28.316667 | CA20: =M20/60 -> 62.533333 | CB20: =N20/60 -> 63.783333 | CC20: =O20/60 -> 31 | CD20: =P20/60 -> 70.433333 | CE20: =Q20/60 -> 43.8 | ... CG20: =S20/60 -> 114.8 | CI20: =AQ20+BB20+BM20 -> 45.481942 | CJ20: =AR20+BC20+BN20 -> 50 | CK20: =AS20+BD20+BO20 -> 37.150051 | CL20: =AT20+BE20+BP20 -> 11.028739 | CM20: =AU20+BF20+BQ20 -> 19.343418 | CN20: =AV20+BG20+BR20 -> 39.815538 | CO20: =AW20+BH20+BS20 -> 27.07152 | CP20: =AX20+BI20+BT20 -> 43.887124 | ... CR20: =AZ20+BK20+BV20 -> 18.5 | CT20: =MIN(CI20:CR20) -> 11.028739 | CU20: =SMALL(CI20:CR20,2) -> 18.5 | CV20: =SUM(CI20:CR20)-CT20-CU20 -> 303.74919 | CW20: =50*MIN(8,COUNTIF(J20:S20,">0")) -> 400 | CX20: =CW20+CV20 -> 703.74919 | CZ20: =G20 -> 631.72777 | DA20: =A20 -> 16
A21: 17 | B21: Psyho | C21: abc | D21: Poland | E21: 230.51985 | F21: 6/10/10 | G21: 630.51985 | H21: 189036 | J21: 777 | K21: 1088 | L21: 1627 | M21: 2242 | N21: 1757 | O21: 2377 | P21: 9476 | Q21: 20565 | R21: 94639 | S21: 54488 | U21: =IF(J21<=Summary!B$3,J21,0) -> 777 | V21: =IF(K21<=Summary!C$3,K21,0) -> 1088 | W21: =IF(L21<=Summary!D$3,L21,0) -> 1627 | X21: =IF(M21<=Summary!E$3,M21,0) -> 2242 | Y21: =IF(N21<=Summary!F$3,N21,0) -> 1757 | Z21: =IF(O21<=Summary!G$3,O21,0) -> 2377 | AA21: =IF(P21<=Summary!H$3,P21,0) -> 0 | AB21: =IF(Q21<=Summary!I$3,Q21,0) -> 0 | ... AD21: =IF(S21<=Summary!K$3,S21,0) -> 0 | AF21: =IF(J21>0,RANK(J21,J:J,1),0) -> 11 | AG21: =IF(K21>0,RANK(K21,K:K,1),0) -> 44 | AH21: =IF(L21>0,RANK(L21,L:L,1),0) -> 19 | AI21: =IF(M21>0,RANK(M21,M:M,1),0) -> 30 | AJ21: =IF(N21>0,RANK(N21,N:N,1),0) -> 2 | AK21: =IF(O21>0,RANK(O21,O:O,1),0) -> 34 | AL21: =IF(P21>0,RANK(P21,P:P,1),0) -> 64 | AM21: =IF(Q21>0,RANK(Q21,Q:Q,1),0) -> 124 | AN21: =IF(R21>0,RANK(R21,R:R,1),0) -> 154 | AO21: =IF(S21>0,RANK(S21,S:S,1),0) -> 83 | AQ21: =IF(AND(AF21<=Summary!B$6,AF21>0),25*(Summary!B$6+1-AF21)/Summary!B$6,0) -> 22.5 | AR21: =IF(AND(AG21<=Summary!C$6,AG21>0),25*(Summary!C$6+1-AG21)/Summary!C$6,0) -> 14.25 | AS21: =IF(AND(AH21<=Summary!D$6,AH21>0),25*(Summary!D$6+1-AH21)/Summary!D$6,0) -> 20.5 | AT21: =IF(AND(AI21<=Summary!E$6,AI21>0),25*(Summary!E$6+1-AI21)/Summary!E$6,0) -> 17.75 | AU21: =IF(AND(AJ21<=Summary!F$6,AJ21>0),25*(Summary!F$6+1-AJ21)/Summary!F$6,0) -> 24.75 | AV21: =IF(AND(AK21<=Summary!G$6,AK21>0),25*(Summary!G$6+1-AK21)/Summary!G$6,0) -> 16.75 | AW21: =IF(AND(AL21<=Summary!H$6,AL21>0),25*(Summary!H$6+1-AL21)/Summary!H$6,0) -> 9.25 | AX21: =IF(AND(AM21<=Summary!I$6,AM21>0),25*(Summary!I$6+1-AM21)/Summary!I$6,0) -> 0 | ... AZ21: =IF(AND(AO21<=Summary!K$6,AO21>0),25*(Summary!K$6+1-AO21)/Summary!K$6,0) -> 4.5 | BB21: =IF(AND(U21>0,U21<=Summary!B$9),12.5 + 12.5 * (U21 - Summary!B$9) / (Summary!B$7 - Summary!B$9),0) -> 21.990369 | BC21: =IF(AND(V21>0,V21<=Summary!C$9),12.5 + 12.5 * (V21 - Summary!C$9) / (Summary!C$7 - Summary!C$9),0) -> 18.892121 | BD21: =IF(AND(W21>0,W21<=Summary!D$9),12.5 + 12.5 * (W21 - Summary!D$9) / (Summary!D$7 - Summary!D$9),0) -> 18.260427 | BE21: =IF(AND(X21>0,X21<=Summary!E$9),12.5 + 12.5 * (X21 - Summary!E$9) / (Summary!E$7 - Summary!E$9),0) -> 16.780364 | BF21: =IF(AND(Y21>0,Y21<=Summary!F$9),12.5 + 12.5 * (Y21 - Summary!F$9) / (Summary!F$7 - Summary!F$9),0) -> 24.386032 | BG21: =IF(AND(Z21>0,Z21<=Summary!G$9),12.5 + 12.5 * (Z21 - Summary!G$9) / (Summary!G$7 - Summary!G$9),0) -> 15.758468 | BH21: =IF(AND(AA21>0,AA21<=Summary!H$9),12.5 + 12.5 * (AA21 - Summary!H$9) / (Summary!H$7 - Summary!H$9),0) -> 0 | BI21: =IF(AND(AB21>0,AB21<=Summary!I$9),12.5 + 12.5 * (AB21 - Summary!I$9) / (Summary!I$7 - Summary!I$9),0) -> 0 | ... BK21: =IF(AND(AD21>0,AD21<=Summary!K$9),12.5 + 12.5 * (AD21 - Summary!K$9) / (Summary!K$7 - Summary!K$9),0) -> 0 | BM21: =IF(AND(U21>0,U21>Summary!B$9),12.5 - 12.5 * (U21 - Summary!B$9) / (Summary!B$3 - Summary!B$9),0) -> 0 | BN21: =IF(AND(V21>0,V21>Summary!C$9),12.5 - 12.5 * (V21 - Summary!C$9) / (Summary!C$3 - Summary!C$9),0) -> 0 | BO21: =IF(AND(W21>0,W21>Summary!D$9),12.5 - 12.5 * (W21 - Summary!D$9) / (Summary!D$3 - Summary!D$9),0) -> 0 | BP21: =IF(AND(X21>0,X21>Summary!E$9),12.5 - 12.5 * (X21 - Summary!E$9) / (Summary!E$3 - Summary!E$9),0) -> 0 | BQ21: =IF(AND(Y21>0,Y21>Summary!F$9),12.5 - 12.5 * (Y21 - Summary!F$9) / (Summary!F$3 - Summary!F$9),0) -> 0 | BR21: =IF(AND(Z21>0,Z21>Summary!G$9),12.5 - 12.5 * (Z21 - Summary!G$9) / (Summary!G$3 - Summary!G$9),0) -> 0 | BS21: =IF(AND(AA21>0,AA21>Summary!H$9),12.5 - 12.5 * (AA21 - Summary!H$9) / (Summary!H$3 - Summary!H$9),0) -> 0 | BT21: =IF(AND(AB21>0,AB21>Summary!I$9),12.5 - 12.5 * (AB21 - Summary!I$9) / (Summary!I$3 - Summary!I$9),0) -> 0 | ... BV21: =IF(AND(AD21>0,AD21>Summary!K$9),12.5 - 12.5 * (AD21 - Summary!K$9) / (Summary!K$3 - Summary!K$9),0) -> 0 | BX21: =J21/60 -> 12.95 | BY21: =K21/60 -> 18.133333 | BZ21: =L21/60 -> 27.116667 | CA21: =M21/60 -> 37.366667 | CB21: =N21/60 -> 29.283333 | CC21: =O21/60 -> 39.616667 | CD21: =P21/60 -> 157.93333 | CE21: =Q21/60 -> 342.75 | ... CG21: =S21/60 -> 908.13333 | CI21: =AQ21+BB21+BM21 -> 44.490369 | CJ21: =AR21+BC21+BN21 -> 33.142121 | CK21: =AS21+BD21+BO21 -> 38.760427 | CL21: =AT21+BE21+BP21 -> 34.530364 | CM21: =AU21+BF21+BQ21 -> 49.136032 | CN21: =AV21+BG21+BR21 -> 32.508468 | CO21: =AW21+BH21+BS21 -> 9.25 | CP21: =AX21+BI21+BT21 -> 0 | ... CR21: =AZ21+BK21+BV21 -> 4.5 | CT21: =MIN(CI21:CR21) -> 0 | CU21: =SMALL(CI21:CR21,2) -> 0 | CV21: =SUM(CI21:CR21)-CT21-CU21 -> 246.31778 | CW21: =50*MIN(8,COUNTIF(J21:S21,">0")) -> 400 | CX21: =CW21+CV21 -> 646.31778 | CZ21: =G21 -> 630.51985 | DA21: =A21 -> 17
A22: 18 | B22: anderson | C22: Anderson Wang | D22: USA | E22: 229.67538 | F22: 7/10/10 | G22: 629.67538 | H22: 385480 | J22: 788 | K22: 840 | L22: 1854 | M22: 360876 | N22: 2929 | O22: 1790 | P22: 3557 | Q22: 2439 | R22: 3890 | S22: 6517 | U22: =IF(J22<=Summary!B$3,J22,0) -> 788 | V22: =IF(K22<=Summary!C$3,K22,0) -> 840 | W22: =IF(L22<=Summary!D$3,L22,0) -> 1854 | X22: =IF(M22<=Summary!E$3,M22,0) -> 0 | Y22: =IF(N22<=Summary!F$3,N22,0) -> 2929 | Z22: =IF(O22<=Summary!G$3,O22,0) -> 1790 | AA22: =IF(P22<=Summary!H$3,P22,0) -> 3557 | AB22: =IF(Q22<=Summary!I$3,Q22,0) -> 2439 | ... AD22: =IF(S22<=Summary!K$3,S22,0) -> 0 | AF22: =IF(J22>0,RANK(J22,J:J,1),0) -> 14 | AG22: =IF(K22>0,RANK(K22,K:K,1),0) -> 15 | AH22: =IF(L22>0,RANK(L22,L:L,1),0) -> 29 | AI22: =IF(M22>0,RANK(M22,M:M,1),0) -> 218 | AJ22: =IF(N22>0,RANK(N22,N:N,1),0) -> 25 | AK22: =IF(O22>0,RANK(O22,O:O,1),0) -> 17 | AL22: =IF(P22>0,RANK(P22,P:P,1),0) -> 18 | AM22: =IF(Q22>0,RANK(Q22,Q:Q,1),0) -> 6 | AN22: =IF(R22>0,RANK(R22,R:R,1),0) -> 23 | AO22: =IF(S22>0,RANK(S22,S:S,1),0) -> 25 | AQ22: =IF(AND(AF22<=Summary!B$6,AF22>0),25*(Summary!B$6+1-AF22)/Summary!B$6,0) -> 21.75 | AR22: =IF(AND(AG22<=Summary!C$6,AG22>0),25*(Summary!C$6+1-AG22)/Summary!C$6,0) -> 21.5 | AS22: =IF(AND(AH22<=Summary!D$6,AH22>0),25*(Summary!D$6+1-AH22)/Summary!D$6,0) -> 18 | AT22: =IF(AND(AI22<=Summary!E$6,AI22>0),25*(Summary!E$6+1-AI22)/Summary!E$6,0) -> 0 | AU22: =IF(AND(AJ22<=Summary!F$6,AJ22>0),25*(Summary!F$6+1-AJ22)/Summary!F$6,0) -> 19 | AV22: =IF(AND(AK22<=Summary!G$6,AK22>0),25*(Summary!G$6+1-AK22)/Summary!G$6,0) -> 21 | AW22: =IF(AND(AL22<=Summary!H$6,AL22>0),25*(Summary!H$6+1-AL22)/Summary!H$6,0) -> 20.75 | AX22: =IF(AND(AM22<=Summary!I$6,AM22>0),25*(Summary!I$6+1-AM22)/Summary!I$6,0) -> 23.75 | ... AZ22: =IF(AND(AO22<=Summary!K$6,AO22>0),25*(Summary!K$6+1-AO22)/Summary!K$6,0) -> 19 | BB22: =IF(AND(U22>0,U22<=Summary!B$9),12.5 + 12.5 * (U22 - Summary!B$9) / (Summary!B$7 - Summary!B$9),0) -> 21.880016 | BC22: =IF(AND(V22>0,V22<=Summary!C$9),12.5 + 12.5 * (V22 - Summary!C$9) / (Summary!C$7 - Summary!C$9),0) -> 22.170809 | BD22: =IF(AND(W22>0,W22<=Summary!D$9),12.5 + 12.5 * (W22 - Summary!D$9) / (Summary!D$7 - Summary!D$9),0) -> 16.336046 | BE22: =IF(AND(X22>0,X22<=Summary!E$9),12.5 + 12.5 * (X22 - Summary!E$9) / (Summary!E$7 - Summary!E$9),0) -> 0 | BF22: =IF(AND(Y22>0,Y22<=Summary!F$9),12.5 + 12.5 * (Y22 - Summary!F$9) / (Summary!F$7 - Summary!F$9),0) -> 13.142748 | BG22: =IF(AND(Z22>0,Z22<=Summary!G$9),12.5 + 12.5 * (Z22 - Summary!G$9) / (Summary!G$7 - Summary!G$9),0) -> 20.081001 | BH22: =IF(AND(AA22>0,AA22<=Summary!H$9),12.5 + 12.5 * (AA22 - Summary!H$9) / (Summary!H$7 - Summary!H$9),0) -> 13.081651 | BI22: =IF(AND(AB22>0,AB22<=Summary!I$9),12.5 + 12.5 * (AB22 - Summary!I$9) / (Summary!I$7 - Summary!I$9),0) -> 22.717391 | ... BK22: =IF(AND(AD22>0,AD22<=Summary!K$9),12.5 + 12.5 * (AD22 - Summary!K$9) / (Summary!K$7 - Summary!K$9),0) -> 0 | BM22: =IF(AND(U22>0,U22>Summary!B$9),12.5 - 12.5 * (U22 - Summary!B$9) / (Summary!B$3 - Summary!B$9),0) -> 0 | BN22: =IF(AND(V22>0,V22>Summary!C$9),12.5 - 12.5 * (V22 - Summary!C$9) / (Summary!C$3 - Summary!C$9),0) -> 0 | BO22: =IF(AND(W22>0,W22>Summary!D$9),12.5 - 12.5 * (W22 - Summary!D$9) / (Summary!D$3 - Summary!D$9),0) -> 0 | BP22: =IF(AND(X22>0,X22>Summary!E$9),12.5 - 12.5 * (X22 - Summary!E$9) / (Summary!E$3 - Summary!E$9),0) -> 0 | BQ22: =IF(AND(Y22>0,Y22>Summary!F$9),12.5 - 12.5 * (Y22 - Summary!F$9) / (Summary!F$3 - Summary!F$9),0) -> 0 | BR22: =IF(AND(Z22>0,Z22>Summary!G$9),12.5 - 12.5 * (Z22 - Summary!G$9) / (Summary!G$3 - Summary!G$9),0) -> 0 | BS22: =IF(AND(AA22>0,AA22>Summary!H$9),12.5 - 12.5 * (AA22 - Summary!H$9) / (Summary!H$3 - Summary!H$9),0) -> 0 | BT22: =IF(AND(AB22>0,AB22>Summary!I$9),12.5 - 12.5 * (AB22 - Summary!I$9) / (Summary!I$3 - Summary!I$9),0) -> 0 | ... BV22: =IF(AND(AD22>0,AD22>Summary!K$9),12.5 - 12.5 * (AD22 - Summary!K$9) / (Summary!K$3 - Summary!K$9),0) -> 0 | BX22: =J22/60 -> 13.133333 | BY22: =K22/60 -> 14 | BZ22: =L22/60 -> 30.9 | CA22: =M22/60 -> 6014.6 | CB22: =N22/60 -> 48.816667 | CC22: =O22/60 -> 29.833333 | CD22: =P22/60 -> 59.283333 | CE22: =Q22/60 -> 40.65 | ... CG22: =S22/60 -> 108.61667 | CI22: =AQ22+BB22+BM22 -> 43.630016 | CJ22: =AR22+BC22+BN22 -> 43.670809 | CK22: =AS22+BD22+BO22 -> 34.336046 | CL22: =AT22+BE22+BP22 -> 0 | CM22: =AU22+BF22+BQ22 -> 32.142748 | CN22: =AV22+BG22+BR22 -> 41.081001 | CO22: =AW22+BH22+BS22 -> 33.831651 | CP22: =AX22+BI22+BT22 -> 46.467391 | ... CR22: =AZ22+BK22+BV22 -> 19 | CT22: =MIN(CI22:CR22) -> 0 | CU22: =SMALL(CI22:CR22,2) -> 19 | CV22: =SUM(CI22:CR22)-CT22-CU22 -> 308.44929 | CW22: =50*MIN(8,COUNTIF(J22:S22,">0")) -> 400 | CX22: =CW22+CV22 -> 708.44929 | CZ22: =G22 -> 629.67538 | DA22: =A22 -> 18
A23: 19 | B23: Prasanna16391 | C23: prasanna seshadri | D23: India | E23: 229.54743 | F23: 6/9/9 + 1 | G23: 629.54743 | H23: 22735 | K23: 824 | L23: 1394 | M23: 1929 | N23: 2453 | O23: 2109 | P23: 2736 | Q23: 3720 | R23: 3831 | S23: 3739 | U23: =IF(J23<=Summary!B$3,J23,0) -> 0 | V23: =IF(K23<=Summary!C$3,K23,0) -> 824 | W23: =IF(L23<=Summary!D$3,L23,0) -> 1394 | X23: =IF(M23<=Summary!E$3,M23,0) -> 1929 | Y23: =IF(N23<=Summary!F$3,N23,0) -> 2453 | Z23: =IF(O23<=Summary!G$3,O23,0) -> 2109 | AA23: =IF(P23<=Summary!H$3,P23,0) -> 2736 | AB23: =IF(Q23<=Summary!I$3,Q23,0) -> 3720 | ... AD23: =IF(S23<=Summary!K$3,S23,0) -> 3739 | AF23: =IF(J23>0,RANK(J23,J:J,1),0) -> 0 | AG23: =IF(K23>0,RANK(K23,K:K,1),0) -> 14 | AH23: =IF(L23>0,RANK(L23,L:L,1),0) -> 13 | AI23: =IF(M23>0,RANK(M23,M:M,1),0) -> 13 | AJ23: =IF(N23>0,RANK(N23,N:N,1),0) -> 9 | AK23: =IF(O23>0,RANK(O23,O:O,1),0) -> 25 | AL23: =IF(P23>0,RANK(P23,P:P,1),0) -> 7 | AM23: =IF(Q23>0,RANK(Q23,Q:Q,1),0) -> 34 | AN23: =IF(R23>0,RANK(R23,R:R,1),0) -> 20 | AO23: =IF(S23>0,RANK(S23,S:S,1),0) -> 3 | AQ23: =IF(AND(AF23<=Summary!B$6,AF23>0),25*(Summary!B$6+1-AF23)/Summary!B$6,0) -> 0 | AR23: =IF(AND(AG23<=Summary!C$6,AG23>0),25*(Summary!C$6+1-AG23)/Summary!C$6,0) -> 21.75 | AS23: =IF(AND(AH23<=Summary!D$6,AH23>0),25*(Summary!D$6+1-AH23)/Summary!D$6,0) -> 22 | AT23: =IF(AND(AI23<=Summary!E$6,AI23>0),25*(Summary!E$6+1-AI23)/Summary!E$6,0) -> 22 | AU23: =IF(AND(AJ23<=Summary!F$6,AJ23>0),25*(Summary!F$6+1-AJ23)/Summary!F$6,0) -> 23 | AV23: =IF(AND(AK23<=Summary!G$6,AK23>0),25*(Summary!G$6+1-AK23)/Summary!G$6,0) -> 19 | AW23: =IF(AND(AL23<=Summary!H$6,AL23>0),25*(Summary!H$6+1-AL23)/Summary!H$6,0) -> 23.5 | AX23: =IF(AND(AM23<=Summary!I$6,AM23>0),25*(Summary!I$6+1-AM23)/Summary!I$6,0) -> 16.75 | ... AZ23: =IF(AND(AO23<=Summary!K$6,AO23>0),25*(Summary!K$6+1-AO23)/Summary!K$6,0) -> 24.5 | BB23: =IF(AND(U23>0,U23<=Summary!B$9),12.5 + 12.5 * (U23 - Summary!B$9) / (Summary!B$7 - Summary!B$9),0) -> 0 | BC23: =IF(AND(V23>0,V23<=Summary!C$9),12.5 + 12.5 * (V23 - Summary!C$9) / (Summary!C$7 - Summary!C$9),0) -> 22.382337 | BD23: =IF(AND(W23>0,W23<=Summary!D$9),12.5 + 12.5 * (W23 - Summary!D$9) / (Summary!D$7 - Summary!D$9),0) -> 20.235673 | BE23: =IF(AND(X23>0,X23<=Summary!E$9),12.5 + 12.5 * (X23 - Summary!E$9) / (Summary!E$7 - Summary!E$9),0) -> 18.873729 | BF23: =IF(AND(Y23>0,Y23<=Summary!F$9),12.5 + 12.5 * (Y23 - Summary!F$9) / (Summary!F$7 - Summary!F$9),0) -> 17.709133 | BG23: =IF(AND(Z23>0,Z23<=Summary!G$9),12.5 + 12.5 * (Z23 - Summary!G$9) / (Summary!G$7 - Summary!G$9),0) -> 17.731959 | BH23: =IF(AND(AA23>0,AA23<=Summary!H$9),12.5 + 12.5 * (AA23 - Summary!H$9) / (Summary!H$7 - Summary!H$9),0) -> 19.088382 | BI23: =IF(AND(AB23>0,AB23<=Summary!I$9),12.5 + 12.5 * (AB23 - Summary!I$9) / (Summary!I$7 - Summary!I$9),0) -> 0 | ... BK23: =IF(AND(AD23>0,AD23<=Summary!K$9),12.5 + 12.5 * (AD23 - Summary!K$9) / (Summary!K$7 - Summary!K$9),0) -> 18.91129 | BM23: =IF(AND(U23>0,U23>Summary!B$9),12.5 - 12.5 * (U23 - Summary!B$9) / (Summary!B$3 - Summary!B$9),0) -> 0 | BN23: =IF(AND(V23>0,V23>Summary!C$9),12.5 - 12.5 * (V23 - Summary!C$9) / (Summary!C$3 - Summary!C$9),0) -> 0 | BO23: =IF(AND(W23>0,W23>Summary!D$9),12.5 - 12.5 * (W23 - Summary!D$9) / (Summary!D$3 - Summary!D$9),0) -> 0 | BP23: =IF(AND(X23>0,X23>Summary!E$9),12.5 - 12.5 * (X23 - Summary!E$9) / (Summary!E$3 - Summary!E$9),0) -> 0 | BQ23: =IF(AND(Y23>0,Y23>Summary!F$9),12.5 - 12.5 * (Y23 - Summary!F$9) / (Summary!F$3 - Summary!F$9),0) -> 0 | BR23: =IF(AND(Z23>0,Z23>Summary!G$9),12.5 - 12.5 * (Z23 - Summary!G$9) / (Summary!G$3 - Summary!G$9),0) -> 0 | BS23: =IF(AND(AA23>0,AA23>Summary!H$9),12.5 - 12.5 * (AA23 - Summary!H$9) / (Summary!H$3 - Summary!H$9),0) -> 0 | BT23: =IF(AND(AB23>0,AB23>Summary!I$9),12.5 - 12.5 * (AB23 - Summary!I$9) / (Summary!I$3 - Summary!I$9),0) -> 12.075906 | ... BV23: =IF(AND(AD23>0,AD23>Summary!K$9),12.5 - 12.5 * (AD23 - Summary!K$9) / (Summary!K$3 - Summary!K$9),0) -> 0 | BX23: =J23/60 -> 0 | BY23: =K23/60 -> 13.733333 | BZ23: =L23/60 -> 23.233333 | CA23: =M23/60 -> 32.15 | CB23: =N23/60 -> 40.883333 | CC23: =O23/60 -> 35.15 | CD23: =P23/60 -> 45.6 | CE23: =Q23/60 -> 62 | ... CG23: =S23/60 -> 62.316667 | CI23: =AQ23+BB23+BM23 -> 0 | CJ23: =AR23+BC23+BN23 -> 44.132337 | CK23: =AS23+BD23+BO23 -> 42.235673 | CL23: =AT23+BE23+BP23 -> 40.873729 | CM23: =AU23+BF23+BQ23 -> 40.709133 | CN23: =AV23+BG23+BR23 -> 36.731959 | CO23: =AW23+BH23+BS23 -> 42.588382 | CP23: =AX23+BI23+BT23 -> 28.825906 | ... CR23: =AZ23+BK23+BV23 -> 43.41129 | CT23: =MIN(CI23:CR23) -> 0 | CU23: =SMALL(CI23:CR23,2) -> 28.825906 | CV23: =SUM(CI23:CR23)-CT23-CU23 -> 325.11842 | CW23: =50*MIN(8,COUNTIF(J23:S23,">0")) -> 400 | CX23: =CW23+CV23 -> 725.11842 | CZ23: =G23 -> 629.54743 | DA23: =A23 -> 19
A24: 20 | B24: xevs | C24: Ko Okamoto | D24: Japan | E24: 229.43997 | F24: 7/9/9 + 1 | G24: 629.43997 | H24: 25229 | J24: 841 | K24: 919 | L24: 2754 | N24: 2517 | O24: 1645 | P24: 5284 | Q24: 3037 | R24: 3219 | S24: 5013 | U24: =IF(J24<=Summary!B$3,J24,0) -> 841 | V24: =IF(K24<=Summary!C$3,K24,0) -> 919 | W24: =IF(L24<=Summary!D$3,L24,0) -> 2754 | X24: =IF(M24<=Summary!E$3,M24,0) -> 0 | Y24: =IF(N24<=Summary!F$3,N24,0) -> 2517 | Z24: =IF(O24<=Summary!G$3,O24,0) -> 1645 | AA24: =IF(P24<=Summary!H$3,P24,0) -> 5284 | AB24: =IF(Q24<=Summary!I$3,Q24,0) -> 3037 | ... AD24: =IF(S24<=Summary!K$3,S24,0) -> 5013 | AF24: =IF(J24>0,RANK(J24,J:J,1),0) -> 19 | AG24: =IF(K24>0,RANK(K24,K:K,1),0) -> 25 | AH24: =IF(L24>0,RANK(L24,L:L,1),0) -> 62 | AI24: =IF(M24>0,RANK(M24,M:M,1),0) -> 0 | AJ24: =IF(N24>0,RANK(N24,N:N,1),0) -> 11 | AK24: =IF(O24>0,RANK(O24,O:O,1),0) -> 12 | AL24: =IF(P24>0,RANK(P24,P:P,1),0) -> 42 | AM24: =IF(Q24>0,RANK(Q24,Q:Q,1),0) -> 18 | AN24: =IF(R24>0,RANK(R24,R:R,1),0) -> 9 | AO24: =IF(S24>0,RANK(S24,S:S,1),0) -> 11 | AQ24: =IF(AND(AF24<=Summary!B$6,AF24>0),25*(Summary!B$6+1-AF24)/Summary!B$6,0) -> 20.5 | AR24: =IF(AND(AG24<=Summary!C$6,AG24>0),25*(Summary!C$6+1-AG24)/Summary!C$6,0) -> 19 | AS24: =IF(AND(AH24<=Summary!D$6,AH24>0),25*(Summary!D$6+1-AH24)/Summary!D$6,0) -> 9.75 | AT24: =IF(AND(AI24<=Summary!E$6,AI24>0),25*(Summary!E$6+1-AI24)/Summary!E$6,0) -> 0 | AU24: =IF(AND(AJ24<=Summary!F$6,AJ24>0),25*(Summary!F$6+1-AJ24)/Summary!F$6,0) -> 22.5 | AV24: =IF(AND(AK24<=Summary!G$6,AK24>0),25*(Summary!G$6+1-AK24)/Summary!G$6,0) -> 22.25 | AW24: =IF(AND(AL24<=Summary!H$6,AL24>0),25*(Summary!H$6+1-AL24)/Summary!H$6,0) -> 14.75 | AX24: =IF(AND(AM24<=Summary!I$6,AM24>0),25*(Summary!I$6+1-AM24)/Summary!I$6,0) -> 20.75 | ... AZ24: =IF(AND(AO24<=Summary!K$6,AO24>0),25*(Summary!K$6+1-AO24)/Summary!K$6,0) -> 22.5 | BB24: =IF(AND(U24>0,U24<=Summary!B$9),12.5 + 12.5 * (U24 - Summary!B$9) / (Summary!B$7 - Summary!B$9),0) -> 21.348315 | BC24: =IF(AND(V24>0,V24<=Summary!C$9),12.5 + 12.5 * (V24 - Summary!C$9) / (Summary!C$7 - Summary!C$9),0) -> 21.126388 | BD24: =IF(AND(W24>0,W24<=Summary!D$9),12.5 + 12.5 * (W24 - Summary!D$9) / (Summary!D$7 - Summary!D$9),0) -> 0 | BE24: =IF(AND(X24>0,X24<=Summary!E$9),12.5 + 12.5 * (X24 - Summary!E$9) / (Summary!E$7 - Summary!E$9),0) -> 0 | BF24: =IF(AND(Y24>0,Y24<=Summary!F$9),12.5 + 12.5 * (Y24 - Summary!F$9) / (Summary!F$7 - Summary!F$9),0) -> 17.095165 | BG24: =IF(AND(Z24>0,Z24<=Summary!G$9),12.5 + 12.5 * (Z24 - Summary!G$9) / (Summary!G$7 - Summary!G$9),0) -> 21.148748 | BH24: =IF(AND(AA24>0,AA24<=Summary!H$9),12.5 + 12.5 * (AA24 - Summary!H$9) / (Summary!H$7 - Summary!H$9),0) -> 0 | BI24: =IF(AND(AB24>0,AB24<=Summary!I$9),12.5 + 12.5 * (AB24 - Summary!I$9) / (Summary!I$7 - Summary!I$9),0) -> 17.717391 | ... BK24: =IF(AND(AD24>0,AD24<=Summary!K$9),12.5 + 12.5 * (AD24 - Summary!K$9) / (Summary!K$7 - Summary!K$9),0) -> 0 | BM24: =IF(AND(U24>0,U24>Summary!B$9),12.5 - 12.5 * (U24 - Summary!B$9) / (Summary!B$3 - Summary!B$9),0) -> 0 | BN24: =IF(AND(V24>0,V24>Summary!C$9),12.5 - 12.5 * (V24 - Summary!C$9) / (Summary!C$3 - Summary!C$9),0) -> 0 | BO24: =IF(AND(W24>0,W24>Summary!D$9),12.5 - 12.5 * (W24 - Summary!D$9) / (Summary!D$3 - Summary!D$9),0) -> 8.1754928 | BP24: =IF(AND(X24>0,X24>Summary!E$9),12.5 - 12.5 * (X24 - Summary!E$9) / (Summary!E$3 - Summary!E$9),0) -> 0 | BQ24: =IF(AND(Y24>0,Y24>Summary!F$9),12.5 - 12.5 * (Y24 - Summary!F$9) / (Summary!F$3 - Summary!F$9),0) -> 0 | BR24: =IF(AND(Z24>0,Z24>Summary!G$9),12.5 - 12.5 * (Z24 - Summary!G$9) / (Summary!G$3 - Summary!G$9),0) -> 0 | BS24: =IF(AND(AA24>0,AA24>Summary!H$9),12.5 - 12.5 * (AA24 - Summary!H$9) / (Summary!H$3 - Summary!H$9),0) -> 0.82222852 | BT24: =IF(AND(AB24>0,AB24>Summary!I$9),12.5 - 12.5 * (AB24 - Summary!I$9) / (Summary!I$3 - Summary!I$9),0) -> 0 | ... BV24: =IF(AND(AD24>0,AD24>Summary!K$9),12.5 - 12.5 * (AD24 - Summary!K$9) / (Summary!K$3 - Summary!K$9),0) -> 8.8275547 | BX24: =J24/60 -> 14.016667 | BY24: =K24/60 -> 15.316667 | BZ24: =L24/60 -> 45.9 | CA24: =M24/60 -> 0 | CB24: =N24/60 -> 41.95 | CC24: =O24/60 -> 27.416667 | CD24: =P24/60 -> 88.066667 | CE24: =Q24/60 -> 50.616667 | ... CG24: =S24/60 -> 83.55 | CI24: =AQ24+BB24+BM24 -> 41.848315 | CJ24: =AR24+BC24+BN24 -> 40.126388 | CK24: =AS24+BD24+BO24 -> 17.925493 | CL24: =AT24+BE24+BP24 -> 0 | CM24: =AU24+BF24+BQ24 -> 39.595165 | CN24: =AV24+BG24+BR24 -> 43.398748 | CO24: =AW24+BH24+BS24 -> 15.572229 | CP24: =AX24+BI24+BT24 -> 38.467391 | ... CR24: =AZ24+BK24+BV24 -> 31.327555 | CT24: =MIN(CI24:CR24) -> 0 | CU24: =SMALL(CI24:CR24,2) -> 15.572229 | CV24: =SUM(CI24:CR24)-CT24-CU24 -> 293.98567 | CW24: =50*MIN(8,COUNTIF(J24:S24,">0")) -> 400 | CX24: =CW24+CV24 -> 693.98567 | CZ24: =G24 -> 629.43997 | DA24: =A24 -> 20
A25: 21 | B25: Hunsudoku | C25: Zoltan Gyimesi | D25: Hungary | E25: 221.90066 | F25: 7/10/10 | G25: 621.90066 | H25: 31892 | J25: 915 | K25: 867 | L25: 2105 | M25: 2651 | N25: 2996 | O25: 2286 | P25: 2645 | Q25: 4359 | R25: 6527 | S25: 6541 | U25: =IF(J25<=Summary!B$3,J25,0) -> 915 | V25: =IF(K25<=Summary!C$3,K25,0) -> 867 | W25: =IF(L25<=Summary!D$3,L25,0) -> 2105 | X25: =IF(M25<=Summary!E$3,M25,0) -> 2651 | Y25: =IF(N25<=Summary!F$3,N25,0) -> 2996 | Z25: =IF(O25<=Summary!G$3,O25,0) -> 2286 | AA25: =IF(P25<=Summary!H$3,P25,0) -> 2645 | AB25: =IF(Q25<=Summary!I$3,Q25,0) -> 4359 | ... AD25: =IF(S25<=Summary!K$3,S25,0) -> 0 | AF25: =IF(J25>0,RANK(J25,J:J,1),0) -> 24 | AG25: =IF(K25>0,RANK(K25,K:K,1),0) -> 17 | AH25: =IF(L25>0,RANK(L25,L:L,1),0) -> 39 | AI25: =IF(M25>0,RANK(M25,M:M,1),0) -> 43 | AJ25: =IF(N25>0,RANK(N25,N:N,1),0) -> 27 | AK25: =IF(O25>0,RANK(O25,O:O,1),0) -> 30 | AL25: =IF(P25>0,RANK(P25,P:P,1),0) -> 6 | AM25: =IF(Q25>0,RANK(Q25,Q:Q,1),0) -> 47 | AN25: =IF(R25>0,RANK(R25,R:R,1),0) -> 65 | AO25: =IF(S25>0,RANK(S25,S:S,1),0) -> 26 | AQ25: =IF(AND(AF25<=Summary!B$6,AF25>0),25*(Summary!B$6+1-AF25)/Summary!B$6,0) -> 19.25 | AR25: =IF(AND(AG25<=Summary!C$6,AG25>0),25*(Summary!C$6+1-AG25)/Summary!C$6,0) -> 21 | AS25: =IF(AND(AH25<=Summary!D$6,AH25>0),25*(Summary!D$6+1-AH25)/Summary!D$6,0) -> 15.5 | AT25: =IF(AND(AI25<=Summary!E$6,AI25>0),25*(Summary!E$6+1-AI25)/Summary!E$6,0) -> 14.5 | AU25: =IF(AND(AJ25<=Summary!F$6,AJ25>0),25*(Summary!F$6+1-AJ25)/Summary!F$6,0) -> 18.5 | AV25: =IF(AND(AK25<=Summary!G$6,AK25>0),25*(Summary!G$6+1-AK25)/Summary!G$6,0) -> 17.75 | AW25: =IF(AND(AL25<=Summary!H$6,AL25>0),25*(Summary!H$6+1-AL25)/Summary!H$6,0) -> 23.75 | AX25: =IF(AND(AM25<=Summary!I$6,AM25>0),25*(Summary!I$6+1-AM25)/Summary!I$6,0) -> 13.5 | ... AZ25: =IF(AND(AO25<=Summary!K$6,AO25>0),25*(Summary!K$6+1-AO25)/Summary!K$6,0) -> 18.75 | BB25: =IF(AND(U25>0,U25<=Summary!B$9),12.5 + 12.5 * (U25 - Summary!B$9) / (Summary!B$7 - Summary!B$9),0) -> 20.605939 | BC25: =IF(AND(V25>0,V25<=Summary!C$9),12.5 + 12.5 * (V25 - Summary!C$9) / (Summary!C$7 - Summary!C$9),0) -> 21.813855 | BD25: =IF(AND(W25>0,W25<=Summary!D$9),12.5 + 12.5 * (W25 - Summary!D$9) / (Summary!D$7 - Summary!D$9),0) -> 14.208206 | BE25: =IF(AND(X25>0,X25<=Summary!E$9),12.5 + 12.5 * (X25 - Summary!E$9) / (Summary!E$7 - Summary!E$9),0) -> 14.044944 | BF25: =IF(AND(Y25>0,Y25<=Summary!F$9),12.5 + 12.5 * (Y25 - Summary!F$9) / (Summary!F$7 - Summary!F$9),0) -> 12.5 | BG25: =IF(AND(Z25>0,Z25<=Summary!G$9),12.5 + 12.5 * (Z25 - Summary!G$9) / (Summary!G$7 - Summary!G$9),0) -> 16.428571 | BH25: =IF(AND(AA25>0,AA25<=Summary!H$9),12.5 + 12.5 * (AA25 - Summary!H$9) / (Summary!H$7 - Summary!H$9),0) -> 19.75417 | BI25: =IF(AND(AB25>0,AB25<=Summary!I$9),12.5 + 12.5 * (AB25 - Summary!I$9) / (Summary!I$7 - Summary!I$9),0) -> 0 | ... BK25: =IF(AND(AD25>0,AD25<=Summary!K$9),12.5 + 12.5 * (AD25 - Summary!K$9) / (Summary!K$7 - Summary!K$9),0) -> 0 | BM25: =IF(AND(U25>0,U25>Summary!B$9),12.5 - 12.5 * (U25 - Summary!B$9) / (Summary!B$3 - Summary!B$9),0) -> 0 | BN25: =IF(AND(V25>0,V25>Summary!C$9),12.5 - 12.5 * (V25 - Summary!C$9) / (Summary!C$3 - Summary!C$9),0) -> 0 | BO25: =IF(AND(W25>0,W25>Summary!D$9),12.5 - 12.5 * (W25 - Summary!D$9) / (Summary!D$3 - Summary!D$9),0) -> 0 | BP25: =IF(AND(X25>0,X25>Summary!E$9),12.5 - 12.5 * (X25 - Summary!E$9) / (Summary!E$3 - Summary!E$9),0) -> 0 | BQ25: =IF(AND(Y25>0,Y25>Summary!F$9),12.5 - 12.5 * (Y25 - Summary!F$9) / (Summary!F$3 - Summary!F$9),0) -> 0 | BR25: =IF(AND(Z25>0,Z25>Summary!G$9),12.5 - 12.5 * (Z25 - Summary!G$9) / (Summary!G$3 - Summary!G$9),0) -> 0 | BS25: =IF(AND(AA25>0,AA25>Summary!H$9),12.5 - 12.5 * (AA25 - Summary!H$9) / (Summary!H$3 - Summary!H$9),0) -> 0 | BT25: =IF(AND(AB25>0,AB25>Summary!I$9),12.5 - 12.5 * (AB25 - Summary!I$9) / (Summary!I$3 - Summary!I$9),0) -> 7.4827487 | ... BV25: =IF(AND(AD25>0,AD25>Summary!K$9),12.5 - 12.5 * (AD25 - Summary!K$9) / (Summary!K$3 - Summary!K$9),0) -> 0 | BX25: =J25/60 -> 15.25 | BY25: =K25/60 -> 14.45 | BZ25: =L25/60 -> 35.083333 | CA25: =M25/60 -> 44.183333 | CB25: =N25/60 -> 49.933333 | CC25: =O25/60 -> 38.1 | CD25: =P25/60 -> 44.083333 | CE25: =Q25/60 -> 72.65 | ... CG25: =S25/60 -> 109.01667 | CI25: =AQ25+BB25+BM25 -> 39.855939 | CJ25: =AR25+BC25+BN25 -> 42.813855 | CK25: =AS25+BD25+BO25 -> 29.708206 | CL25: =AT25+BE25+BP25 -> 28.544944 | CM25: =AU25+BF25+BQ25 -> 31 | CN25: =AV25+BG25+BR25 -> 34.178571 | CO25: =AW25+BH25+BS25 -> 43.50417 | CP25: =AX25+BI25+BT25 -> 20.982749 | ... CR25: =AZ25+BK25+BV25 -> 18.75 | CT25: =MIN(CI25:CR25) -> 9 | CU25: =SMALL(CI25:CR25,2) -> 18.75 | CV25: =SUM(CI25:CR25)-CT25-CU25 -> 270.58843 | CW25: =50*MIN(8,COUNTIF(J25:S25,">0")) -> 400 | CX25: =CW25+CV25 -> 670.58843 | CZ25: =G25 -> 621.90066 | DA25: =A25 -> 21
A26: 22 | B26: tamz29 | C26: Tawan Sunathvanichkul | D26: Thailand | E26: 215.28396 | F26: 8/8/10 | G26: 615.28396 | H26: 18441 | J26: 1423 | K26: 752 | L26: 2376 | M26: 1758 | N26: 2911 | O26: 3015 | Q26: 2642 | R26: 3564 | U26: =IF(J26<=Summary!B$3,J26,0) -> 1423 | V26: =IF(K26<=Summary!C$3,K26,0) -> 752 | W26: =IF(L26<=Summary!D$3,L26,0) -> 2376 | X26: =IF(M26<=Summary!E$3,M26,0) -> 1758 | Y26: =IF(N26<=Summary!F$3,N26,0) -> 2911 | Z26: =IF(O26<=Summary!G$3,O26,0) -> 3015 | AA26: =IF(P26<=Summary!H$3,P26,0) -> 0 | AB26: =IF(Q26<=Summary!I$3,Q26,0) -> 2642 | ... AD26: =IF(S26<=Summary!K$3,S26,0) -> 0 | AF26: =IF(J26>0,RANK(J26,J:J,1),0) -> 75 | AG26: =IF(K26>0,RANK(K26,K:K,1),0) -> 7 | AH26: =IF(L26>0,RANK(L26,L:L,1),0) -> 46 | AI26: =IF(M26>0,RANK(M26,M:M,1),0) -> 9 | AJ26: =IF(N26>0,RANK(N26,N:N,1),0) -> 24 | AK26: =IF(O26>0,RANK(O26,O:O,1),0) -> 66 | AL26: =IF(P26>0,RANK(P26,P:P,1),0) -> 0 | AM26: =IF(Q26>0,RANK(Q26,Q:Q,1),0) -> 11 | AN26: =IF(R26>0,RANK(R26,R:R,1),0) -> 18 | AO26: =IF(S26>0,RANK(S26,S:S,1),0) -> 0 | AQ26: =IF(AND(AF26<=Summary!B$6,AF26>0),25*(Summary!B$6+1-AF26)/Summary!B$6,0) -> 6.5 | AR26: =IF(AND(AG26<=Summary!C$6,AG26>0),25*(Summary!C$6+1-AG26)/Summary!C$6,0) -> 23.5 | AS26: =IF(AND(AH26<=Summary!D$6,AH26>0),25*(Summary!D$6+1-AH26)/Summary!D$6,0) -> 13.75 | AT26: =IF(AND(AI26<=Summary!E$6,AI26>0),25*(Summary!E$6+1-AI26)/Summary!E$6,0) -> 23 | AU26: =IF(AND(AJ26<=Summary!F$6,AJ26>0),25*(Summary!F$6+1-AJ26)/Summary!F$6,0) -> 19.25 | AV26: =IF(AND(AK26<=Summary!G$6,AK26>0),25*(Summary!G$6+1-AK26)/Summary!G$6,0) -> 8.75 | AW26: =IF(AND(AL26<=Summary!H$6,AL26>0),25*(Summary!H$6+1-AL26)/Summary!H$6,0) -> 0 | AX26: =IF(AND(AM26<=Summary!I$6,AM26>0),25*(Summary!I$6+1-AM26)/Summary!I$6,0) -> 22.5 | ... AZ26: =IF(AND(AO26<=Summary!K$6,AO26>0),25*(Summary!K$6+1-AO26)/Summary!K$6,0) -> 0 | BB26: =IF(AND(U26>0,U26<=Summary!B$9),12.5 + 12.5 * (U26 - Summary!B$9) / (Summary!B$7 - Summary!B$9),0) -> 15.509631 | BC26: =IF(AND(V26>0,V26<=Summary!C$9),12.5 + 12.5 * (V26 - Summary!C$9) / (Summary!C$7 - Summary!C$9),0) -> 23.334215 | BD26: =IF(AND(W26>0,W26<=Summary!D$9),12.5 + 12.5 * (W26 - Summary!D$9) / (Summary!D$7 - Summary!D$9),0) -> 0 | BE26: =IF(AND(X26>0,X26<=Summary!E$9),12.5 + 12.5 * (X26 - Summary!E$9) / (Summary!E$7 - Summary!E$9),0) -> 20.017389 | BF26: =IF(AND(Y26>0,Y26<=Summary!F$9),12.5 + 12.5 * (Y26 - Summary!F$9) / (Summary!F$7 - Summary!F$9),0) -> 13.315426 | BG26: =IF(AND(Z26>0,Z26<=Summary!G$9),12.5 + 12.5 * (Z26 - Summary!G$9) / (Summary!G$7 - Summary!G$9),0) -> 0 | BH26: =IF(AND(AA26>0,AA26<=Summary!H$9),12.5 + 12.5 * (AA26 - Summary!H$9) / (Summary!H$7 - Summary!H$9),0) -> 0 | BI26: =IF(AND(AB26>0,AB26<=Summary!I$9),12.5 + 12.5 * (AB26 - Summary!I$9) / (Summary!I$7 - Summary!I$9),0) -> 21.020067 | ... BK26: =IF(AND(AD26>0,AD26<=Summary!K$9),12.5 + 12.5 * (AD26 - Summary!K$9) / (Summary!K$7 - Summary!K$9),0) -> 0 | BM26: =IF(AND(U26>0,U26>Summary!B$9),12.5 - 12.5 * (U26 - Summary!B$9) / (Summary!B$3 - Summary!B$9),0) -> 0 | BN26: =IF(AND(V26>0,V26>Summary!C$9),12.5 - 12.5 * (V26 - Summary!C$9) / (Summary!C$3 - Summary!C$9),0) -> 0 | BO26: =IF(AND(W26>0,W26>Summary!D$9),12.5 - 12.5 * (W26 - Summary!D$9) / (Summary!D$3 - Summary!D$9),0) -> 11.828373 | BP26: =IF(AND(X26>0,X26>Summary!E$9),12.5 - 12.5 * (X26 - Summary!E$9) / (Summary!E$3 - Summary!E$9),0) -> 0 | BQ26: =IF(AND(Y26>0,Y26>Summary!F$9),12.5 - 12.5 * (Y26 - Summary!F$9) / (Summary!F$3 - Summary!F$9),0) -> 0 | BR26: =IF(AND(Z26>0,Z26>Summary!G$9),12.5 - 12.5 * (Z26 - Summary!G$9) / (Summary!G$3 - Summary!G$9),0) -> 11.04582 | BS26: =IF(AND(AA26>0,AA26>Summary!H$9),12.5 - 12.5 * (AA26 - Summary!H$9) / (Summary!H$3 - Summary!H$9),0) -> 0 | BT26: =IF(AND(AB26>0,AB26>Summary!I$9),12.5 - 12.5 * (AB26 - Summary!I$9) / (Summary!I$3 - Summary!I$9),0) -> 0 | ... BV26: =IF(AND(AD26>0,AD26>Summary!K$9),12.5 - 12.5 * (AD26 - Summary!K$9) / (Summary!K$3 - Summary!K$9),0) -> 0 | BX26: =J26/60 -> 23.716667 | BY26: =K26/60 -> 12.533333 | BZ26: =L26/60 -> 39.6 | CA26: =M26/60 -> 29.3 | CB26: =N26/60 -> 48.516667 | CC26: =O26/60 -> 50.25 | CD26: =P26/60 -> 0 | CE26: =Q26/60 -> 44.033333 | ... CG26: =S26/60 -> 0 | CI26: =AQ26+BB26+BM26 -> 22.009631 | CJ26: =AR26+BC26+BN26 -> 46.834215 | CK26: =AS26+BD26+BO26 -> 25.578373 | CL26: =AT26+BE26+BP26 -> 43.017389 | CM26: =AU26+BF26+BQ26 -> 32.565426 | CN26: =AV26+BG26+BR26 -> 19.79582 | CO26: =AW26+BH26+BS26 -> 0 | CP26: =AX26+BI26+BT26 -> 43.520067 | ... CR26: =AZ26+BK26+BV26 -> 0 | CT26: =MIN(CI26:CR26) -> 0 | CU26: =SMALL(CI26:CR26,2) -> 0 | CV26: =SUM(CI26:CR26)-CT26-CU26 -> 270.05023 | CW26: =50*MIN(8,COUNTIF(J26:S26,">0")) -> 400 | CX26: =CW26+CV26 -> 670.05023 | CZ26: =G26 -> 615.28396 | DA26: =A26 -> 22
A27: 23 | B27: TiiT | C27: Tiit Vunk | D27: Estonia | E27: 211.73761 | F27: 6/10/10 | G27: 611.73761 | H27: 32118 | J27: 1061 | K27: 966 | L27: 4135 | M27: 1604 | N27: 2658 | O27: 1634 | P27: 3274 | Q27: 4572 | R27: 6154 | S27: 6060 | U27: =IF(J27<=Summary!B$3,J27,0) -> 1061 | V27: =IF(K27<=Summary!C$3,K27,0) -> 966 | W27: =IF(L27<=Summary!D$3,L27,0) -> 0 | X27: =IF(M27<=Summary!E$3,M27,0) -> 1604 | Y27: =IF(N27<=Summary!F$3,N27,0) -> 2658 | Z27: =IF(O27<=Summary!G$3,O27,0) -> 1634 | AA27: =IF(P27<=Summary!H$3,P27,0) -> 3274 | AB27: =IF(Q27<=Summary!I$3,Q27,0) -> 4572 | ... AD27: =IF(S27<=Summary!K$3,S27,0) -> 0 | AF27: =IF(J27>0,RANK(J27,J:J,1),0) -> 42 | AG27: =IF(K27>0,RANK(K27,K:K,1),0) -> 29 | AH27: =IF(L27>0,RANK(L27,L:L,1),0) -> 96 | AI27: =IF(M27>0,RANK(M27,M:M,1),0) -> 6 | AJ27: =IF(N27>0,RANK(N27,N:N,1),0) -> 17 | AK27: =IF(O27>0,RANK(O27,O:O,1),0) -> 10 | AL27: =IF(P27>0,RANK(P27,P:P,1),0) -> 14 | AM27: =IF(Q27>0,RANK(Q27,Q:Q,1),0) -> 52 | AN27: =IF(R27>0,RANK(R27,R:R,1),0) -> 59 | AO27: =IF(S27>0,RANK(S27,S:S,1),0) -> 23 | AQ27: =IF(AND(AF27<=Summary!B$6,AF27>0),25*(Summary!B$6+1-AF27)/Summary!B$6,0) -> 14.75 | AR27: =IF(AND(AG27<=Summary!C$6,AG27>0),25*(Summary!C$6+1-AG27)/Summary!C$6,0) -> 18 | AS27: =IF(AND(AH27<=Summary!D$6,AH27>0),25*(Summary!D$6+1-AH27)/Summary!D$6,0) -> 1.25 | AT27: =IF(AND(AI27<=Summary!E$6,AI27>0),25*(Summary!E$6+1-AI27)/Summary!E$6,0) -> 23.75 | AU27: =IF(AND(AJ27<=Summary!F$6,AJ27>0),25*(Summary!F$6+1-AJ27)/Summary!F$6,0) -> 21 | AV27: =IF(AND(AK27<=Summary!G$6,AK27>0),25*(Summary!G$6+1-AK27)/Summary!G$6,0) -> 22.75 | AW27: =IF(AND(AL27<=Summary!H$6,AL27>0),25*(Summary!H$6+1-AL27)/Summary!H$6,0) -> 21.75 | AX27: =IF(AND(AM27<=Summary!I$6,AM27>0),25*(Summary!I$6+1-AM27)/Summary!I$6,0) -> 12.25 | ... AZ27: =IF(AND(AO27<=Summary!K$6,AO27>0),25*(Summary!K$6+1-AO27)/Summary!K$6,0) -> 19.5 | BB27: =IF(AND(U27>0,U27<=Summary!B$9),12.5 + 12.5 * (U27 - Summary!B$9) / (Summary!B$7 - Summary!B$9),0) -> 19.141252 | BC27: =IF(AND(V27>0,V27<=Summary!C$9),12.5 + 12.5 * (V27 - Summary!C$9) / (Summary!C$7 - Summary!C$9),0) -> 20.505024 | BD27: =IF(AND(W27>0,W27<=Summary!D$9),12.5 + 12.5 * (W27 - Summary!D$9) / (Summary!D$7 - Summary!D$9),0) -> 0 | BE27: =IF(AND(X27>0,X27<=Summary!E$9),12.5 + 12.5 * (X27 - Summary!E$9) / (Summary!E$7 - Summary!E$9),0) -> 21.047352 | BF27: =IF(AND(Y27>0,Y27<=Summary!F$9),12.5 + 12.5 * (Y27 - Summary!F$9) / (Summary!F$7 - Summary!F$9),0) -> 15.742517 | BG27: =IF(AND(Z27>0,Z27<=Summary!G$9),12.5 + 12.5 * (Z27 - Summary!G$9) / (Summary!G$7 - Summary!G$9),0) -> 21.22975 | BH27: =IF(AND(AA27>0,AA27<=Summary!H$9),12.5 + 12.5 * (AA27 - Summary!H$9) / (Summary!H$7 - Summary!H$9),0) -> 15.15218 | BI27: =IF(AND(AB27>0,AB27<=Summary!I$9),12.5 + 12.5 * (AB27 - Summary!I$9) / (Summary!I$7 - Summary!I$9),0) -> 0 | ... BK27: =IF(AND(AD27>0,AD27<=Summary!K$9),12.5 + 12.5 * (AD27 - Summary!K$9) / (Summary!K$7 - Summary!K$9),0) -> 0 | BM27: =IF(AND(U27>0,U27>Summary!B$9),12.5 - 12.5 * (U27 - Summary!B$9) / (Summary!B$3 - Summary!B$9),0) -> 0 | BN27: =IF(AND(V27>0,V27>Summary!C$9),12.5 - 12.5 * (V27 - Summary!C$9) / (Summary!C$3 - Summary!C$9),0) -> 0 | BO27: =IF(AND(W27>0,W27>Summary!D$9),12.5 - 12.5 * (W27 - Summary!D$9) / (Summary!D$3 - Summary!D$9),0) -> 0 | BP27: =IF(AND(X27>0,X27>Summary!E$9),12.5 - 12.5 * (X27 - Summary!E$9) / (Summary!E$3 - Summary!E$9),0) -> 0 | BQ27: =IF(AND(Y27>0,Y27>Summary!F$9),12.5 - 12.5 * (Y27 - Summary!F$9) / (Summary!F$3 - Summary!F$9),0) -> 0 | BR27: =IF(AND(Z27>0,Z27>Summary!G$9),12.5 - 12.5 * (Z27 - Summary!G$9) / (Summary!G$3 - Summary!G$9),0) -> 0 | BS27: =IF(AND(AA27>0,AA27>Summary!H$9),12.5 - 12.5 * (AA27 - Summary!H$9) / (Summary!H$3 - Summary!H$9),0) -> 0 | BT27: =IF(AND(AB27>0,AB27>Summary!I$9),12.5 - 12.5 * (AB27 - Summary!I$9) / (Summary!I$3 - Summary!I$9),0) -> 5.9516964 | ... BV27: =IF(AND(AD27>0,AD27>Summary!K$9),12.5 - 12.5 * (AD27 - Summary!K$9) / (Summary!K$3 - Summary!K$9),0) -> 0 | BX27: =J27/60 -> 17.683333 | BY27: =K27/60 -> 16.1 | BZ27: =L27/60 -> 68.916667 | CA27: =M27/60 -> 26.733333 | CB27: =N27/60 -> 44.3 | CC27: =O27/60 -> 27.233333 | CD27: =P27/60 -> 54.566667 | CE27: =Q27/60 -> 76.2 | ... CG27: =S27/60 -> 101 | CI27: =AQ27+BB27+BM27 -> 33.891252 | CJ27: =AR27+BC27+BN27 -> 38.505024 | CK27: =AS27+BD27+BO27 -> 1.25 | CL27: =AT27+BE27+BP27 -> 44.797352 | CM27: =AU27+BF27+BQ27 -> 36.742517 | CN27: =AV27+BG27+BR27 -> 43.97975 | CO27: =AW27+BH27+BS27 -> 36.90218 | CP27: =AX27+BI27+BT27 -> 18.201696 | ... CR27: =AZ27+BK27+BV27 -> 19.5 | CT27: =MIN(CI27:CR27) -> 1.25 | CU27: =SMALL(CI27:CR27,2) -> 10.5 | CV27: =SUM(CI27:CR27)-CT27-CU27 -> 272.51977 | CW27: =50*MIN(8,COUNTIF(J27:S27,">0")) -> 400 | CX27: =CW27+CV27 -> 672.51977 | CZ27: =G27 -> 611.73761 | DA27: =A27 -> 23
A28: 24 | B28: jacoblance | C28: Jack Lance | D28: USA | E28: 209.97877 | F28: 6/10/10 | G28: 609.97877 | H28: 163337 | J28: 693 | K28: 1094 | L28: 1589 | M28: 2381 | N28: 7367 | O28: 1515 | P28: 10318 | Q28: 3244 | R28: 3843 | S28: 131293 | U28: =IF(J28<=Summary!B$3,J28,0) -> 693 | V28: =IF(K28<=Summary!C$3,K28,0) -> 1094 | W28: =IF(L28<=Summary!D$3,L28,0) -> 1589 | X28: =IF(M28<=Summary!E$3,M28,0) -> 2381 | Y28: =IF(N28<=Summary!F$3,N28,0) -> 0 | Z28: =IF(O28<=Summary!G$3,O28,0) -> 1515 | AA28: =IF(P28<=Summary!H$3,P28,0) -> 0 | AB28: =IF(Q28<=Summary!I$3,Q28,0) -> 3244 | ... AD28: =IF(S28<=Summary!K$3,S28,0) -> 0 | AF28: =IF(J28>0,RANK(J28,J:J,1),0) -> 8 | AG28: =IF(K28>0,RANK(K28,K:K,1),0) -> 46 | AH28: =IF(L28>0,RANK(L28,L:L,1),0) -> 18 | AI28: =IF(M28>0,RANK(M28,M:M,1),0) -> 36 | AJ28: =IF(N28>0,RANK(N28,N:N,1),0) -> 99 | AK28: =IF(O28>0,RANK(O28,O:O,1),0) -> 6 | AL28: =IF(P28>0,RANK(P28,P:P,1),0) -> 66 | AM28: =IF(Q28>0,RANK(Q28,Q:Q,1),0) -> 24 | AN28: =IF(R28>0,RANK(R28,R:R,1),0) -> 21 | AO28: =IF(S28>0,RANK(S28,S:S,1),0) -> 109 | AQ28: =IF(AND(AF28<=Summary!B$6,AF28>0),25*(Summary!B$6+1-AF28)/Summary!B$6,0) -> 23.25 | AR28: =IF(AND(AG28<=Summary!C$6,AG28>0),25*(Summary!C$6+1-AG28)/Summary!C$6,0) -> 13.75 | AS28: =IF(AND(AH28<=Summary!D$6,AH28>0),25*(Summary!D$6+1-AH28)/Summary!D$6,0) -> 20.75 | AT28: =IF(AND(AI28<=Summary!E$6,AI28>0),25*(Summary!E$6+1-AI28)/Summary!E$6,0) -> 16.25 | AU28: =IF(AND(AJ28<=Summary!F$6,AJ28>0),25*(Summary!F$6+1-AJ28)/Summary!F$6,0) -> 0.5 | AV28: =IF(AND(AK28<=Summary!G$6,AK28>0),25*(Summary!G$6+1-AK28)/Summary!G$6,0) -> 23.75 | AW28: =IF(AND(AL28<=Summary!H$6,AL28>0),25*(Summary!H$6+1-AL28)/Summary!H$6,0) -> 8.75 | AX28: =IF(AND(AM28<=Summary!I$6,AM28>0),25*(Summary!I$6+1-AM28)/Summary!I$6,0) -> 19.25 | ... AZ28: =IF(AND(AO28<=Summary!K$6,AO28>0),25*(Summary!K$6+1-AO28)/Summary!K$6,0) -> 0 | BB28: =IF(AND(U28>0,U28<=Summary!B$9),12.5 + 12.5 * (U28 - Summary!B$9) / (Summary!B$7 - Summary!B$9),0) -> 22.833066 | BC28: =IF(AND(V28>0,V28<=Summary!C$9),12.5 + 12.5 * (V28 - Summary!C$9) / (Summary!C$7 - Summary!C$9),0) -> 18.812797 | BD28: =IF(AND(W28>0,W28<=Summary!D$9),12.5 + 12.5 * (W28 - Summary!D$9) / (Summary!D$7 - Summary!D$9),0) -> 18.58257 | BE28: =IF(AND(X28>0,X28<=Summary!E$9),12.5 + 12.5 * (X28 - Summary!E$9) / (Summary!E$7 - Summary!E$9),0) -> 15.850722 | BF28: =IF(AND(Y28>0,Y28<=Summary!F$9),12.5 + 12.5 * (Y28 - Summary!F$9) / (Summary!F$7 - Summary!F$9),0) -> 0 | BG28: =IF(AND(Z28>0,Z28<=Summary!G$9),12.5 + 12.5 * (Z28 - Summary!G$9) / (Summary!G$7 - Summary!G$9),0) -> 22.106038 | BH28: =IF(AND(AA28>0,AA28<=Summary!H$9),12.5 + 12.5 * (AA28 - Summary!H$9) / (Summary!H$7 - Summary!H$9),0) -> 0 | BI28: =IF(AND(AB28>0,AB28<=Summary!I$9),12.5 + 12.5 * (AB28 - Summary!I$9) / (Summary!I$7 - Summary!I$9),0) -> 15.986622 | ... BK28: =IF(AND(AD28>0,AD28<=Summary!K$9),12.5 + 12.5 * (AD28 - Summary!K$9) / (Summary!K$7 - Summary!K$9),0) -> 0 | BM28: =IF(AND(U28>0,U28>Summary!B$9),12.5 - 12.5 * (U28 - Summary!B$9) / (Summary!B$3 - Summary!B$9),0) -> 0 | BN28: =IF(AND(V28>0,V28>Summary!C$9),12.5 - 12.5 * (V28 - Summary!C$9) / (Summary!C$3 - Summary!C$9),0) -> 0 | BO28: =IF(AND(W28>0,W28>Summary!D$9),12.5 - 12.5 * (W28 - Summary!D$9) / (Summary!D$3 - Summary!D$9),0) -> 0 | BP28: =IF(AND(X28>0,X28>Summary!E$9),12.5 - 12.5 * (X28 - Summary!E$9) / (Summary!E$3 - Summary!E$9),0) -> 0 | BQ28: =IF(AND(Y28>0,Y28>Summary!F$9),12.5 - 12.5 * (Y28 - Summary!F$9) / (Summary!F$3 - Summary!F$9),0) -> 0 | BR28: =IF(AND(Z28>0,Z28>Summary!G$9),12.5 - 12.5 * (Z28 - Summary!G$9) / (Summary!G$3 - Summary!G$9),0) -> 0 | BS28: =IF(AND(AA28>0,AA28>Summary!H$9),12.5 - 12.5 * (AA28 - Summary!H$9) / (Summary!H$3 - Summary!H$9),0) -> 0 | BT28: =IF(AND(AB28>0,AB28>Summary!I$9),12.5 - 12.5 * (AB28 - Summary!I$9) / (Summary!I$3 - Summary!I$9),0) -> 0 | ... BV28: =IF(AND(AD28>0,AD28>Summary!K$9),12.5 - 12.5 * (AD28 - Summary!K$9) / (Summary!K$3 - Summary!K$9),0) -> 0 | BX28: =J28/60 -> 11.55 | BY28: =K28/60 -> 18.233333 | BZ28: =L28/60 -> 26.483333 | CA28: =M28/60 -> 39.683333 | CB28: =N28/60 -> 122.78333 | CC28: =O28/60 -> 25.25 | CD28: =P28/60 -> 171.96667 | CE28: =Q28/60 -> 54.066667 | ... CG28: =S28/60 -> 2188.2167 | CI28: =AQ28+BB28+BM28 -> 46.083066 | CJ28: =AR28+BC28+BN28 -> 32.562797 | CK28: =AS28+BD28+BO28 -> 39.33257 | CL28: =AT28+BE28+BP28 -> 32.100722 | CM28: =AU28+BF28+BQ28 -> 0.5 | CN28: =AV28+BG28+BR28 -> 45.856038 | CO28: =AW28+BH28+BS28 -> 8.75 | CP28: =AX28+BI28+BT28 -> 35.236622 | ... CR28: =AZ28+BK28+BV28 -> 0 | CT28: =MIN(CI28:CR28) -> 0 | CU28: =SMALL(CI28:CR28,2) -> 0.5 | CV28: =SUM(CI28:CR28)-CT28-CU28 -> 274.02714 | CW28: =50*MIN(8,COUNTIF(J28:S28,">0")) -> 400 | CX28: =CW28+CV28 -> 674.02714 | CZ28: =G28 -> 609.97877 | DA28: =A28 -> 24
A29: 25 | B29: WA1729 | C29: Walker Anderson | D29: USA | E29: 209.26339 | F29: 5/10/10 | G29: 609.26339 | H29: 321525 | J29: 626 | K29: 638 | L29: 1114 | M29: 2949 | N29: 1693 | O29: 49354 | P29: 7123 | Q29: 3916 | R29: 4222 | S29: 249890 | U29: =IF(J29<=Summary!B$3,J29,0) -> 626 | V29: =IF(K29<=Summary!C$3,K29,0) -> 638 | W29: =IF(L29<=Summary!D$3,L29,0) -> 1114 | X29: =IF(M29<=Summary!E$3,M29,0) -> 2949 | Y29: =IF(N29<=Summary!F$3,N29,0) -> 1693 | Z29: =IF(O29<=Summary!G$3,O29,0) -> 0 | AA29: =IF(P29<=Summary!H$3,P29,0) -> 0 | AB29: =IF(Q29<=Summary!I$3,Q29,0) -> 3916 | ... AD29: =IF(S29<=Summary!K$3,S29,0) -> 0 | AF29: =IF(J29>0,RANK(J29,J:J,1),0) -> 4 | AG29: =IF(K29>0,RANK(K29,K:K,1),0) -> 2 | AH29: =IF(L29>0,RANK(L29,L:L,1),0) -> 3 | AI29: =IF(M29>0,RANK(M29,M:M,1),0) -> 53 | AJ29: =IF(N29>0,RANK(N29,N:N,1),0) -> 1 | AK29: =IF(O29>0,RANK(O29,O:O,1),0) -> 183 | AL29: =IF(P29>0,RANK(P29,P:P,1),0) -> 54 | AM29: =IF(Q29>0,RANK(Q29,Q:Q,1),0) -> 38 | AN29: =IF(R29>0,RANK(R29,R:R,1),0) -> 29 | AO29: =IF(S29>0,RANK(S29,S:S,1),0) -> 118 | AQ29: =IF(AND(AF29<=Summary!B$6,AF29>0),25*(Summary!B$6+1-AF29)/Summary!B$6,0) -> 24.25 | AR29: =IF(AND(AG29<=Summary!C$6,AG29>0),25*(Summary!C$6+1-AG29)/Summary!C$6,0) -> 24.75 | AS29: =IF(AND(AH29<=Summary!D$6,AH29>0),25*(Summary!D$6+1-AH29)/Summary!D$6,0) -> 24.5 | AT29: =IF(AND(AI29<=Summary!E$6,AI29>0),25*(Summary!E$6+1-AI29)/Summary!E$6,0) -> 12 | AU29: =IF(AND(AJ29<=Summary!F$6,AJ29>0),25*(Summary!F$6+1-AJ29)/Summary!F$6,0) -> 25 | AV29: =IF(AND(AK29<=Summary!G$6,AK29>0),25*(Summary!G$6+1-AK29)/Summary!G$6,0) -> 0 | AW29: =IF(AND(AL29<=Summary!H$6,AL29>0),25*(Summary!H$6+1-AL29)/Summary!H$6,0) -> 11.75 | AX29: =IF(AND(AM29<=Summary!I$6,AM29>0),25*(Summary!I$6+1-AM29)/Summary!I$6,0) -> 15.75 | ... AZ29: =IF(AND(AO29<=Summary!K$6,AO29>0),25*(Summary!K$6+1-AO29)/Summary!K$6,0) -> 0 | BB29: =IF(AND(U29>0,U29<=Summary!B$9),12.5 + 12.5 * (U29 - Summary!B$9) / (Summary!B$7 - Summary!B$9),0) -> 23.505217 | BC29: =IF(AND(V29>0,V29<=Summary!C$9),12.5 + 12.5 * (V29 - Summary!C$9) / (Summary!C$7 - Summary!C$9),0) -> 24.841354 | BD29: =IF(AND(W29>0,W29<=Summary!D$9),12.5 + 12.5 * (W29 - Summary!D$9) / (Summary!D$7 - Summary!D$9),0) -> 22.609359 | BE29: =IF(AND(X29>0,X29<=Summary!E$9),12.5 + 12.5 * (X29 - Summary!E$9) / (Summary!E$7 - Summary!E$9),0) -> 0 | BF29: =IF(AND(Y29>0,Y29<=Summary!F$9),12.5 + 12.5 * (Y29 - Summary!F$9) / (Summary!F$7 - Summary!F$9),0) -> 25 | BG29: =IF(AND(Z29>0,Z29<=Summary!G$9),12.5 + 12.5 * (Z29 - Summary!G$9) / (Summary!G$7 - Summary!G$9),0) -> 0 | BH29: =IF(AND(AA29>0,AA29<=Summary!H$9),12.5 + 12.5 * (AA29 - Summary!H$9) / (Summary!H$7 - Summary!H$9),0) -> 0 | BI29: =IF(AND(AB29>0,AB29<=Summary!I$9),12.5 + 12.5 * (AB29 - Summary!I$9) / (Summary!I$7 - Summary!I$9),0) -> 0 | ... BK29: =IF(AND(AD29>0,AD29<=Summary!K$9),12.5 + 12.5 * (AD29 - Summary!K$9) / (Summary!K$7 - Summary!K$9),0) -> 0 | BM29: =IF(AND(U29>0,U29>Summary!B$9),12.5 - 12.5 * (U29 - Summary!B$9) / (Summary!B$3 - Summary!B$9),0) -> 0 | BN29: =IF(AND(V29>0,V29>Summary!C$9),12.5 - 12.5 * (V29 - Summary!C$9) / (Summary!C$3 - Summary!C$9),0) -> 0 | BO29: =IF(AND(W29>0,W29>Summary!D$9),12.5 - 12.5 * (W29 - Summary!D$9) / (Summary!D$3 - Summary!D$9),0) -> 0 | BP29: =IF(AND(X29>0,X29>Summary!E$9),12.5 - 12.5 * (X29 - Summary!E$9) / (Summary!E$3 - Summary!E$9),0) -> 11.982386 | BQ29: =IF(AND(Y29>0,Y29>Summary!F$9),12.5 - 12.5 * (Y29 - Summary!F$9) / (Summary!F$3 - Summary!F$9),0) -> 0 | BR29: =IF(AND(Z29>0,Z29>Summary!G$9),12.5 - 12.5 * (Z29 - Summary!G$9) / (Summary!G$3 - Summary!G$9),0) -> 0 | BS29: =IF(AND(AA29>0,AA29>Summary!H$9),12.5 - 12.5 * (AA29 - Summary!H$9) / (Summary!H$3 - Summary!H$9),0) -> 0 | BT29: =IF(AND(AB29>0,AB29>Summary!I$9),12.5 - 12.5 * (AB29 - Summary!I$9) / (Summary!I$3 - Summary!I$9),0) -> 10.66705 | ... BV29: =IF(AND(AD29>0,AD29>Summary!K$9),12.5 - 12.5 * (AD29 - Summary!K$9) / (Summary!K$3 - Summary!K$9),0) -> 0 | BX29: =J29/60 -> 10.433333 | BY29: =K29/60 -> 10.633333 | BZ29: =L29/60 -> 18.566667 | CA29: =M29/60 -> 49.15 | CB29: =N29/60 -> 28.216667 | CC29: =O29/60 -> 822.56667 | CD29: =P29/60 -> 118.71667 | CE29: =Q29/60 -> 65.266667 | ... CG29: =S29/60 -> 4164.8333 | CI29: =AQ29+BB29+BM29 -> 47.755217 | CJ29: =AR29+BC29+BN29 -> 49.591354 | CK29: =AS29+BD29+BO29 -> 47.109359 | CL29: =AT29+BE29+BP29 -> 23.982386 | CM29: =AU29+BF29+BQ29 -> 50 | CN29: =AV29+BG29+BR29 -> 0 | CO29: =AW29+BH29+BS29 -> 11.75 | CP29: =AX29+BI29+BT29 -> 26.41705 | ... CR29: =AZ29+BK29+BV29 -> 0 | CT29: =MIN(CI29:CR29) -> 0 | CU29: =SMALL(CI29:CR29,2) -> 0 | CV29: =SUM(CI29:CR29)-CT29-CU29 -> 285.7776 | CW29: =50*MIN(8,COUNTIF(J29:S29,">0")) -> 400 | CX29: =CW29+CV29 -> 685.7776 | CZ29: =G29 -> 609.26339 | DA29: =A29 -> 25
A30: 26 | B30: Calavera | C30: Nils Miehe | D30: Germany | E30: 209.09328 | F30: 6/10/10 | G30: 609.09328 | H30: 30186 | J30: 882 | K30: 1017 | L30: 2003 | M30: 2065 | N30: 2405 | O30: 2597 | P30: 4427 | Q30: 4760 | R30: 4039 | S30: 5991 | U30: =IF(J30<=Summary!B$3,J30,0) -> 882 | V30: =IF(K30<=Summary!C$3,K30,0) -> 1017 | W30: =IF(L30<=Summary!D$3,L30,0) -> 2003 | X30: =IF(M30<=Summary!E$3,M30,0) -> 2065 | Y30: =IF(N30<=Summary!F$3,N30,0) -> 2405 | Z30: =IF(O30<=Summary!G$3,O30,0) -> 2597 | AA30: =IF(P30<=Summary!H$3,P30,0) -> 4427 | AB30: =IF(Q30<=Summary!I$3,Q30,0) -> 4760 | ... AD30: =IF(S30<=Summary!K$3,S30,0) -> 0 | AF30: =IF(J30>0,RANK(J30,J:J,1),0) -> 23 | AG30: =IF(K30>0,RANK(K30,K:K,1),0) -> 35 | AH30: =IF(L30>0,RANK(L30,L:L,1),0) -> 36 | AI30: =IF(M30>0,RANK(M30,M:M,1),0) -> 22 | AJ30: =IF(N30>0,RANK(N30,N:N,1),0) -> 8 | AK30: =IF(O30>0,RANK(O30,O:O,1),0) -> 47 | AL30: =IF(P30>0,RANK(P30,P:P,1),0) -> 31 | AM30: =IF(Q30>0,RANK(Q30,Q:Q,1),0) -> 56 | AN30: =IF(R30>0,RANK(R30,R:R,1),0) -> 25 | AO30: =IF(S30>0,RANK(S30,S:S,1),0) -> 22 | AQ30: =IF(AND(AF30<=Summary!B$6,AF30>0),25*(Summary!B$6+1-AF30)/Summary!B$6,0) -> 19.5 | AR30: =IF(AND(AG30<=Summary!C$6,AG30>0),25*(Summary!C$6+1-AG30)/Summary!C$6,0) -> 16.5 | AS30: =IF(AND(AH30<=Summary!D$6,AH30>0),25*(Summary!D$6+1-AH30)/Summary!D$6,0) -> 16.25 | AT30: =IF(AND(AI30<=Summary!E$6,AI30>0),25*(Summary!E$6+1-AI30)/Summary!E$6,0) -> 19.75 | AU30: =IF(AND(AJ30<=Summary!F$6,AJ30>0),25*(Summary!F$6+1-AJ30)/Summary!F$6,0) -> 23.25 | AV30: =IF(AND(AK30<=Summary!G$6,AK30>0),25*(Summary!G$6+1-AK30)/Summary!G$6,0) -> 13.5 | AW30: =IF(AND(AL30<=Summary!H$6,AL30>0),25*(Summary!H$6+1-AL30)/Summary!H$6,0) -> 17.5 | AX30: =IF(AND(AM30<=Summary!I$6,AM30>0),25*(Summary!I$6+1-AM30)/Summary!I$6,0) -> 11.25 | ... AZ30: =IF(AND(AO30<=Summary!K$6,AO30>0),25*(Summary!K$6+1-AO30)/Summary!K$6,0) -> 19.75 | BB30: =IF(AND(U30>0,U30<=Summary!B$9),12.5 + 12.5 * (U30 - Summary!B$9) / (Summary!B$7 - Summary!B$9),0) -> 20.936998 | BC30: =IF(AND(V30>0,V30<=Summary!C$9),12.5 + 12.5 * (V30 - Summary!C$9) / (Summary!C$7 - Summary!C$9),0) -> 19.830777 | BD30: =IF(AND(W30>0,W30<=Summary!D$9),12.5 + 12.5 * (W30 - Summary!D$9) / (Summary!D$7 - Summary!D$9),0) -> 15.072906 | BE30: =IF(AND(X30>0,X30<=Summary!E$9),12.5 + 12.5 * (X30 - Summary!E$9) / (Summary!E$7 - Summary!E$9),0) -> 17.964152 | BF30: =IF(AND(Y30>0,Y30<=Summary!F$9),12.5 + 12.5 * (Y30 - Summary!F$9) / (Summary!F$7 - Summary!F$9),0) -> 18.169609 | BG30: =IF(AND(Z30>0,Z30<=Summary!G$9),12.5 + 12.5 * (Z30 - Summary!G$9) / (Summary!G$7 - Summary!G$9),0) -> 14.138439 | BH30: =IF(AND(AA30>0,AA30<=Summary!H$9),12.5 + 12.5 * (AA30 - Summary!H$9) / (Summary!H$7 - Summary!H$9),0) -> 0 | BI30: =IF(AND(AB30>0,AB30<=Summary!I$9),12.5 + 12.5 * (AB30 - Summary!I$9) / (Summary!I$7 - Summary!I$9),0) -> 0 | ... BK30: =IF(AND(AD30>0,AD30<=Summary!K$9),12.5 + 12.5 * (AD30 - Summary!K$9) / (Summary!K$7 - Summary!K$9),0) -> 0 | BM30: =IF(AND(U30>0,U30>Summary!B$9),12.5 - 12.5 * (U30 - Summary!B$9) / (Summary!B$3 - Summary!B$9),0) -> 0 | BN30: =IF(AND(V30>0,V30>Summary!C$9),12.5 - 12.5 * (V30 - Summary!C$9) / (Summary!C$3 - Summary!C$9),0) -> 0 | BO30: =IF(AND(W30>0,W30>Summary!D$9),12.5 - 12.5 * (W30 - Summary!D$9) / (Summary!D$3 - Summary!D$9),0) -> 0 | BP30: =IF(AND(X30>0,X30>Summary!E$9),12.5 - 12.5 * (X30 - Summary!E$9) / (Summary!E$3 - Summary!E$9),0) -> 0 | BQ30: =IF(AND(Y30>0,Y30>Summary!F$9),12.5 - 12.5 * (Y30 - Summary!F$9) / (Summary!F$3 - Summary!F$9),0) -> 0 | BR30: =IF(AND(Z30>0,Z30>Summary!G$9),12.5 - 12.5 * (Z30 - Summary!G$9) / (Summary!G$3 - Summary!G$9),0) -> 0 | BS30: =IF(AND(AA30>0,AA30>Summary!H$9),12.5 - 12.5 * (AA30 - Summary!H$9) / (Summary!H$3 - Summary!H$9),0) -> 6.8967961 | BT30: =IF(AND(AB30>0,AB30>Summary!I$9),12.5 - 12.5 * (AB30 - Summary!I$9) / (Summary!I$3 - Summary!I$9),0) -> 4.600345 | ... BV30: =IF(AND(AD30>0,AD30>Summary!K$9),12.5 - 12.5 * (AD30 - Summary!K$9) / (Summary!K$3 - Summary!K$9),0) -> 0 | BX30: =J30/60 -> 14.7 | BY30: =K30/60 -> 16.95 | BZ30: =L30/60 -> 33.383333 | CA30: =M30/60 -> 34.416667 | CB30: =N30/60 -> 40.083333 | CC30: =O30/60 -> 43.283333 | CD30: =P30/60 -> 73.783333 | CE30: =Q30/60 -> 79.333333 | ... CG30: =S30/60 -> 99.85 | CI30: =AQ30+BB30+BM30 -> 40.436998 | CJ30: =AR30+BC30+BN30 -> 36.330777 | CK30: =AS30+BD30+BO30 -> 31.322906 | CL30: =AT30+BE30+BP30 -> 37.714152 | CM30: =AU30+BF30+BQ30 -> 41.419609 | CN30: =AV30+BG30+BR30 -> 27.638439 | CO30: =AW30+BH30+BS30 -> 24.396796 | CP30: =AX30+BI30+BT30 -> 15.850345 | ... CR30: =AZ30+BK30+BV30 -> 19.75 | CT30: =MIN(CI30:CR30) -> 15.850345 | CU30: =SMALL(CI30:CR30,2) -> 19.75 | CV30: =SUM(CI30:CR30)-CT30-CU30 -> 271.0485 | CW30: =50*MIN(8,COUNTIF(J30:S30,">0")) -> 400 | CX30: =CW30+CV30 -> 671.0485 | CZ30: =G30 -> 609.09328 | DA30: =A30 -> 26
A31: 27 | B31: ppeetteerr | C31: Peter Hudak | D31: Slovakia | E31: 206.59137 | F31: 7/8/9 | G31: 606.59137 | H31: 18714 | J31: 676 | K31: 1006 | L31: 2073 | M31: 1981 | N31: 3099 | O31: 2821 | P31: 3141 | Q31: 3917 | U31: =IF(J31<=Summary!B$3,J31,0) -> 676 | V31: =IF(K31<=Summary!C$3,K31,0) -> 1006 | W31: =IF(L31<=Summary!D$3,L31,0) -> 2073 | X31: =IF(M31<=Summary!E$3,M31,0) -> 1981 | Y31: =IF(N31<=Summary!F$3,N31,0) -> 3099 | Z31: =IF(O31<=Summary!G$3,O31,0) -> 2821 | AA31: =IF(P31<=Summary!H$3,P31,0) -> 3141 | AB31: =IF(Q31<=Summary!I$3,Q31,0) -> 3917 | ... AD31: =IF(S31<=Summary!K$3,S31,0) -> 0 | AF31: =IF(J31>0,RANK(J31,J:J,1),0) -> 6 | AG31: =IF(K31>0,RANK(K31,K:K,1),0) -> 34 | AH31: =IF(L31>0,RANK(L31,L:L,1),0) -> 37 | AI31: =IF(M31>0,RANK(M31,M:M,1),0) -> 18 | AJ31: =IF(N31>0,RANK(N31,N:N,1),0) -> 29 | AK31: =IF(O31>0,RANK(O31,O:O,1),0) -> 58 | AL31: =IF(P31>0,RANK(P31,P:P,1),0) -> 13 | AM31: =IF(Q31>0,RANK(Q31,Q:Q,1),0) -> 39 | AN31: =IF(R31>0,RANK(R31,R:R,1),0) -> 0 | AO31: =IF(S31>0,RANK(S31,S:S,1),0) -> 0 | AQ31: =IF(AND(AF31<=Summary!B$6,AF31>0),25*(Summary!B$6+1-AF31)/Summary!B$6,0) -> 23.75 | AR31: =IF(AND(AG31<=Summary!C$6,AG31>0),25*(Summary!C$6+1-AG31)/Summary!C$6,0) -> 16.75 | AS31: =IF(AND(AH31<=Summary!D$6,AH31>0),25*(Summary!D$6+1-AH31)/Summary!D$6,0) -> 16 | AT31: =IF(AND(AI31<=Summary!E$6,AI31>0),25*(Summary!E$6+1-AI31)/Summary!E$6,0) -> 20.75 | AU31: =IF(AND(AJ31<=Summary!F$6,AJ31>0),25*(Summary!F$6+1-AJ31)/Summary!F$6,0) -> 18 | AV31: =IF(AND(AK31<=Summary!G$6,AK31>0),25*(Summary!G$6+1-AK31)/Summary!G$6,0) -> 10.75 | AW31: =IF(AND(AL31<=Summary!H$6,AL31>0),25*(Summary!H$6+1-AL31)/Summary!H$6,0) -> 22 | AX31: =IF(AND(AM31<=Summary!I$6,AM31>0),25*(Summary!I$6+1-AM31)/Summary!I$6,0) -> 15.5 | ... AZ31: =IF(AND(AO31<=Summary!K$6,AO31>0),25*(Summary!K$6+1-AO31)/Summary!K$6,0) -> 0 | BB31: =IF(AND(U31>0,U31<=Summary!B$9),12.5 + 12.5 * (U31 - Summary!B$9) / (Summary!B$7 - Summary!B$9),0) -> 23.003612 | BC31: =IF(AND(V31>0,V31<=Summary!C$9),12.5 + 12.5 * (V31 - Summary!C$9) / (Summary!C$7 - Summary!C$9),0) -> 19.976203 | BD31: =IF(AND(W31>0,W31<=Summary!D$9),12.5 + 12.5 * (W31 - Summary!D$9) / (Summary!D$7 - Summary!D$9),0) -> 14.479485 | BE31: =IF(AND(X31>0,X31<=Summary!E$9),12.5 + 12.5 * (X31 - Summary!E$9) / (Summary!E$7 - Summary!E$9),0) -> 18.52595 | BF31: =IF(AND(Y31>0,Y31<=Summary!F$9),12.5 + 12.5 * (Y31 - Summary!F$9) / (Summary!F$7 - Summary!F$9),0) -> 0 | BG31: =IF(AND(Z31>0,Z31<=Summary!G$9),12.5 + 12.5 * (Z31 - Summary!G$9) / (Summary!G$7 - Summary!G$9),0) -> 0 | BH31: =IF(AND(AA31>0,AA31<=Summary!H$9),12.5 + 12.5 * (AA31 - Summary!H$9) / (Summary!H$7 - Summary!H$9),0) -> 16.125256 | BI31: =IF(AND(AB31>0,AB31<=Summary!I$9),12.5 + 12.5 * (AB31 - Summary!I$9) / (Summary!I$7 - Summary!I$9),0) -> 0 | ... BK31: =IF(AND(AD31>0,AD31<=Summary!K$9),12.5 + 12.5 * (AD31 - Summary!K$9) / (Summary!K$7 - Summary!K$9),0) -> 0 | BM31: =IF(AND(U31>0,U31>Summary!B$9),12.5 - 12.5 * (U31 - Summary!B$9) / (Summary!B$3 - Summary!B$9),0) -> 0 | BN31: =IF(AND(V31>0,V31>Summary!C$9),12.5 - 12.5 * (V31 - Summary!C$9) / (Summary!C$3 - Summary!C$9),0) -> 0 | BO31: =IF(AND(W31>0,W31>Summary!D$9),12.5 - 12.5 * (W31 - Summary!D$9) / (Summary!D$3 - Summary!D$9),0) -> 0 | BP31: =IF(AND(X31>0,X31>Summary!E$9),12.5 - 12.5 * (X31 - Summary!E$9) / (Summary!E$3 - Summary!E$9),0) -> 0 | BQ31: =IF(AND(Y31>0,Y31>Summary!F$9),12.5 - 12.5 * (Y31 - Summary!F$9) / (Summary!F$3 - Summary!F$9),0) -> 11.643949 | BR31: =IF(AND(Z31>0,Z31>Summary!G$9),12.5 - 12.5 * (Z31 - Summary!G$9) / (Summary!G$3 - Summary!G$9),0) -> 12.488843 | BS31: =IF(AND(AA31>0,AA31>Summary!H$9),12.5 - 12.5 * (AA31 - Summary!H$9) / (Summary!H$3 - Summary!H$9),0) -> 0 | BT31: =IF(AND(AB31>0,AB31>Summary!I$9),12.5 - 12.5 * (AB31 - Summary!I$9) / (Summary!I$3 - Summary!I$9),0) -> 10.659862 | ... BV31: =IF(AND(AD31>0,AD31>Summary!K$9),12.5 - 12.5 * (AD31 - Summary!K$9) / (Summary!K$3 - Summary!K$9),0) -> 0 | BX31: =J31/60 -> 11.266667 | BY31: =K31/60 -> 16.766667 | BZ31: =L31/60 -> 34.55 | CA31: =M31/60 -> 33.016667 | CB31: =N31/60 -> 51.65 | CC31: =O31/60 -> 47.016667 | CD31: =P31/60 -> 52.35 | CE31: =Q31/60 -> 65.283333 | ... CG31: =S31/60 -> 0 | CI31: =AQ31+BB31+BM31 -> 46.753612 | CJ31: =AR31+BC31+BN31 -> 36.726203 | CK31: =AS31+BD31+BO31 -> 30.479485 | CL31: =AT31+BE31+BP31 -> 39.27595 | CM31: =AU31+BF31+BQ31 -> 29.643949 | CN31: =AV31+BG31+BR31 -> 23.238843 | CO31: =AW31+BH31+BS31 -> 38.125256 | CP31: =AX31+BI31+BT31 -> 26.159862 | ... CR31: =AZ31+BK31+BV31 -> 0 | CT31: =MIN(CI31:CR31) -> 0 | CU31: =SMALL(CI31:CR31,2) -> 0 | CV31: =SUM(CI31:CR31)-CT31-CU31 -> 270.40316 | CW31: =50*MIN(8,COUNTIF(J31:S31,">0")) -> 400 | CX31: =CW31+CV31 -> 670.40316 | CZ31: =G31 -> 606.59137 | DA31: =A31 -> 27
A32: 28 | B32: EoHeongMat | C32: Choi yong seok | D32: South Korea | E32: 201.58792 | F32: 7/9/10 | G32: 601.58792 | H32: 28540 | J32: 792 | K32: 1031 | L32: 1480 | M32: 1856 | N32: 3555 | O32: 2682 | Q32: 3250 | R32: 4471 | S32: 9423 | U32: =IF(J32<=Summary!B$3,J32,0) -> 792 | V32: =IF(K32<=Summary!C$3,K32,0) -> 1031 | W32: =IF(L32<=Summary!D$3,L32,0) -> 1480 | X32: =IF(M32<=Summary!E$3,M32,0) -> 1856 | Y32: =IF(N32<=Summary!F$3,N32,0) -> 3555 | Z32: =IF(O32<=Summary!G$3,O32,0) -> 2682 | AA32: =IF(P32<=Summary!H$3,P32,0) -> 0 | AB32: =IF(Q32<=Summary!I$3,Q32,0) -> 3250 | ... AD32: =IF(S32<=Summary!K$3,S32,0) -> 0 | AF32: =IF(J32>0,RANK(J32,J:J,1),0) -> 15 | AG32: =IF(K32>0,RANK(K32,K:K,1),0) -> 37 | AH32: =IF(L32>0,RANK(L32,L:L,1),0) -> 16 | AI32: =IF(M32>0,RANK(M32,M:M,1),0) -> 11 | AJ32: =IF(N32>0,RANK(N32,N:N,1),0) -> 39 | AK32: =IF(O32>0,RANK(O32,O:O,1),0) -> 53 | AL32: =IF(P32>0,RANK(P32,P:P,1),0) -> 0 | AM32: =IF(Q32>0,RANK(Q32,Q:Q,1),0) -> 25 | AN32: =IF(R32>0,RANK(R32,R:R,1),0) -> 36 | AO32: =IF(S32>0,RANK(S32,S:S,1),0) -> 41 | AQ32: =IF(AND(AF32<=Summary!B$6,AF32>0),25*(Summary!B$6+1-AF32)/Summary!B$6,0) -> 21.5 | AR32: =IF(AND(AG32<=Summary!C$6,AG32>0),25*(Summary!C$6+1-AG32)/Summary!C$6,0) -> 16 | AS32: =IF(AND(AH32<=Summary!D$6,AH32>0),25*(Summary!D$6+1-AH32)/Summary!D$6,0) -> 21.25 | AT32: =IF(AND(AI32<=Summary!E$6,AI32>0),25*(Summary!E$6+1-AI32)/Summary!E$6,0) -> 22.5 | AU32: =IF(AND(AJ32<=Summary!F$6,AJ32>0),25*(Summary!F$6+1-AJ32)/Summary!F$6,0) -> 15.5 | AV32: =IF(AND(AK32<=Summary!G$6,AK32>0),25*(Summary!G$6+1-AK32)/Summary!G$6,0) -> 12 | AW32: =IF(AND(AL32<=Summary!H$6,AL32>0),25*(Summary!H$6+1-AL32)/Summary!H$6,0) -> 0 | AX32: =IF(AND(AM32<=Summary!I$6,AM32>0),25*(Summary!I$6+1-AM32)/Summary!I$6,0) -> 19 | ... AZ32: =IF(AND(AO32<=Summary!K$6,AO32>0),25*(Summary!K$6+1-AO32)/Summary!K$6,0) -> 15 | BB32: =IF(AND(U32>0,U32<=Summary!B$9),12.5 + 12.5 * (U32 - Summary!B$9) / (Summary!B$7 - Summary!B$9),0) -> 21.839888 | BC32: =IF(AND(V32>0,V32<=Summary!C$9),12.5 + 12.5 * (V32 - Summary!C$9) / (Summary!C$7 - Summary!C$9),0) -> 19.64569 | BD32: =IF(AND(W32>0,W32<=Summary!D$9),12.5 + 12.5 * (W32 - Summary!D$9) / (Summary!D$7 - Summary!D$9),0) -> 19.506612 | BE32: =IF(AND(X32>0,X32<=Summary!E$9),12.5 + 12.5 * (X32 - Summary!E$9) / (Summary!E$7 - Summary!E$9),0) -> 19.361958 | BF32: =IF(AND(Y32>0,Y32<=Summary!F$9),12.5 + 12.5 * (Y32 - Summary!F$9) / (Summary!F$7 - Summary!F$9),0) -> 0 | BG32: =IF(AND(Z32>0,Z32<=Summary!G$9),12.5 + 12.5 * (Z32 - Summary!G$9) / (Summary!G$7 - Summary!G$9),0) -> 13.512518 | BH32: =IF(AND(AA32>0,AA32<=Summary!H$9),12.5 + 12.5 * (AA32 - Summary!H$9) / (Summary!H$7 - Summary!H$9),0) -> 0 | BI32: =IF(AND(AB32>0,AB32<=Summary!I$9),12.5 + 12.5 * (AB32 - Summary!I$9) / (Summary!I$7 - Summary!I$9),0) -> 15.936455 | ... BK32: =IF(AND(AD32>0,AD32<=Summary!K$9),12.5 + 12.5 * (AD32 - Summary!K$9) / (Summary!K$7 - Summary!K$9),0) -> 0 | BM32: =IF(AND(U32>0,U32>Summary!B$9),12.5 - 12.5 * (U32 - Summary!B$9) / (Summary!B$3 - Summary!B$9),0) -> 0 | BN32: =IF(AND(V32>0,V32>Summary!C$9),12.5 - 12.5 * (V32 - Summary!C$9) / (Summary!C$3 - Summary!C$9),0) -> 0 | BO32: =IF(AND(W32>0,W32>Summary!D$9),12.5 - 12.5 * (W32 - Summary!D$9) / (Summary!D$3 - Summary!D$9),0) -> 0 | BP32: =IF(AND(X32>0,X32>Summary!E$9),12.5 - 12.5 * (X32 - Summary!E$9) / (Summary!E$3 - Summary!E$9),0) -> 0 | BQ32: =IF(AND(Y32>0,Y32>Summary!F$9),12.5 - 12.5 * (Y32 - Summary!F$9) / (Summary!F$3 - Summary!F$9),0) -> 7.8540559 | BR32: =IF(AND(Z32>0,Z32>Summary!G$9),12.5 - 12.5 * (Z32 - Summary!G$9) / (Summary!G$3 - Summary!G$9),0) -> 0 | BS32: =IF(AND(AA32>0,AA32>Summary!H$9),12.5 - 12.5 * (AA32 - Summary!H$9) / (Summary!H$3 - Summary!H$9),0) -> 0 | BT32: =IF(AND(AB32>0,AB32>Summary!I$9),12.5 - 12.5 * (AB32 - Summary!I$9) / (Summary!I$3 - Summary!I$9),0) -> 0 | ... BV32: =IF(AND(AD32>0,AD32>Summary!K$9),12.5 - 12.5 * (AD32 - Summary!K$9) / (Summary!K$3 - Summary!K$9),0) -> 0 | BX32: =J32/60 -> 13.2 | BY32: =K32/60 -> 17.183333 | BZ32: =L32/60 -> 24.666667 | CA32: =M32/60 -> 30.933333 | CB32: =N32/60 -> 59.25 | CC32: =O32/60 -> 44.7 | CD32: =P32/60 -> 0 | CE32: =Q32/60 -> 54.166667 | ... CG32: =S32/60 -> 157.05 | CI32: =AQ32+BB32+BM32 -> 43.339888 | CJ32: =AR32+BC32+BN32 -> 35.64569 | CK32: =AS32+BD32+BO32 -> 40.756612 | CL32: =AT32+BE32+BP32 -> 41.861958 | CM32: =AU32+BF32+BQ32 -> 23.354056 | CN32: =AV32+BG32+BR32 -> 25.512518 | CO32: =AW32+BH32+BS32 -> 0 | CP32: =AX32+BI32+BT32 -> 34.936455 | ... CR32: =AZ32+BK32+BV32 -> 15 | CT32: =MIN(CI32:CR32) -> 0 | CU32: =SMALL(CI32:CR32,2) -> 15 | CV32: =SUM(CI32:CR32)-CT32-CU32 -> 270.46788 | CW32: =50*MIN(8,COUNTIF(J32:S32,">0")) -> 400 | CX32: =CW32+CV32 -> 670.46788 | CZ32: =G32 -> 601.58792 | DA32: =A32 -> 28
A33: 29 | B33: misko | C33: Michael Ley | D33: Germany | E33: 199.6059 | F33: 7/10/10 | G33: 599.6059 | H33: 33780 | J33: 1188 | K33: 873 | L33: 1891 | M33: 2716 | N33: 3314 | O33: 1928 | P33: 4638 | Q33: 3069 | R33: 9492 | S33: 4671 | U33: =IF(J33<=Summary!B$3,J33,0) -> 1188 | V33: =IF(K33<=Summary!C$3,K33,0) -> 873 | W33: =IF(L33<=Summary!D$3,L33,0) -> 1891 | X33: =IF(M33<=Summary!E$3,M33,0) -> 2716 | Y33: =IF(N33<=Summary!F$3,N33,0) -> 3314 | Z33: =IF(O33<=Summary!G$3,O33,0) -> 1928 | AA33: =IF(P33<=Summary!H$3,P33,0) -> 4638 | AB33: =IF(Q33<=Summary!I$3,Q33,0) -> 3069 | ... AD33: =IF(S33<=Summary!K$3,S33,0) -> 4671 | AF33: =IF(J33>0,RANK(J33,J:J,1),0) -> 50 | AG33: =IF(K33>0,RANK(K33,K:K,1),0) -> 19 | AH33: =IF(L33>0,RANK(L33,L:L,1),0) -> 31 | AI33: =IF(M33>0,RANK(M33,M:M,1),0) -> 45 | AJ33: =IF(N33>0,RANK(N33,N:N,1),0) -> 35 | AK33: =IF(O33>0,RANK(O33,O:O,1),0) -> 21 | AL33: =IF(P33>0,RANK(P33,P:P,1),0) -> 36 | AM33: =IF(Q33>0,RANK(Q33,Q:Q,1),0) -> 20 | AN33: =IF(R33>0,RANK(R33,R:R,1),0) -> 95 | AO33: =IF(S33>0,RANK(S33,S:S,1),0) -> 8 | AQ33: =IF(AND(AF33<=Summary!B$6,AF33>0),25*(Summary!B$6+1-AF33)/Summary!B$6,0) -> 12.75 | AR33: =IF(AND(AG33<=Summary!C$6,AG33>0),25*(Summary!C$6+1-AG33)/Summary!C$6,0) -> 20.5 | AS33: =IF(AND(AH33<=Summary!D$6,AH33>0),25*(Summary!D$6+1-AH33)/Summary!D$6,0) -> 17.5 | AT33: =IF(AND(AI33<=Summary!E$6,AI33>0),25*(Summary!E$6+1-AI33)/Summary!E$6,0) -> 14 | AU33: =IF(AND(AJ33<=Summary!F$6,AJ33>0),25*(Summary!F$6+1-AJ33)/Summary!F$6,0) -> 16.5 | AV33: =IF(AND(AK33<=Summary!G$6,AK33>0),25*(Summary!G$6+1-AK33)/Summary!G$6,0) -> 20 | AW33: =IF(AND(AL33<=Summary!H$6,AL33>0),25*(Summary!H$6+1-AL33)/Summary!H$6,0) -> 16.25 | AX33: =IF(AND(AM33<=Summary!I$6,AM33>0),25*(Summary!I$6+1-AM33)/Summary!I$6,0) -> 20.25 | ... AZ33: =IF(AND(AO33<=Summary!K$6,AO33>0),25*(Summary!K$6+1-AO33)/Summary!K$6,0) -> 23.25 | BB33: =IF(AND(U33>0,U33<=Summary!B$9),12.5 + 12.5 * (U33 - Summary!B$9) / (Summary!B$7 - Summary!B$9),0) -> 17.867175 | BC33: =IF(AND(V33>0,V33<=Summary!C$9),12.5 + 12.5 * (V33 - Summary!C$9) / (Summary!C$7 - Summary!C$9),0) -> 21.734532 | BD33: =IF(AND(W33>0,W33<=Summary!D$9),12.5 + 12.5 * (W33 - Summary!D$9) / (Summary!D$7 - Summary!D$9),0) -> 16.02238 | BE33: =IF(AND(X33>0,X33<=Summary!E$9),12.5 + 12.5 * (X33 - Summary!E$9) / (Summary!E$7 - Summary!E$9),0) -> 13.610219 | BF33: =IF(AND(Y33>0,Y33<=Summary!F$9),12.5 + 12.5 * (Y33 - Summary!F$9) / (Summary!F$7 - Summary!F$9),0) -> 0 | BG33: =IF(AND(Z33>0,Z33<=Summary!G$9),12.5 + 12.5 * (Z33 - Summary!G$9) / (Summary!G$7 - Summary!G$9),0) -> 19.064801 | BH33: =IF(AND(AA33>0,AA33<=Summary!H$9),12.5 + 12.5 * (AA33 - Summary!H$9) / (Summary!H$7 - Summary!H$9),0) -> 0 | BI33: =IF(AND(AB33>0,AB33<=Summary!I$9),12.5 + 12.5 * (AB33 - Summary!I$9) / (Summary!I$7 - Summary!I$9),0) -> 17.449833 | ... BK33: =IF(AND(AD33>0,AD33<=Summary!K$9),12.5 + 12.5 * (AD33 - Summary!K$9) / (Summary!K$7 - Summary!K$9),0) -> 13.542627 | BM33: =IF(AND(U33>0,U33>Summary!B$9),12.5 - 12.5 * (U33 - Summary!B$9) / (Summary!B$3 - Summary!B$9),0) -> 0 | BN33: =IF(AND(V33>0,V33>Summary!C$9),12.5 - 12.5 * (V33 - Summary!C$9) / (Summary!C$3 - Summary!C$9),0) -> 0 | BO33: =IF(AND(W33>0,W33>Summary!D$9),12.5 - 12.5 * (W33 - Summary!D$9) / (Summary!D$3 - Summary!D$9),0) -> 0 | BP33: =IF(AND(X33>0,X33>Summary!E$9),12.5 - 12.5 * (X33 - Summary!E$9) / (Summary!E$3 - Summary!E$9),0) -> 0 | BQ33: =IF(AND(Y33>0,Y33>Summary!F$9),12.5 - 12.5 * (Y33 - Summary!F$9) / (Summary!F$3 - Summary!F$9),0) -> 9.8570479 | BR33: =IF(AND(Z33>0,Z33>Summary!G$9),12.5 - 12.5 * (Z33 - Summary!G$9) / (Summary!G$3 - Summary!G$9),0) -> 0 | BS33: =IF(AND(AA33>0,AA33>Summary!H$9),12.5 - 12.5 * (AA33 - Summary!H$9) / (Summary!H$3 - Summary!H$9),0) -> 5.4011908 | BT33: =IF(AND(AB33>0,AB33>Summary!I$9),12.5 - 12.5 * (AB33 - Summary!I$9) / (Summary!I$3 - Summary!I$9),0) -> 0 | ... BV33: =IF(AND(AD33>0,AD33>Summary!K$9),12.5 - 12.5 * (AD33 - Summary!K$9) / (Summary!K$3 - Summary!K$9),0) -> 0 | BX33: =J33/60 -> 19.8 | BY33: =K33/60 -> 14.55 | BZ33: =L33/60 -> 31.516667 | CA33: =M33/60 -> 45.266667 | CB33: =N33/60 -> 55.233333 | CC33: =O33/60 -> 32.133333 | CD33: =P33/60 -> 77.3 | CE33: =Q33/60 -> 51.15 | ... CG33: =S33/60 -> 77.85 | CI33: =AQ33+BB33+BM33 -> 30.617175 | CJ33: =AR33+BC33+BN33 -> 42.234532 | CK33: =AS33+BD33+BO33 -> 33.52238 | CL33: =AT33+BE33+BP33 -> 27.610219 | CM33: =AU33+BF33+BQ33 -> 26.357048 | CN33: =AV33+BG33+BR33 -> 39.064801 | CO33: =AW33+BH33+BS33 -> 21.651191 | CP33: =AX33+BI33+BT33 -> 37.699833 | ... CR33: =AZ33+BK33+BV33 -> 36.792627 | CT33: =MIN(CI33:CR33) -> 1.5 | CU33: =SMALL(CI33:CR33,2) -> 21.651191 | CV33: =SUM(CI33:CR33)-CT33-CU33 -> 273.89862 | CW33: =50*MIN(8,COUNTIF(J33:S33,">0")) -> 400 | CX33: =CW33+CV33 -> 673.89862 | CZ33: =G33 -> 599.6059 | DA33: =A33 -> 29
A34: 30 | B34: jrivet | C34: Jonathan Rivet | D34: USA | E34: 191.61683 | F34: 6/10/10 | G34: 591.61683 | H34: 42853 | J34: 1032 | K34: 1124 | L34: 1965 | M34: 2438 | N34: 17063 | O34: 3178 | P34: 3865 | Q34: 2174 | R34: 4329 | S34: 5685 | U34: =IF(J34<=Summary!B$3,J34,0) -> 1032 | V34: =IF(K34<=Summary!C$3,K34,0) -> 1124 | W34: =IF(L34<=Summary!D$3,L34,0) -> 1965 | X34: =IF(M34<=Summary!E$3,M34,0) -> 2438 | Y34: =IF(N34<=Summary!F$3,N34,0) -> 0 | Z34: =IF(O34<=Summary!G$3,O34,0) -> 3178 | AA34: =IF(P34<=Summary!H$3,P34,0) -> 3865 | AB34: =IF(Q34<=Summary!I$3,Q34,0) -> 2174 | ... AD34: =IF(S34<=Summary!K$3,S34,0) -> 0 | AF34: =IF(J34>0,RANK(J34,J:J,1),0) -> 38 | AG34: =IF(K34>0,RANK(K34,K:K,1),0) -> 50 | AH34: =IF(L34>0,RANK(L34,L:L,1),0) -> 35 | AI34: =IF(M34>0,RANK(M34,M:M,1),0) -> 39 | AJ34: =IF(N34>0,RANK(N34,N:N,1),0) -> 127 | AK34: =IF(O34>0,RANK(O34,O:O,1),0) -> 72 | AL34: =IF(P34>0,RANK(P34,P:P,1),0) -> 23 | AM34: =IF(Q34>0,RANK(Q34,Q:Q,1),0) -> 2 | AN34: =IF(R34>0,RANK(R34,R:R,1),0) -> 34 | AO34: =IF(S34>0,RANK(S34,S:S,1),0) -> 19 | AQ34: =IF(AND(AF34<=Summary!B$6,AF34>0),25*(Summary!B$6+1-AF34)/Summary!B$6,0) -> 15.75 | AR34: =IF(AND(AG34<=Summary!C$6,AG34>0),25*(Summary!C$6+1-AG34)/Summary!C$6,0) -> 12.75 | AS34: =IF(AND(AH34<=Summary!D$6,AH34>0),25*(Summary!D$6+1-AH34)/Summary!D$6,0) -> 16.5 | AT34: =IF(AND(AI34<=Summary!E$6,AI34>0),25*(Summary!E$6+1-AI34)/Summary!E$6,0) -> 15.5 | AU34: =IF(AND(AJ34<=Summary!F$6,AJ34>0),25*(Summary!F$6+1-AJ34)/Summary!F$6,0) -> 0 | AV34: =IF(AND(AK34<=Summary!G$6,AK34>0),25*(Summary!G$6+1-AK34)/Summary!G$6,0) -> 7.25 | AW34: =IF(AND(AL34<=Summary!H$6,AL34>0),25*(Summary!H$6+1-AL34)/Summary!H$6,0) -> 19.5 | AX34: =IF(AND(AM34<=Summary!I$6,AM34>0),25*(Summary!I$6+1-AM34)/Summary!I$6,0) -> 24.75 | ... AZ34: =IF(AND(AO34<=Summary!K$6,AO34>0),25*(Summary!K$6+1-AO34)/Summary!K$6,0) -> 20.5 | BB34: =IF(AND(U34>0,U34<=Summary!B$9),12.5 + 12.5 * (U34 - Summary!B$9) / (Summary!B$7 - Summary!B$9),0) -> 19.432183 | BC34: =IF(AND(V34>0,V34<=Summary!C$9),12.5 + 12.5 * (V34 - Summary!C$9) / (Summary!C$7 - Summary!C$9),0) -> 18.416182 | BD34: =IF(AND(W34>0,W34<=Summary!D$9),12.5 + 12.5 * (W34 - Summary!D$9) / (Summary!D$7 - Summary!D$9),0) -> 15.395049 | BE34: =IF(AND(X34>0,X34<=Summary!E$9),12.5 + 12.5 * (X34 - Summary!E$9) / (Summary!E$7 - Summary!E$9),0) -> 15.469502 | BF34: =IF(AND(Y34>0,Y34<=Summary!F$9),12.5 + 12.5 * (Y34 - Summary!F$9) / (Summary!F$7 - Summary!F$9),0) -> 0 | BG34: =IF(AND(Z34>0,Z34<=Summary!G$9),12.5 + 12.5 * (Z34 - Summary!G$9) / (Summary!G$7 - Summary!G$9),0) -> 0 | BH34: =IF(AND(AA34>0,AA34<=Summary!H$9),12.5 + 12.5 * (AA34 - Summary!H$9) / (Summary!H$7 - Summary!H$9),0) -> 0 | BI34: =IF(AND(AB34>0,AB34<=Summary!I$9),12.5 + 12.5 * (AB34 - Summary!I$9) / (Summary!I$7 - Summary!I$9),0) -> 24.93311 | ... BK34: =IF(AND(AD34>0,AD34<=Summary!K$9),12.5 + 12.5 * (AD34 - Summary!K$9) / (Summary!K$7 - Summary!K$9),0) -> 0 | BM34: =IF(AND(U34>0,U34>Summary!B$9),12.5 - 12.5 * (U34 - Summary!B$9) / (Summary!B$3 - Summary!B$9),0) -> 0 | BN34: =IF(AND(V34>0,V34>Summary!C$9),12.5 - 12.5 * (V34 - Summary!C$9) / (Summary!C$3 - Summary!C$9),0) -> 0 | BO34: =IF(AND(W34>0,W34>Summary!D$9),12.5 - 12.5 * (W34 - Summary!D$9) / (Summary!D$3 - Summary!D$9),0) -> 0 | BP34: =IF(AND(X34>0,X34>Summary!E$9),12.5 - 12.5 * (X34 - Summary!E$9) / (Summary!E$3 - Summary!E$9),0) -> 0 | BQ34: =IF(AND(Y34>0,Y34>Summary!F$9),12.5 - 12.5 * (Y34 - Summary!F$9) / (Summary!F$3 - Summary!F$9),0) -> 0 | BR34: =IF(AND(Z34>0,Z34>Summary!G$9),12.5 - 12.5 * (Z34 - Summary!G$9) / (Summary!G$3 - Summary!G$9),0) -> 9.8333829 | BS34: =IF(AND(AA34>0,AA34>Summary!H$9),12.5 - 12.5 * (AA34 - Summary!H$9) / (Summary!H$3 - Summary!H$9),0) -> 10.880352 | BT34: =IF(AND(AB34>0,AB34>Summary!I$9),12.5 - 12.5 * (AB34 - Summary!I$9) / (Summary!I$3 - Summary!I$9),0) -> 0 | ... BV34: =IF(AND(AD34>0,AD34>Summary!K$9),12.5 - 12.5 * (AD34 - Summary!K$9) / (Summary!K$3 - Summary!K$9),0) -> 0 | BX34: =J34/60 -> 17.2 | BY34: =K34/60 -> 18.733333 | BZ34: =L34/60 -> 32.75 | CA34: =M34/60 -> 40.633333 | CB34: =N34/60 -> 284.38333 | CC34: =O34/60 -> 52.966667 | CD34: =P34/60 -> 64.416667 | CE34: =Q34/60 -> 36.233333 | ... CG34: =S34/60 -> 94.75 | CI34: =AQ34+BB34+BM34 -> 35.182183 | CJ34: =AR34+BC34+BN34 -> 31.166182 | CK34: =AS34+BD34+BO34 -> 31.895049 | CL34: =AT34+BE34+BP34 -> 30.969502 | CM34: =AU34+BF34+BQ34 -> 0 | CN34: =AV34+BG34+BR34 -> 17.083383 | CO34: =AW34+BH34+BS34 -> 30.380352 | CP34: =AX34+BI34+BT34 -> 49.68311 | ... CR34: =AZ34+BK34+BV34 -> 20.5 | CT34: =MIN(CI34:CR34) -> 0 | CU34: =SMALL(CI34:CR34,2) -> 17.083383 | CV34: =SUM(CI34:CR34)-CT34-CU34 -> 256.68381 | CW34: =50*MIN(8,COUNTIF(J34:S34,">0")) -> 400 | CX34: =CW34+CV34 -> 656.68381 | CZ34: =G34 -> 591.61683 | DA34: =A34 -> 30
A35: 31 | B35: daisuke_t | C35: TAKEI Daisuke | D35: Japan | E35: 190.91224 | F35: 5/10/10 | G35: 590.91224 | H35: 40368 | J35: 934 | K35: 1134 | L35: 1174 | M35: 1782 | N35: 5240 | O35: 2551 | P35: 8391 | Q35: 6443 | R35: 5636 | S35: 7083 | U35: =IF(J35<=Summary!B$3,J35,0) -> 934 | V35: =IF(K35<=Summary!C$3,K35,0) -> 1134 | W35: =IF(L35<=Summary!D$3,L35,0) -> 1174 | X35: =IF(M35<=Summary!E$3,M35,0) -> 1782 | Y35: =IF(N35<=Summary!F$3,N35,0) -> 0 | Z35: =IF(O35<=Summary!G$3,O35,0) -> 2551 | AA35: =IF(P35<=Summary!H$3,P35,0) -> 0 | AB35: =IF(Q35<=Summary!I$3,Q35,0) -> 0 | ... AD35: =IF(S35<=Summary!K$3,S35,0) -> 0 | AF35: =IF(J35>0,RANK(J35,J:J,1),0) -> 28 | AG35: =IF(K35>0,RANK(K35,K:K,1),0) -> 53 | AH35: =IF(L35>0,RANK(L35,L:L,1),0) -> 5 | AI35: =IF(M35>0,RANK(M35,M:M,1),0) -> 10 | AJ35: =IF(N35>0,RANK(N35,N:N,1),0) -> 65 | AK35: =IF(O35>0,RANK(O35,O:O,1),0) -> 44 | AL35: =IF(P35>0,RANK(P35,P:P,1),0) -> 59 | AM35: =IF(Q35>0,RANK(Q35,Q:Q,1),0) -> 78 | AN35: =IF(R35>0,RANK(R35,R:R,1),0) -> 54 | AO35: =IF(S35>0,RANK(S35,S:S,1),0) -> 29 | AQ35: =IF(AND(AF35<=Summary!B$6,AF35>0),25*(Summary!B$6+1-AF35)/Summary!B$6,0) -> 18.25 | AR35: =IF(AND(AG35<=Summary!C$6,AG35>0),25*(Summary!C$6+1-AG35)/Summary!C$6,0) -> 12 | AS35: =IF(AND(AH35<=Summary!D$6,AH35>0),25*(Summary!D$6+1-AH35)/Summary!D$6,0) -> 24 | AT35: =IF(AND(AI35<=Summary!E$6,AI35>0),25*(Summary!E$6+1-AI35)/Summary!E$6,0) -> 22.75 | AU35: =IF(AND(AJ35<=Summary!F$6,AJ35>0),25*(Summary!F$6+1-AJ35)/Summary!F$6,0) -> 9 | AV35: =IF(AND(AK35<=Summary!G$6,AK35>0),25*(Summary!G$6+1-AK35)/Summary!G$6,0) -> 14.25 | AW35: =IF(AND(AL35<=Summary!H$6,AL35>0),25*(Summary!H$6+1-AL35)/Summary!H$6,0) -> 10.5 | AX35: =IF(AND(AM35<=Summary!I$6,AM35>0),25*(Summary!I$6+1-AM35)/Summary!I$6,0) -> 5.75 | ... AZ35: =IF(AND(AO35<=Summary!K$6,AO35>0),25*(Summary!K$6+1-AO35)/Summary!K$6,0) -> 18 | BB35: =IF(AND(U35>0,U35<=Summary!B$9),12.5 + 12.5 * (U35 - Summary!B$9) / (Summary!B$7 - Summary!B$9),0) -> 20.415329 | BC35: =IF(AND(V35>0,V35<=Summary!C$9),12.5 + 12.5 * (V35 - Summary!C$9) / (Summary!C$7 - Summary!C$9),0) -> 18.283977 | BD35: =IF(AND(W35>0,W35<=Summary!D$9),12.5 + 12.5 * (W35 - Summary!D$9) / (Summary!D$7 - Summary!D$9),0) -> 22.100712 | BE35: =IF(AND(X35>0,X35<=Summary!E$9),12.5 + 12.5 * (X35 - Summary!E$9) / (Summary!E$7 - Summary!E$9),0) -> 19.856875 | BF35: =IF(AND(Y35>0,Y35<=Summary!F$9),12.5 + 12.5 * (Y35 - Summary!F$9) / (Summary!F$7 - Summary!F$9),0) -> 0 | BG35: =IF(AND(Z35>0,Z35<=Summary!G$9),12.5 + 12.5 * (Z35 - Summary!G$9) / (Summary!G$7 - Summary!G$9),0) -> 14.477172 | BH35: =IF(AND(AA35>0,AA35<=Summary!H$9),12.5 + 12.5 * (AA35 - Summary!H$9) / (Summary!H$7 - Summary!H$9),0) -> 0 | BI35: =IF(AND(AB35>0,AB35<=Summary!I$9),12.5 + 12.5 * (AB35 - Summary!I$9) / (Summary!I$7 - Summary!I$9),0) -> 0 | ... BK35: =IF(AND(AD35>0,AD35<=Summary!K$9),12.5 + 12.5 * (AD35 - Summary!K$9) / (Summary!K$7 - Summary!K$9),0) -> 0 | BM35: =IF(AND(U35>0,U35>Summary!B$9),12.5 - 12.5 * (U35 - Summary!B$9) / (Summary!B$3 - Summary!B$9),0) -> 0 | BN35: =IF(AND(V35>0,V35>Summary!C$9),12.5 - 12.5 * (V35 - Summary!C$9) / (Summary!C$3 - Summary!C$9),0) -> 0 | BO35: =IF(AND(W35>0,W35>Summary!D$9),12.5 - 12.5 * (W35 - Summary!D$9) / (Summary!D$3 - Summary!D$9),0) -> 0 | BP35: =IF(AND(X35>0,X35>Summary!E$9),12.5 - 12.5 * (X35 - Summary!E$9) / (Summary!E$3 - Summary!E$9),0) -> 0 | BQ35: =IF(AND(Y35>0,Y35>Summary!F$9),12.5 - 12.5 * (Y35 - Summary!F$9) / (Summary!F$3 - Summary!F$9),0) -> 0 | BR35: =IF(AND(Z35>0,Z35>Summary!G$9),12.5 - 12.5 * (Z35 - Summary!G$9) / (Summary!G$3 - Summary!G$9),0) -> 0 | BS35: =IF(AND(AA35>0,AA35>Summary!H$9),12.5 - 12.5 * (AA35 - Summary!H$9) / (Summary!H$3 - Summary!H$9),0) -> 0 | BT35: =IF(AND(AB35>0,AB35>Summary!I$9),12.5 - 12.5 * (AB35 - Summary!I$9) / (Summary!I$3 - Summary!I$9),0) -> 0 | ... BV35: =IF(AND(AD35>0,AD35>Summary!K$9),12.5 - 12.5 * (AD35 - Summary!K$9) / (Summary!K$3 - Summary!K$9),0) -> 0 | BX35: =J35/60 -> 15.566667 | BY35: =K35/60 -> 18.9 | BZ35: =L35/60 -> 19.566667 | CA35: =M35/60 -> 29.7 | CB35: =N35/60 -> 87.333333 | CC35: =O35/60 -> 42.516667 | CD35: =P35/60 -> 139.85 | CE35: =Q35/60 -> 107.38333 | ... CG35: =S35/60 -> 118.05 | CI35: =AQ35+BB35+BM35 -> 38.665329 | CJ35: =AR35+BC35+BN35 -> 30.283977 | CK35: =AS35+BD35+BO35 -> 46.100712 | CL35: =AT35+BE35+BP35 -> 42.606875 | CM35: =AU35+BF35+BQ35 -> 9 | CN35: =AV35+BG35+BR35 -> 28.727172 | CO35: =AW35+BH35+BS35 -> 10.5 | CP35: =AX35+BI35+BT35 -> 5.75 | ... CR35: =AZ35+BK35+BV35 -> 18 | CT35: =MIN(CI35:CR35) -> 5.75 | CU35: =SMALL(CI35:CR35,2) -> 9 | CV35: =SUM(CI35:CR35)-CT35-CU35 -> 226.63407 | CW35: =50*MIN(8,COUNTIF(J35:S35,">0")) -> 400 | CX35: =CW35+CV35 -> 626.63407 | CZ35: =G35 -> 590.91224 | DA35: =A35 -> 31
A36: 32 | B36: jaku111 | C36: jaku111 | D36: Czech Republic | E36: 184.80535 | F36: 6/9/10 | G36: 584.80535 | H36: 562841 | J36: 918 | K36: 1157 | L36: 3050 | M36: 2133 | N36: 2746 | O36: 2037 | P36: 472179 | Q36: 73484 | R36: 5137 | U36: =IF(J36<=Summary!B$3,J36,0) -> 918 | V36: =IF(K36<=Summary!C$3,K36,0) -> 1157 | W36: =IF(L36<=Summary!D$3,L36,0) -> 3050 | X36: =IF(M36<=Summary!E$3,M36,0) -> 2133 | Y36: =IF(N36<=Summary!F$3,N36,0) -> 2746 | Z36: =IF(O36<=Summary!G$3,O36,0) -> 2037 | AA36: =IF(P36<=Summary!H$3,P36,0) -> 0 | AB36: =IF(Q36<=Summary!I$3,Q36,0) -> 0 | ... AD36: =IF(S36<=Summary!K$3,S36,0) -> 0 | AF36: =IF(J36>0,RANK(J36,J:J,1),0) -> 26 | AG36: =IF(K36>0,RANK(K36,K:K,1),0) -> 55 | AH36: =IF(L36>0,RANK(L36,L:L,1),0) -> 68 | AI36: =IF(M36>0,RANK(M36,M:M,1),0) -> 24 | AJ36: =IF(N36>0,RANK(N36,N:N,1),0) -> 19 | AK36: =IF(O36>0,RANK(O36,O:O,1),0) -> 24 | AL36: =IF(P36>0,RANK(P36,P:P,1),0) -> 125 | AM36: =IF(Q36>0,RANK(Q36,Q:Q,1),0) -> 139 | AN36: =IF(R36>0,RANK(R36,R:R,1),0) -> 48 | AO36: =IF(S36>0,RANK(S36,S:S,1),0) -> 0 | AQ36: =IF(AND(AF36<=Summary!B$6,AF36>0),25*(Summary!B$6+1-AF36)/Summary!B$6,0) -> 18.75 | AR36: =IF(AND(AG36<=Summary!C$6,AG36>0),25*(Summary!C$6+1-AG36)/Summary!C$6,0) -> 11.5 | AS36: =IF(AND(AH36<=Summary!D$6,AH36>0),25*(Summary!D$6+1-AH36)/Summary!D$6,0) -> 8.25 | AT36: =IF(AND(AI36<=Summary!E$6,AI36>0),25*(Summary!E$6+1-AI36)/Summary!E$6,0) -> 19.25 | AU36: =IF(AND(AJ36<=Summary!F$6,AJ36>0),25*(Summary!F$6+1-AJ36)/Summary!F$6,0) -> 20.5 | AV36: =IF(AND(AK36<=Summary!G$6,AK36>0),25*(Summary!G$6+1-AK36)/Summary!G$6,0) -> 19.25 | AW36: =IF(AND(AL36<=Summary!H$6,AL36>0),25*(Summary!H$6+1-AL36)/Summary!H$6,0) -> 0 | AX36: =IF(AND(AM36<=Summary!I$6,AM36>0),25*(Summary!I$6+1-AM36)/Summary!I$6,0) -> 0 | ... AZ36: =IF(AND(AO36<=Summary!K$6,AO36>0),25*(Summary!K$6+1-AO36)/Summary!K$6,0) -> 0 | BB36: =IF(AND(U36>0,U36<=Summary!B$9),12.5 + 12.5 * (U36 - Summary!B$9) / (Summary!B$7 - Summary!B$9),0) -> 20.575843 | BC36: =IF(AND(V36>0,V36<=Summary!C$9),12.5 + 12.5 * (V36 - Summary!C$9) / (Summary!C$7 - Summary!C$9),0) -> 17.979905 | BD36: =IF(AND(W36>0,W36<=Summary!D$9),12.5 + 12.5 * (W36 - Summary!D$9) / (Summary!D$7 - Summary!D$9),0) -> 0 | BE36: =IF(AND(X36>0,X36<=Summary!E$9),12.5 + 12.5 * (X36 - Summary!E$9) / (Summary!E$7 - Summary!E$9),0) -> 17.509363 | BF36: =IF(AND(Y36>0,Y36<=Summary!F$9),12.5 + 12.5 * (Y36 - Summary!F$9) / (Summary!F$7 - Summary!F$9),0) -> 14.898312 | BG36: =IF(AND(Z36>0,Z36<=Summary!G$9),12.5 + 12.5 * (Z36 - Summary!G$9) / (Summary!G$7 - Summary!G$9),0) -> 18.26215 | BH36: =IF(AND(AA36>0,AA36<=Summary!H$9),12.5 + 12.5 * (AA36 - Summary!H$9) / (Summary!H$7 - Summary!H$9),0) -> 0 | BI36: =IF(AND(AB36>0,AB36<=Summary!I$9),12.5 + 12.5 * (AB36 - Summary!I$9) / (Summary!I$7 - Summary!I$9),0) -> 0 | ... BK36: =IF(AND(AD36>0,AD36<=Summary!K$9),12.5 + 12.5 * (AD36 - Summary!K$9) / (Summary!K$7 - Summary!K$9),0) -> 0 | BM36: =IF(AND(U36>0,U36>Summary!B$9),12.5 - 12.5 * (U36 - Summary!B$9) / (Summary!B$3 - Summary!B$9),0) -> 0 | BN36: =IF(AND(V36>0,V36>Summary!C$9),12.5 - 12.5 * (V36 - Summary!C$9) / (Summary!C$3 - Summary!C$9),0) -> 0 | BO36: =IF(AND(W36>0,W36>Summary!D$9),12.5 - 12.5 * (W36 - Summary!D$9) / (Summary!D$3 - Summary!D$9),0) -> 5.3150367 | BP36: =IF(AND(X36>0,X36>Summary!E$9),12.5 - 12.5 * (X36 - Summary!E$9) / (Summary!E$3 - Summary!E$9),0) -> 0 | BQ36: =IF(AND(Y36>0,Y36>Summary!F$9),12.5 - 12.5 * (Y36 - Summary!F$9) / (Summary!F$3 - Summary!F$9),0) -> 0 | BR36: =IF(AND(Z36>0,Z36>Summary!G$9),12.5 - 12.5 * (Z36 - Summary!G$9) / (Summary!G$3 - Summary!G$9),0) -> 0 | BS36: =IF(AND(AA36>0,AA36>Summary!H$9),12.5 - 12.5 * (AA36 - Summary!H$9) / (Summary!H$3 - Summary!H$9),0) -> 0 | BT36: =IF(AND(AB36>0,AB36>Summary!I$9),12.5 - 12.5 * (AB36 - Summary!I$9) / (Summary!I$3 - Summary!I$9),0) -> 0 | ... BV36: =IF(AND(AD36>0,AD36>Summary!K$9),12.5 - 12.5 * (AD36 - Summary!K$9) / (Summary!K$3 - Summary!K$9),0) -> 0 | BX36: =J36/60 -> 15.3 | BY36: =K36/60 -> 19.283333 | BZ36: =L36/60 -> 50.833333 | CA36: =M36/60 -> 35.55 | CB36: =N36/60 -> 45.766667 | CC36: =O36/60 -> 33.95 | CD36: =P36/60 -> 7869.65 | CE36: =Q36/60 -> 1224.7333 | ... CG36: =S36/60 -> 0 | CI36: =AQ36+BB36+BM36 -> 39.325843 | CJ36: =AR36+BC36+BN36 -> 29.479905 | CK36: =AS36+BD36+BO36 -> 13.565037 | CL36: =AT36+BE36+BP36 -> 36.759363 | CM36: =AU36+BF36+BQ36 -> 35.398312 | CN36: =AV36+BG36+BR36 -> 37.51215 | CO36: =AW36+BH36+BS36 -> 0 | CP36: =AX36+BI36+BT36 -> 0 | ... CR36: =AZ36+BK36+BV36 -> 0 | CT36: =MIN(CI36:CR36) -> 0 | CU36: =SMALL(CI36:CR36,2) -> 0 | CV36: =SUM(CI36:CR36)-CT36-CU36 -> 207.78492 | CW36: =50*MIN(8,COUNTIF(J36:S36,">0")) -> 400 | CX36: =CW36+CV36 -> 607.78492 | CZ36: =G36 -> 584.80535 | DA36: =A36 -> 32
A37: 33 | B37: chaotic_iak | C37: Ivan Koswara | D37: Indonesia | E37: 183.8704 | F37: 5/9/10 | G37: 583.8704 | H37: 23584 | J37: 865 | K37: 899 | L37: 1638 | M37: 2988 | N37: 3734 | O37: 1521 | P37: 3643 | Q37: 3926 | R37: 4370 | U37: =IF(J37<=Summary!B$3,J37,0) -> 865 | V37: =IF(K37<=Summary!C$3,K37,0) -> 899 | W37: =IF(L37<=Summary!D$3,L37,0) -> 1638 | X37: =IF(M37<=Summary!E$3,M37,0) -> 2988 | Y37: =IF(N37<=Summary!F$3,N37,0) -> 3734 | Z37: =IF(O37<=Summary!G$3,O37,0) -> 1521 | AA37: =IF(P37<=Summary!H$3,P37,0) -> 3643 | AB37: =IF(Q37<=Summary!I$3,Q37,0) -> 3926 | ... AD37: =IF(S37<=Summary!K$3,S37,0) -> 0 | AF37: =IF(J37>0,RANK(J37,J:J,1),0) -> 21 | AG37: =IF(K37>0,RANK(K37,K:K,1),0) -> 21 | AH37: =IF(L37>0,RANK(L37,L:L,1),0) -> 20 | AI37: =IF(M37>0,RANK(M37,M:M,1),0) -> 54 | AJ37: =IF(N37>0,RANK(N37,N:N,1),0) -> 43 | AK37: =IF(O37>0,RANK(O37,O:O,1),0) -> 7 | AL37: =IF(P37>0,RANK(P37,P:P,1),0) -> 22 | AM37: =IF(Q37>0,RANK(Q37,Q:Q,1),0) -> 40 | AN37: =IF(R37>0,RANK(R37,R:R,1),0) -> 35 | AO37: =IF(S37>0,RANK(S37,S:S,1),0) -> 0 | AQ37: =IF(AND(AF37<=Summary!B$6,AF37>0),25*(Summary!B$6+1-AF37)/Summary!B$6,0) -> 20 | AR37: =IF(AND(AG37<=Summary!C$6,AG37>0),25*(Summary!C$6+1-AG37)/Summary!C$6,0) -> 20 | AS37: =IF(AND(AH37<=Summary!D$6,AH37>0),25*(Summary!D$6+1-AH37)/Summary!D$6,0) -> 20.25 | AT37: =IF(AND(AI37<=Summary!E$6,AI37>0),25*(Summary!E$6+1-AI37)/Summary!E$6,0) -> 11.75 | AU37: =IF(AND(AJ37<=Summary!F$6,AJ37>0),25*(Summary!F$6+1-AJ37)/Summary!F$6,0) -> 14.5 | AV37: =IF(AND(AK37<=Summary!G$6,AK37>0),25*(Summary!G$6+1-AK37)/Summary!G$6,0) -> 23.5 | AW37: =IF(AND(AL37<=Summary!H$6,AL37>0),25*(Summary!H$6+1-AL37)/Summary!H$6,0) -> 19.75 | AX37: =IF(AND(AM37<=Summary!I$6,AM37>0),25*(Summary!I$6+1-AM37)/Summary!I$6,0) -> 15.25 | ... AZ37: =IF(AND(AO37<=Summary!K$6,AO37>0),25*(Summary!K$6+1-AO37)/Summary!K$6,0) -> 0 | BB37: =IF(AND(U37>0,U37<=Summary!B$9),12.5 + 12.5 * (U37 - Summary!B$9) / (Summary!B$7 - Summary!B$9),0) -> 21.107544 | BC37: =IF(AND(V37>0,V37<=Summary!C$9),12.5 + 12.5 * (V37 - Summary!C$9) / (Summary!C$7 - Summary!C$9),0) -> 21.390799 | BD37: =IF(AND(W37>0,W37<=Summary!D$9),12.5 + 12.5 * (W37 - Summary!D$9) / (Summary!D$7 - Summary!D$9),0) -> 18.167175 | BE37: =IF(AND(X37>0,X37<=Summary!E$9),12.5 + 12.5 * (X37 - Summary!E$9) / (Summary!E$7 - Summary!E$9),0) -> 0 | BF37: =IF(AND(Y37>0,Y37<=Summary!F$9),12.5 + 12.5 * (Y37 - Summary!F$9) / (Summary!F$7 - Summary!F$9),0) -> 0 | BG37: =IF(AND(Z37>0,Z37<=Summary!G$9),12.5 + 12.5 * (Z37 - Summary!G$9) / (Summary!G$7 - Summary!G$9),0) -> 22.061856 | BH37: =IF(AND(AA37>0,AA37<=Summary!H$9),12.5 + 12.5 * (AA37 - Summary!H$9) / (Summary!H$7 - Summary!H$9),0) -> 0 | BI37: =IF(AND(AB37>0,AB37<=Summary!I$9),12.5 + 12.5 * (AB37 - Summary!I$9) / (Summary!I$7 - Summary!I$9),0) -> 0 | ... BK37: =IF(AND(AD37>0,AD37<=Summary!K$9),12.5 + 12.5 * (AD37 - Summary!K$9) / (Summary!K$7 - Summary!K$9),0) -> 0 | BM37: =IF(AND(U37>0,U37>Summary!B$9),12.5 - 12.5 * (U37 - Summary!B$9) / (Summary!B$3 - Summary!B$9),0) -> 0 | BN37: =IF(AND(V37>0,V37>Summary!C$9),12.5 - 12.5 * (V37 - Summary!C$9) / (Summary!C$3 - Summary!C$9),0) -> 0 | BO37: =IF(AND(W37>0,W37>Summary!D$9),12.5 - 12.5 * (W37 - Summary!D$9) / (Summary!D$3 - Summary!D$9),0) -> 0 | BP37: =IF(AND(X37>0,X37>Summary!E$9),12.5 - 12.5 * (X37 - Summary!E$9) / (Summary!E$3 - Summary!E$9),0) -> 11.681088 | BQ37: =IF(AND(Y37>0,Y37>Summary!F$9),12.5 - 12.5 * (Y37 - Summary!F$9) / (Summary!F$3 - Summary!F$9),0) -> 6.3663564 | BR37: =IF(AND(Z37>0,Z37>Summary!G$9),12.5 - 12.5 * (Z37 - Summary!G$9) / (Summary!G$3 - Summary!G$9),0) -> 0 | BS37: =IF(AND(AA37>0,AA37>Summary!H$9),12.5 - 12.5 * (AA37 - Summary!H$9) / (Summary!H$3 - Summary!H$9),0) -> 12.453927 | BT37: =IF(AND(AB37>0,AB37>Summary!I$9),12.5 - 12.5 * (AB37 - Summary!I$9) / (Summary!I$3 - Summary!I$9),0) -> 10.59517 | ... BV37: =IF(AND(AD37>0,AD37>Summary!K$9),12.5 - 12.5 * (AD37 - Summary!K$9) / (Summary!K$3 - Summary!K$9),0) -> 0 | BX37: =J37/60 -> 14.416667 | BY37: =K37/60 -> 14.983333 | BZ37: =L37/60 -> 27.3 | CA37: =M37/60 -> 49.8 | CB37: =N37/60 -> 62.233333 | CC37: =O37/60 -> 25.35 | CD37: =P37/60 -> 60.716667 | CE37: =Q37/60 -> 65.433333 | ... CG37: =S37/60 -> 0 | CI37: =AQ37+BB37+BM37 -> 41.107544 | CJ37: =AR37+BC37+BN37 -> 41.390799 | CK37: =AS37+BD37+BO37 -> 38.417175 | CL37: =AT37+BE37+BP37 -> 23.431088 | CM37: =AU37+BF37+BQ37 -> 20.866356 | CN37: =AV37+BG37+BR37 -> 45.561856 | CO37: =AW37+BH37+BS37 -> 32.203927 | CP37: =AX37+BI37+BT37 -> 25.84517 | ... CR37: =AZ37+BK37+BV37 -> 0 | CT37: =MIN(CI37:CR37) -> 0 | CU37: =SMALL(CI37:CR37,2) -> 20.866356 | CV37: =SUM(CI37:CR37)-CT37-CU37 -> 274.22615 | CW37: =50*MIN(8,COUNTIF(J37:S37,">0")) -> 400 | CX37: =CW37+CV37 -> 674.22615 | CZ37: =G37 -> 583.8704 | DA37: =A37 -> 33
A38: 34 | B38: muhorka | C38: Matej Uher | D38: Slovakia | E38: 178.21915 | F38: 6/9/9 + 1 | G38: 578.21915 | H38: 108245 | J38: 973 | K38: 1486 | L38: 1397 | M38: 2011 | O38: 2678 | P38: 12827 | Q38: 3266 | R38: 6304 | S38: 77303 | U38: =IF(J38<=Summary!B$3,J38,0) -> 973 | V38: =IF(K38<=Summary!C$3,K38,0) -> 1486 | W38: =IF(L38<=Summary!D$3,L38,0) -> 1397 | X38: =IF(M38<=Summary!E$3,M38,0) -> 2011 | Y38: =IF(N38<=Summary!F$3,N38,0) -> 0 | Z38: =IF(O38<=Summary!G$3,O38,0) -> 2678 | AA38: =IF(P38<=Summary!H$3,P38,0) -> 0 | AB38: =IF(Q38<=Summary!I$3,Q38,0) -> 3266 | ... AD38: =IF(S38<=Summary!K$3,S38,0) -> 0 | AF38: =IF(J38>0,RANK(J38,J:J,1),0) -> 31 | AG38: =IF(K38>0,RANK(K38,K:K,1),0) -> 104 | AH38: =IF(L38>0,RANK(L38,L:L,1),0) -> 14 | AI38: =IF(M38>0,RANK(M38,M:M,1),0) -> 19 | AJ38: =IF(N38>0,RANK(N38,N:N,1),0) -> 0 | AK38: =IF(O38>0,RANK(O38,O:O,1),0) -> 52 | AL38: =IF(P38>0,RANK(P38,P:P,1),0) -> 74 | AM38: =IF(Q38>0,RANK(Q38,Q:Q,1),0) -> 27 | AN38: =IF(R38>0,RANK(R38,R:R,1),0) -> 60 | AO38: =IF(S38>0,RANK(S38,S:S,1),0) -> 94 | AQ38: =IF(AND(AF38<=Summary!B$6,AF38>0),25*(Summary!B$6+1-AF38)/Summary!B$6,0) -> 17.5 | AR38: =IF(AND(AG38<=Summary!C$6,AG38>0),25*(Summary!C$6+1-AG38)/Summary!C$6,0) -> 0 | AS38: =IF(AND(AH38<=Summary!D$6,AH38>0),25*(Summary!D$6+1-AH38)/Summary!D$6,0) -> 21.75 | AT38: =IF(AND(AI38<=Summary!E$6,AI38>0),25*(Summary!E$6+1-AI38)/Summary!E$6,0) -> 20.5 | AU38: =IF(AND(AJ38<=Summary!F$6,AJ38>0),25*(Summary!F$6+1-AJ38)/Summary!F$6,0) -> 0 | AV38: =IF(AND(AK38<=Summary!G$6,AK38>0),25*(Summary!G$6+1-AK38)/Summary!G$6,0) -> 12.25 | AW38: =IF(AND(AL38<=Summary!H$6,AL38>0),25*(Summary!H$6+1-AL38)/Summary!H$6,0) -> 6.75 | AX38: =IF(AND(AM38<=Summary!I$6,AM38>0),25*(Summary!I$6+1-AM38)/Summary!I$6,0) -> 18.5 | ... AZ38: =IF(AND(AO38<=Summary!K$6,AO38>0),25*(Summary!K$6+1-AO38)/Summary!K$6,0) -> 1.75 | BB38: =IF(AND(U38>0,U38<=Summary!B$9),12.5 + 12.5 * (U38 - Summary!B$9) / (Summary!B$7 - Summary!B$9),0) -> 20.024077 | BC38: =IF(AND(V38>0,V38<=Summary!C$9),12.5 + 12.5 * (V38 - Summary!C$9) / (Summary!C$7 - Summary!C$9),0) -> 13.630354 | BD38: =IF(AND(W38>0,W38<=Summary!D$9),12.5 + 12.5 * (W38 - Summary!D$9) / (Summary!D$7 - Summary!D$9),0) -> 20.210241 | BE38: =IF(AND(X38>0,X38<=Summary!E$9),12.5 + 12.5 * (X38 - Summary!E$9) / (Summary!E$7 - Summary!E$9),0) -> 18.325308 | BF38: =IF(AND(Y38>0,Y38<=Summary!F$9),12.5 + 12.5 * (Y38 - Summary!F$9) / (Summary!F$7 - Summary!F$9),0) -> 0 | BG38: =IF(AND(Z38>0,Z38<=Summary!G$9),12.5 + 12.5 * (Z38 - Summary!G$9) / (Summary!G$7 - Summary!G$9),0) -> 13.541973 | BH38: =IF(AND(AA38>0,AA38<=Summary!H$9),12.5 + 12.5 * (AA38 - Summary!H$9) / (Summary!H$7 - Summary!H$9),0) -> 0 | BI38: =IF(AND(AB38>0,AB38<=Summary!I$9),12.5 + 12.5 * (AB38 - Summary!I$9) / (Summary!I$7 - Summary!I$9),0) -> 15.802676 | ... BK38: =IF(AND(AD38>0,AD38<=Summary!K$9),12.5 + 12.5 * (AD38 - Summary!K$9) / (Summary!K$7 - Summary!K$9),0) -> 0 | BM38: =IF(AND(U38>0,U38>Summary!B$9),12.5 - 12.5 * (U38 - Summary!B$9) / (Summary!B$3 - Summary!B$9),0) -> 0 | BN38: =IF(AND(V38>0,V38>Summary!C$9),12.5 - 12.5 * (V38 - Summary!C$9) / (Summary!C$3 - Summary!C$9),0) -> 0 | BO38: =IF(AND(W38>0,W38>Summary!D$9),12.5 - 12.5 * (W38 - Summary!D$9) / (Summary!D$3 - Summary!D$9),0) -> 0 | BP38: =IF(AND(X38>0,X38>Summary!E$9),12.5 - 12.5 * (X38 - Summary!E$9) / (Summary!E$3 - Summary!E$9),0) -> 0 | BQ38: =IF(AND(Y38>0,Y38>Summary!F$9),12.5 - 12.5 * (Y38 - Summary!F$9) / (Summary!F$3 - Summary!F$9),0) -> 0 | BR38: =IF(AND(Z38>0,Z38>Summary!G$9),12.5 - 12.5 * (Z38 - Summary!G$9) / (Summary!G$3 - Summary!G$9),0) -> 0 | BS38: =IF(AND(AA38>0,AA38>Summary!H$9),12.5 - 12.5 * (AA38 - Summary!H$9) / (Summary!H$3 - Summary!H$9),0) -> 0 | BT38: =IF(AND(AB38>0,AB38>Summary!I$9),12.5 - 12.5 * (AB38 - Summary!I$9) / (Summary!I$3 - Summary!I$9),0) -> 0 | ... BV38: =IF(AND(AD38>0,AD38>Summary!K$9),12.5 - 12.5 * (AD38 - Summary!K$9) / (Summary!K$3 - Summary!K$9),0) -> 0 | BX38: =J38/60 -> 16.216667 | BY38: =K38/60 -> 24.766667 | BZ38: =L38/60 -> 23.283333 | CA38: =M38/60 -> 33.516667 | CB38: =N38/60 -> 0 | CC38: =O38/60 -> 44.633333 | CD38: =P38/60 -> 213.78333 | CE38: =Q38/60 -> 54.433333 | ... CG38: =S38/60 -> 1288.3833 | CI38: =AQ38+BB38+BM38 -> 37.524077 | CJ38: =AR38+BC38+BN38 -> 13.630354 | CK38: =AS38+BD38+BO38 -> 41.960241 | CL38: =AT38+BE38+BP38 -> 38.825308 | CM38: =AU38+BF38+BQ38 -> 0 | CN38: =AV38+BG38+BR38 -> 25.791973 | CO38: =AW38+BH38+BS38 -> 6.75 | CP38: =AX38+BI38+BT38 -> 34.302676 | ... CR38: =AZ38+BK38+BV38 -> 1.75 | CT38: =MIN(CI38:CR38) -> 0 | CU38: =SMALL(CI38:CR38,2) -> 1.75 | CV38: =SUM(CI38:CR38)-CT38-CU38 -> 209.03463 | CW38: =50*MIN(8,COUNTIF(J38:S38,">0")) -> 400 | CX38: =CW38+CV38 -> 609.03463 | CZ38: =G38 -> 578.21915 | DA38: =A38 -> 34
A39: 35 | B39: tojejedno | C39: Jana Brizova | D39: Czech Republic | E39: 171.25917 | F39: 5/10/10 | G39: 571.25917 | H39: 105219 | J39: 915 | K39: 1018 | L39: 3000 | M39: 1931 | N39: 4097 | O39: 1825 | P39: 74925 | Q39: 4720 | R39: 7714 | S39: 5074 | U39: =IF(J39<=Summary!B$3,J39,0) -> 915 | V39: =IF(K39<=Summary!C$3,K39,0) -> 1018 | W39: =IF(L39<=Summary!D$3,L39,0) -> 3000 | X39: =IF(M39<=Summary!E$3,M39,0) -> 1931 | Y39: =IF(N39<=Summary!F$3,N39,0) -> 4097 | Z39: =IF(O39<=Summary!G$3,O39,0) -> 1825 | AA39: =IF(P39<=Summary!H$3,P39,0) -> 0 | AB39: =IF(Q39<=Summary!I$3,Q39,0) -> 4720 | ... AD39: =IF(S39<=Summary!K$3,S39,0) -> 5074 | AF39: =IF(J39>0,RANK(J39,J:J,1),0) -> 24 | AG39: =IF(K39>0,RANK(K39,K:K,1),0) -> 36 | AH39: =IF(L39>0,RANK(L39,L:L,1),0) -> 67 | AI39: =IF(M39>0,RANK(M39,M:M,1),0) -> 14 | AJ39: =IF(N39>0,RANK(N39,N:N,1),0) -> 48 | AK39: =IF(O39>0,RANK(O39,O:O,1),0) -> 19 | AL39: =IF(P39>0,RANK(P39,P:P,1),0) -> 96 | AM39: =IF(Q39>0,RANK(Q39,Q:Q,1),0) -> 55 | AN39: =IF(R39>0,RANK(R39,R:R,1),0) -> 85 | AO39: =IF(S39>0,RANK(S39,S:S,1),0) -> 14 | AQ39: =IF(AND(AF39<=Summary!B$6,AF39>0),25*(Summary!B$6+1-AF39)/Summary!B$6,0) -> 19.25 | AR39: =IF(AND(AG39<=Summary!C$6,AG39>0),25*(Summary!C$6+1-AG39)/Summary!C$6,0) -> 16.25 | AS39: =IF(AND(AH39<=Summary!D$6,AH39>0),25*(Summary!D$6+1-AH39)/Summary!D$6,0) -> 8.5 | AT39: =IF(AND(AI39<=Summary!E$6,AI39>0),25*(Summary!E$6+1-AI39)/Summary!E$6,0) -> 21.75 | AU39: =IF(AND(AJ39<=Summary!F$6,AJ39>0),25*(Summary!F$6+1-AJ39)/Summary!F$6,0) -> 13.25 | AV39: =IF(AND(AK39<=Summary!G$6,AK39>0),25*(Summary!G$6+1-AK39)/Summary!G$6,0) -> 20.5 | AW39: =IF(AND(AL39<=Summary!H$6,AL39>0),25*(Summary!H$6+1-AL39)/Summary!H$6,0) -> 1.25 | AX39: =IF(AND(AM39<=Summary!I$6,AM39>0),25*(Summary!I$6+1-AM39)/Summary!I$6,0) -> 11.5 | ... AZ39: =IF(AND(AO39<=Summary!K$6,AO39>0),25*(Summary!K$6+1-AO39)/Summary!K$6,0) -> 21.75 | BB39: =IF(AND(U39>0,U39<=Summary!B$9),12.5 + 12.5 * (U39 - Summary!B$9) / (Summary!B$7 - Summary!B$9),0) -> 20.605939 | BC39: =IF(AND(V39>0,V39<=Summary!C$9),12.5 + 12.5 * (V39 - Summary!C$9) / (Summary!C$7 - Summary!C$9),0) -> 19.817557 | BD39: =IF(AND(W39>0,W39<=Summary!D$9),12.5 + 12.5 * (W39 - Summary!D$9) / (Summary!D$7 - Summary!D$9),0) -> 0 | BE39: =IF(AND(X39>0,X39<=Summary!E$9),12.5 + 12.5 * (X39 - Summary!E$9) / (Summary!E$7 - Summary!E$9),0) -> 18.860353 | BF39: =IF(AND(Y39>0,Y39<=Summary!F$9),12.5 + 12.5 * (Y39 - Summary!F$9) / (Summary!F$7 - Summary!F$9),0) -> 0 | BG39: =IF(AND(Z39>0,Z39<=Summary!G$9),12.5 + 12.5 * (Z39 - Summary!G$9) / (Summary!G$7 - Summary!G$9),0) -> 19.82327 | BH39: =IF(AND(AA39>0,AA39<=Summary!H$9),12.5 + 12.5 * (AA39 - Summary!H$9) / (Summary!H$7 - Summary!H$9),0) -> 0 | BI39: =IF(AND(AB39>0,AB39<=Summary!I$9),12.5 + 12.5 * (AB39 - Summary!I$9) / (Summary!I$7 - Summary!I$9),0) -> 0 | ... BK39: =IF(AND(AD39>0,AD39<=Summary!K$9),12.5 + 12.5 * (AD39 - Summary!K$9) / (Summary!K$7 - Summary!K$9),0) -> 0 | BM39: =IF(AND(U39>0,U39>Summary!B$9),12.5 - 12.5 * (U39 - Summary!B$9) / (Summary!B$3 - Summary!B$9),0) -> 0 | BN39: =IF(AND(V39>0,V39>Summary!C$9),12.5 - 12.5 * (V39 - Summary!C$9) / (Summary!C$3 - Summary!C$9),0) -> 0 | BO39: =IF(AND(W39>0,W39>Summary!D$9),12.5 - 12.5 * (W39 - Summary!D$9) / (Summary!D$3 - Summary!D$9),0) -> 5.7982219 | BP39: =IF(AND(X39>0,X39>Summary!E$9),12.5 - 12.5 * (X39 - Summary!E$9) / (Summary!E$3 - Summary!E$9),0) -> 0 | BQ39: =IF(AND(Y39>0,Y39>Summary!F$9),12.5 - 12.5 * (Y39 - Summary!F$9) / (Summary!F$3 - Summary!F$9),0) -> 3.3494016 | BR39: =IF(AND(Z39>0,Z39>Summary!G$9),12.5 - 12.5 * (Z39 - Summary!G$9) / (Summary!G$3 - Summary!G$9),0) -> 0 | BS39: =IF(AND(AA39>0,AA39>Summary!H$9),12.5 - 12.5 * (AA39 - Summary!H$9) / (Summary!H$3 - Summary!H$9),0) -> 0 | BT39: =IF(AND(AB39>0,AB39>Summary!I$9),12.5 - 12.5 * (AB39 - Summary!I$9) / (Summary!I$3 - Summary!I$9),0) -> 4.8878666 | ... BV39: =IF(AND(AD39>0,AD39>Summary!K$9),12.5 - 12.5 * (AD39 - Summary!K$9) / (Summary!K$3 - Summary!K$9),0) -> 7.4361314 | BX39: =J39/60 -> 15.25 | BY39: =K39/60 -> 16.966667 | BZ39: =L39/60 -> 50 | CA39: =M39/60 -> 32.183333 | CB39: =N39/60 -> 68.283333 | CC39: =O39/60 -> 30.416667 | CD39: =P39/60 -> 1248.75 | CE39: =Q39/60 -> 78.666667 | ... CG39: =S39/60 -> 84.566667 | CI39: =AQ39+BB39+BM39 -> 39.855939 | CJ39: =AR39+BC39+BN39 -> 36.067557 | CK39: =AS39+BD39+BO39 -> 14.298222 | CL39: =AT39+BE39+BP39 -> 40.610353 | CM39: =AU39+BF39+BQ39 -> 16.599402 | CN39: =AV39+BG39+BR39 -> 40.32327 | CO39: =AW39+BH39+BS39 -> 1.25 | CP39: =AX39+BI39+BT39 -> 16.387867 | ... CR39: =AZ39+BK39+BV39 -> 29.186131 | CT39: =MIN(CI39:CR39) -> 1.25 | CU39: =SMALL(CI39:CR39,2) -> 4 | CV39: =SUM(CI39:CR39)-CT39-CU39 -> 233.32874 | CW39: =50*MIN(8,COUNTIF(J39:S39,">0")) -> 400 | CX39: =CW39+CV39 -> 633.32874 | CZ39: =G39 -> 571.25917 | DA39: =A39 -> 35
A40: 36 | B40: rubben | C40: Ruben Gafencu | D40: Romania | E40: 168.34193 | F40: 5/10/10 | G40: 568.34193 | H40: 53009 | J40: 1228 | K40: 1054 | L40: 17095 | M40: 2763 | N40: 7072 | O40: 2468 | P40: 2144 | Q40: 3661 | R40: 4665 | S40: 10859 | U40: =IF(J40<=Summary!B$3,J40,0) -> 1228 | V40: =IF(K40<=Summary!C$3,K40,0) -> 1054 | W40: =IF(L40<=Summary!D$3,L40,0) -> 0 | X40: =IF(M40<=Summary!E$3,M40,0) -> 2763 | Y40: =IF(N40<=Summary!F$3,N40,0) -> 0 | Z40: =IF(O40<=Summary!G$3,O40,0) -> 2468 | AA40: =IF(P40<=Summary!H$3,P40,0) -> 2144 | AB40: =IF(Q40<=Summary!I$3,Q40,0) -> 3661 | ... AD40: =IF(S40<=Summary!K$3,S40,0) -> 0 | AF40: =IF(J40>0,RANK(J40,J:J,1),0) -> 53 | AG40: =IF(K40>0,RANK(K40,K:K,1),0) -> 39 | AH40: =IF(L40>0,RANK(L40,L:L,1),0) -> 171 | AI40: =IF(M40>0,RANK(M40,M:M,1),0) -> 47 | AJ40: =IF(N40>0,RANK(N40,N:N,1),0) -> 95 | AK40: =IF(O40>0,RANK(O40,O:O,1),0) -> 38 | AL40: =IF(P40>0,RANK(P40,P:P,1),0) -> 2 | AM40: =IF(Q40>0,RANK(Q40,Q:Q,1),0) -> 33 | AN40: =IF(R40>0,RANK(R40,R:R,1),0) -> 41 | AO40: =IF(S40>0,RANK(S40,S:S,1),0) -> 48 | AQ40: =IF(AND(AF40<=Summary!B$6,AF40>0),25*(Summary!B$6+1-AF40)/Summary!B$6,0) -> 12 | AR40: =IF(AND(AG40<=Summary!C$6,AG40>0),25*(Summary!C$6+1-AG40)/Summary!C$6,0) -> 15.5 | AS40: =IF(AND(AH40<=Summary!D$6,AH40>0),25*(Summary!D$6+1-AH40)/Summary!D$6,0) -> 0 | AT40: =IF(AND(AI40<=Summary!E$6,AI40>0),25*(Summary!E$6+1-AI40)/Summary!E$6,0) -> 13.5 | AU40: =IF(AND(AJ40<=Summary!F$6,AJ40>0),25*(Summary!F$6+1-AJ40)/Summary!F$6,0) -> 1.5 | AV40: =IF(AND(AK40<=Summary!G$6,AK40>0),25*(Summary!G$6+1-AK40)/Summary!G$6,0) -> 15.75 | AW40: =IF(AND(AL40<=Summary!H$6,AL40>0),25*(Summary!H$6+1-AL40)/Summary!H$6,0) -> 24.75 | AX40: =IF(AND(AM40<=Summary!I$6,AM40>0),25*(Summary!I$6+1-AM40)/Summary!I$6,0) -> 17 | ... AZ40: =IF(AND(AO40<=Summary!K$6,AO40>0),25*(Summary!K$6+1-AO40)/Summary!K$6,0) -> 13.25 | BB40: =IF(AND(U40>0,U40<=Summary!B$9),12.5 + 12.5 * (U40 - Summary!B$9) / (Summary!B$7 - Summary!B$9),0) -> 17.465891 | BC40: =IF(AND(V40>0,V40<=Summary!C$9),12.5 + 12.5 * (V40 - Summary!C$9) / (Summary!C$7 - Summary!C$9),0) -> 19.341618 | BD40: =IF(AND(W40>0,W40<=Summary!D$9),12.5 + 12.5 * (W40 - Summary!D$9) / (Summary!D$7 - Summary!D$9),0) -> 0 | BE40: =IF(AND(X40>0,X40<=Summary!E$9),12.5 + 12.5 * (X40 - Summary!E$9) / (Summary!E$7 - Summary!E$9),0) -> 13.29588 | BF40: =IF(AND(Y40>0,Y40<=Summary!F$9),12.5 + 12.5 * (Y40 - Summary!F$9) / (Summary!F$7 - Summary!F$9),0) -> 0 | BG40: =IF(AND(Z40>0,Z40<=Summary!G$9),12.5 + 12.5 * (Z40 - Summary!G$9) / (Summary!G$7 - Summary!G$9),0) -> 15.088365 | BH40: =IF(AND(AA40>0,AA40<=Summary!H$9),12.5 + 12.5 * (AA40 - Summary!H$9) / (Summary!H$7 - Summary!H$9),0) -> 23.419666 | BI40: =IF(AND(AB40>0,AB40<=Summary!I$9),12.5 + 12.5 * (AB40 - Summary!I$9) / (Summary!I$7 - Summary!I$9),0) -> 12.5 | ... BK40: =IF(AND(AD40>0,AD40<=Summary!K$9),12.5 + 12.5 * (AD40 - Summary!K$9) / (Summary!K$7 - Summary!K$9),0) -> 0 | BM40: =IF(AND(U40>0,U40>Summary!B$9),12.5 - 12.5 * (U40 - Summary!B$9) / (Summary!B$3 - Summary!B$9),0) -> 0 | BN40: =IF(AND(V40>0,V40>Summary!C$9),12.5 - 12.5 * (V40 - Summary!C$9) / (Summary!C$3 - Summary!C$9),0) -> 0 | BO40: =IF(AND(W40>0,W40>Summary!D$9),12.5 - 12.5 * (W40 - Summary!D$9) / (Summary!D$3 - Summary!D$9),0) -> 0 | BP40: =IF(AND(X40>0,X40>Summary!E$9),12.5 - 12.5 * (X40 - Summary!E$9) / (Summary!E$3 - Summary!E$9),0) -> 0 | BQ40: =IF(AND(Y40>0,Y40>Summary!F$9),12.5 - 12.5 * (Y40 - Summary!F$9) / (Summary!F$3 - Summary!F$9),0) -> 0 | BR40: =IF(AND(Z40>0,Z40>Summary!G$9),12.5 - 12.5 * (Z40 - Summary!G$9) / (Summary!G$3 - Summary!G$9),0) -> 0 | BS40: =IF(AND(AA40>0,AA40>Summary!H$9),12.5 - 12.5 * (AA40 - Summary!H$9) / (Summary!H$3 - Summary!H$9),0) -> 0 | BT40: =IF(AND(AB40>0,AB40>Summary!I$9),12.5 - 12.5 * (AB40 - Summary!I$9) / (Summary!I$3 - Summary!I$9),0) -> 0 | ... BV40: =IF(AND(AD40>0,AD40>Summary!K$9),12.5 - 12.5 * (AD40 - Summary!K$9) / (Summary!K$3 - Summary!K$9),0) -> 0 | BX40: =J40/60 -> 20.466667 | BY40: =K40/60 -> 17.566667 | BZ40: =L40/60 -> 284.91667 | CA40: =M40/60 -> 46.05 | CB40: =N40/60 -> 117.86667 | CC40: =O40/60 -> 41.133333 | CD40: =P40/60 -> 35.733333 | CE40: =Q40/60 -> 61.016667 | ... CG40: =S40/60 -> 180.98333 | CI40: =AQ40+BB40+BM40 -> 29.465891 | CJ40: =AR40+BC40+BN40 -> 34.841618 | CK40: =AS40+BD40+BO40 -> 0 | CL40: =AT40+BE40+BP40 -> 26.79588 | CM40: =AU40+BF40+BQ40 -> 1.5 | CN40: =AV40+BG40+BR40 -> 30.838365 | CO40: =AW40+BH40+BS40 -> 48.169666 | CP40: =AX40+BI40+BT40 -> 29.5 | ... CR40: =AZ40+BK40+BV40 -> 13.25 | CT40: =MIN(CI40:CR40) -> 0 | CU40: =SMALL(CI40:CR40,2) -> 1.5 | CV40: =SUM(CI40:CR40)-CT40-CU40 -> 234.83221 | CW40: =50*MIN(8,COUNTIF(J40:S40,">0")) -> 400 | CX40: =CW40+CV40 -> 634.83221 | CZ40: =G40 -> 568.34193 | DA40: =A40 -> 36
A41: 37 | B41: sugitakukun | C41: Takuya Sugimoto | D41: Japan | E41: 165.47548 | F41: 5/10/10 | G41: 565.47548 | H41: 37000 | J41: 979 | K41: 820 | L41: 2393 | M41: 2388 | N41: 4709 | O41: 3656 | P41: 4375 | Q41: 3835 | R41: 3077 | S41: 10768 | U41: =IF(J41<=Summary!B$3,J41,0) -> 979 | V41: =IF(K41<=Summary!C$3,K41,0) -> 820 | W41: =IF(L41<=Summary!D$3,L41,0) -> 2393 | X41: =IF(M41<=Summary!E$3,M41,0) -> 2388 | Y41: =IF(N41<=Summary!F$3,N41,0) -> 0 | Z41: =IF(O41<=Summary!G$3,O41,0) -> 3656 | AA41: =IF(P41<=Summary!H$3,P41,0) -> 4375 | AB41: =IF(Q41<=Summary!I$3,Q41,0) -> 3835 | ... AD41: =IF(S41<=Summary!K$3,S41,0) -> 0 | AF41: =IF(J41>0,RANK(J41,J:J,1),0) -> 32 | AG41: =IF(K41>0,RANK(K41,K:K,1),0) -> 13 | AH41: =IF(L41>0,RANK(L41,L:L,1),0) -> 47 | AI41: =IF(M41>0,RANK(M41,M:M,1),0) -> 37 | AJ41: =IF(N41>0,RANK(N41,N:N,1),0) -> 58 | AK41: =IF(O41>0,RANK(O41,O:O,1),0) -> 90 | AL41: =IF(P41>0,RANK(P41,P:P,1),0) -> 30 | AM41: =IF(Q41>0,RANK(Q41,Q:Q,1),0) -> 35 | AN41: =IF(R41>0,RANK(R41,R:R,1),0) -> 8 | AO41: =IF(S41>0,RANK(S41,S:S,1),0) -> 47 | AQ41: =IF(AND(AF41<=Summary!B$6,AF41>0),25*(Summary!B$6+1-AF41)/Summary!B$6,0) -> 17.25 | AR41: =IF(AND(AG41<=Summary!C$6,AG41>0),25*(Summary!C$6+1-AG41)/Summary!C$6,0) -> 22 | AS41: =IF(AND(AH41<=Summary!D$6,AH41>0),25*(Summary!D$6+1-AH41)/Summary!D$6,0) -> 13.5 | AT41: =IF(AND(AI41<=Summary!E$6,AI41>0),25*(Summary!E$6+1-AI41)/Summary!E$6,0) -> 16 | AU41: =IF(AND(AJ41<=Summary!F$6,AJ41>0),25*(Summary!F$6+1-AJ41)/Summary!F$6,0) -> 10.75 | AV41: =IF(AND(AK41<=Summary!G$6,AK41>0),25*(Summary!G$6+1-AK41)/Summary!G$6,0) -> 2.75 | AW41: =IF(AND(AL41<=Summary!H$6,AL41>0),25*(Summary!H$6+1-AL41)/Summary!H$6,0) -> 17.75 | AX41: =IF(AND(AM41<=Summary!I$6,AM41>0),25*(Summary!I$6+1-AM41)/Summary!I$6,0) -> 16.5 | ... AZ41: =IF(AND(AO41<=Summary!K$6,AO41>0),25*(Summary!K$6+1-AO41)/Summary!K$6,0) -> 13.5 | BB41: =IF(AND(U41>0,U41<=Summary!B$9),12.5 + 12.5 * (U41 - Summary!B$9) / (Summary!B$7 - Summary!B$9),0) -> 19.963884 | BC41: =IF(AND(V41>0,V41<=Summary!C$9),12.5 + 12.5 * (V41 - Summary!C$9) / (Summary!C$7 - Summary!C$9),0) -> 22.435219 | BD41: =IF(AND(W41>0,W41<=Summary!D$9),12.5 + 12.5 * (W41 - Summary!D$9) / (Summary!D$7 - Summary!D$9),0) -> 0 | BE41: =IF(AND(X41>0,X41<=Summary!E$9),12.5 + 12.5 * (X41 - Summary!E$9) / (Summary!E$7 - Summary!E$9),0) -> 15.803906 | BF41: =IF(AND(Y41>0,Y41<=Summary!F$9),12.5 + 12.5 * (Y41 - Summary!F$9) / (Summary!F$7 - Summary!F$9),0) -> 0 | BG41: =IF(AND(Z41>0,Z41<=Summary!G$9),12.5 + 12.5 * (Z41 - Summary!G$9) / (Summary!G$7 - Summary!G$9),0) -> 0 | BH41: =IF(AND(AA41>0,AA41<=Summary!H$9),12.5 + 12.5 * (AA41 - Summary!H$9) / (Summary!H$7 - Summary!H$9),0) -> 0 | BI41: =IF(AND(AB41>0,AB41<=Summary!I$9),12.5 + 12.5 * (AB41 - Summary!I$9) / (Summary!I$7 - Summary!I$9),0) -> 0 | ... BK41: =IF(AND(AD41>0,AD41<=Summary!K$9),12.5 + 12.5 * (AD41 - Summary!K$9) / (Summary!K$7 - Summary!K$9),0) -> 0 | BM41: =IF(AND(U41>0,U41>Summary!B$9),12.5 - 12.5 * (U41 - Summary!B$9) / (Summary!B$3 - Summary!B$9),0) -> 0 | BN41: =IF(AND(V41>0,V41>Summary!C$9),12.5 - 12.5 * (V41 - Summary!C$9) / (Summary!C$3 - Summary!C$9),0) -> 0 | BO41: =IF(AND(W41>0,W41>Summary!D$9),12.5 - 12.5 * (W41 - Summary!D$9) / (Summary!D$3 - Summary!D$9),0) -> 11.66409 | BP41: =IF(AND(X41>0,X41>Summary!E$9),12.5 - 12.5 * (X41 - Summary!E$9) / (Summary!E$3 - Summary!E$9),0) -> 0 | BQ41: =IF(AND(Y41>0,Y41>Summary!F$9),12.5 - 12.5 * (Y41 - Summary!F$9) / (Summary!F$3 - Summary!F$9),0) -> 0 | BR41: =IF(AND(Z41>0,Z41>Summary!G$9),12.5 - 12.5 * (Z41 - Summary!G$9) / (Summary!G$3 - Summary!G$9),0) -> 6.2778935 | BS41: =IF(AND(AA41>0,AA41>Summary!H$9),12.5 - 12.5 * (AA41 - Summary!H$9) / (Summary!H$3 - Summary!H$9),0) -> 7.2653813 | BT41: =IF(AND(AB41>0,AB41>Summary!I$9),12.5 - 12.5 * (AB41 - Summary!I$9) / (Summary!I$3 - Summary!I$9),0) -> 11.249281 | ... BV41: =IF(AND(AD41>0,AD41>Summary!K$9),12.5 - 12.5 * (AD41 - Summary!K$9) / (Summary!K$3 - Summary!K$9),0) -> 0 | BX41: =J41/60 -> 16.316667 | BY41: =K41/60 -> 13.666667 | BZ41: =L41/60 -> 39.883333 | CA41: =M41/60 -> 39.8 | CB41: =N41/60 -> 78.483333 | CC41: =O41/60 -> 60.933333 | CD41: =P41/60 -> 72.916667 | CE41: =Q41/60 -> 63.916667 | ... CG41: =S41/60 -> 179.46667 | CI41: =AQ41+BB41+BM41 -> 37.213884 | CJ41: =AR41+BC41+BN41 -> 44.435219 | CK41: =AS41+BD41+BO41 -> 25.16409 | CL41: =AT41+BE41+BP41 -> 31.803906 | CM41: =AU41+BF41+BQ41 -> 10.75 | CN41: =AV41+BG41+BR41 -> 9.0278935 | CO41: =AW41+BH41+BS41 -> 25.015381 | CP41: =AX41+BI41+BT41 -> 27.749281 | ... CR41: =AZ41+BK41+BV41 -> 13.5 | CT41: =MIN(CI41:CR41) -> 9.0278935 | CU41: =SMALL(CI41:CR41,2) -> 10.75 | CV41: =SUM(CI41:CR41)-CT41-CU41 -> 247.38216 | CW41: =50*MIN(8,COUNTIF(J41:S41,">0")) -> 400 | CX41: =CW41+CV41 -> 647.38216 | CZ41: =G41 -> 565.47548 | DA41: =A41 -> 37
A42: 38 | B42: AndreyBogdanov | C42: Andrey Bogdanov | D42: Russia | E42: 164.11716 | F42: 4/10/10 | G42: 564.11716 | H42: 47836 | J42: 933 | K42: 1059 | L42: 1896 | M42: 8297 | N42: 3799 | O42: 3675 | P42: 8777 | Q42: 2166 | R42: 5924 | S42: 11310 | U42: =IF(J42<=Summary!B$3,J42,0) -> 933 | V42: =IF(K42<=Summary!C$3,K42,0) -> 1059 | W42: =IF(L42<=Summary!D$3,L42,0) -> 1896 | X42: =IF(M42<=Summary!E$3,M42,0) -> 0 | Y42: =IF(N42<=Summary!F$3,N42,0) -> 3799 | Z42: =IF(O42<=Summary!G$3,O42,0) -> 3675 | AA42: =IF(P42<=Summary!H$3,P42,0) -> 0 | AB42: =IF(Q42<=Summary!I$3,Q42,0) -> 2166 | ... AD42: =IF(S42<=Summary!K$3,S42,0) -> 0 | AF42: =IF(J42>0,RANK(J42,J:J,1),0) -> 27 | AG42: =IF(K42>0,RANK(K42,K:K,1),0) -> 40 | AH42: =IF(L42>0,RANK(L42,L:L,1),0) -> 32 | AI42: =IF(M42>0,RANK(M42,M:M,1),0) -> 138 | AJ42: =IF(N42>0,RANK(N42,N:N,1),0) -> 45 | AK42: =IF(O42>0,RANK(O42,O:O,1),0) -> 92 | AL42: =IF(P42>0,RANK(P42,P:P,1),0) -> 61 | AM42: =IF(Q42>0,RANK(Q42,Q:Q,1),0) -> 1 | AN42: =IF(R42>0,RANK(R42,R:R,1),0) -> 58 | AO42: =IF(S42>0,RANK(S42,S:S,1),0) -> 49 | AQ42: =IF(AND(AF42<=Summary!B$6,AF42>0),25*(Summary!B$6+1-AF42)/Summary!B$6,0) -> 18.5 | AR42: =IF(AND(AG42<=Summary!C$6,AG42>0),25*(Summary!C$6+1-AG42)/Summary!C$6,0) -> 15.25 | AS42: =IF(AND(AH42<=Summary!D$6,AH42>0),25*(Summary!D$6+1-AH42)/Summary!D$6,0) -> 17.25 | AT42: =IF(AND(AI42<=Summary!E$6,AI42>0),25*(Summary!E$6+1-AI42)/Summary!E$6,0) -> 0 | AU42: =IF(AND(AJ42<=Summary!F$6,AJ42>0),25*(Summary!F$6+1-AJ42)/Summary!F$6,0) -> 14 | AV42: =IF(AND(AK42<=Summary!G$6,AK42>0),25*(Summary!G$6+1-AK42)/Summary!G$6,0) -> 2.25 | AW42: =IF(AND(AL42<=Summary!H$6,AL42>0),25*(Summary!H$6+1-AL42)/Summary!H$6,0) -> 10 | AX42: =IF(AND(AM42<=Summary!I$6,AM42>0),25*(Summary!I$6+1-AM42)/Summary!I$6,0) -> 25 | ... AZ42: =IF(AND(AO42<=Summary!K$6,AO42>0),25*(Summary!K$6+1-AO42)/Summary!K$6,0) -> 13 | BB42: =IF(AND(U42>0,U42<=Summary!B$9),12.5 + 12.5 * (U42 - Summary!B$9) / (Summary!B$7 - Summary!B$9),0) -> 20.425361 | BC42: =IF(AND(V42>0,V42<=Summary!C$9),12.5 + 12.5 * (V42 - Summary!C$9) / (Summary!C$7 - Summary!C$9),0) -> 19.275516 | BD42: =IF(AND(W42>0,W42<=Summary!D$9),12.5 + 12.5 * (W42 - Summary!D$9) / (Summary!D$7 - Summary!D$9),0) -> 15.979993 | BE42: =IF(AND(X42>0,X42<=Summary!E$9),12.5 + 12.5 * (X42 - Summary!E$9) / (Summary!E$7 - Summary!E$9),0) -> 0 | BF42: =IF(AND(Y42>0,Y42<=Summary!F$9),12.5 + 12.5 * (Y42 - Summary!F$9) / (Summary!F$7 - Summary!F$9),0) -> 0 | BG42: =IF(AND(Z42>0,Z42<=Summary!G$9),12.5 + 12.5 * (Z42 - Summary!G$9) / (Summary!G$7 - Summary!G$9),0) -> 0 | BH42: =IF(AND(AA42>0,AA42<=Summary!H$9),12.5 + 12.5 * (AA42 - Summary!H$9) / (Summary!H$7 - Summary!H$9),0) -> 0 | BI42: =IF(AND(AB42>0,AB42<=Summary!I$9),12.5 + 12.5 * (AB42 - Summary!I$9) / (Summary!I$7 - Summary!I$9),0) -> 25 | ... BK42: =IF(AND(AD42>0,AD42<=Summary!K$9),12.5 + 12.5 * (AD42 - Summary!K$9) / (Summary!K$7 - Summary!K$9),0) -> 0 | BM42: =IF(AND(U42>0,U42>Summary!B$9),12.5 - 12.5 * (U42 - Summary!B$9) / (Summary!B$3 - Summary!B$9),0) -> 0 | BN42: =IF(AND(V42>0,V42>Summary!C$9),12.5 - 12.5 * (V42 - Summary!C$9) / (Summary!C$3 - Summary!C$9),0) -> 0 | BO42: =IF(AND(W42>0,W42>Summary!D$9),12.5 - 12.5 * (W42 - Summary!D$9) / (Summary!D$3 - Summary!D$9),0) -> 0 | BP42: =IF(AND(X42>0,X42>Summary!E$9),12.5 - 12.5 * (X42 - Summary!E$9) / (Summary!E$3 - Summary!E$9),0) -> 0 | BQ42: =IF(AND(Y42>0,Y42>Summary!F$9),12.5 - 12.5 * (Y42 - Summary!F$9) / (Summary!F$3 - Summary!F$9),0) -> 5.8261303 | BR42: =IF(AND(Z42>0,Z42>Summary!G$9),12.5 - 12.5 * (Z42 - Summary!G$9) / (Summary!G$3 - Summary!G$9),0) -> 6.1365665 | BS42: =IF(AND(AA42>0,AA42>Summary!H$9),12.5 - 12.5 * (AA42 - Summary!H$9) / (Summary!H$3 - Summary!H$9),0) -> 0 | BT42: =IF(AND(AB42>0,AB42>Summary!I$9),12.5 - 12.5 * (AB42 - Summary!I$9) / (Summary!I$3 - Summary!I$9),0) -> 0 | ... BV42: =IF(AND(AD42>0,AD42>Summary!K$9),12.5 - 12.5 * (AD42 - Summary!K$9) / (Summary!K$3 - Summary!K$9),0) -> 0 | BX42: =J42/60 -> 15.55 | BY42: =K42/60 -> 17.65 | BZ42: =L42/60 -> 31.6 | CA42: =M42/60 -> 138.28333 | CB42: =N42/60 -> 63.316667 | CC42: =O42/60 -> 61.25 | CD42: =P42/60 -> 146.28333 | CE42: =Q42/60 -> 36.1 | ... CG42: =S42/60 -> 188.5 | CI42: =AQ42+BB42+BM42 -> 38.925361 | CJ42: =AR42+BC42+BN42 -> 34.525516 | CK42: =AS42+BD42+BO42 -> 33.229993 | CL42: =AT42+BE42+BP42 -> 0 | CM42: =AU42+BF42+BQ42 -> 19.82613 | CN42: =AV42+BG42+BR42 -> 8.3865665 | CO42: =AW42+BH42+BS42 -> 10 | CP42: =AX42+BI42+BT42 -> 50 | ... CR42: =AZ42+BK42+BV42 -> 13 | CT42: =MIN(CI42:CR42) -> 0 | CU42: =SMALL(CI42:CR42,2) -> 8.3865665 | CV42: =SUM(CI42:CR42)-CT42-CU42 -> 210.257 | CW42: =50*MIN(8,COUNTIF(J42:S42,">0")) -> 400 | CX42: =CW42+CV42 -> 610.257 | CZ42: =G42 -> 564.11716 | DA42: =A42 -> 38
A43: 39 | B43: gori.sh | C43: Tamekasa Aoki | D43: Japan | E43: 157.68447 | F43: 5/10/10 | G43: 557.68447 | H43: 159951 | J43: 1347 | K43: 1251 | L43: 1312 | M43: 128015 | N43: 3888 | O43: 2603 | P43: 3079 | Q43: 4333 | R43: 4781 | S43: 9342 | U43: =IF(J43<=Summary!B$3,J43,0) -> 1347 | V43: =IF(K43<=Summary!C$3,K43,0) -> 1251 | W43: =IF(L43<=Summary!D$3,L43,0) -> 1312 | X43: =IF(M43<=Summary!E$3,M43,0) -> 0 | Y43: =IF(N43<=Summary!F$3,N43,0) -> 3888 | Z43: =IF(O43<=Summary!G$3,O43,0) -> 2603 | AA43: =IF(P43<=Summary!H$3,P43,0) -> 3079 | AB43: =IF(Q43<=Summary!I$3,Q43,0) -> 4333 | ... AD43: =IF(S43<=Summary!K$3,S43,0) -> 0 | AF43: =IF(J43>0,RANK(J43,J:J,1),0) -> 64 | AG43: =IF(K43>0,RANK(K43,K:K,1),0) -> 78 | AH43: =IF(L43>0,RANK(L43,L:L,1),0) -> 8 | AI43: =IF(M43>0,RANK(M43,M:M,1),0) -> 205 | AJ43: =IF(N43>0,RANK(N43,N:N,1),0) -> 47 | AK43: =IF(O43>0,RANK(O43,O:O,1),0) -> 49 | AL43: =IF(P43>0,RANK(P43,P:P,1),0) -> 11 | AM43: =IF(Q43>0,RANK(Q43,Q:Q,1),0) -> 46 | AN43: =IF(R43>0,RANK(R43,R:R,1),0) -> 43 | AO43: =IF(S43>0,RANK(S43,S:S,1),0) -> 40 | AQ43: =IF(AND(AF43<=Summary!B$6,AF43>0),25*(Summary!B$6+1-AF43)/Summary!B$6,0) -> 9.25 | AR43: =IF(AND(AG43<=Summary!C$6,AG43>0),25*(Summary!C$6+1-AG43)/Summary!C$6,0) -> 5.75 | AS43: =IF(AND(AH43<=Summary!D$6,AH43>0),25*(Summary!D$6+1-AH43)/Summary!D$6,0) -> 23.25 | AT43: =IF(AND(AI43<=Summary!E$6,AI43>0),25*(Summary!E$6+1-AI43)/Summary!E$6,0) -> 0 | AU43: =IF(AND(AJ43<=Summary!F$6,AJ43>0),25*(Summary!F$6+1-AJ43)/Summary!F$6,0) -> 13.5 | AV43: =IF(AND(AK43<=Summary!G$6,AK43>0),25*(Summary!G$6+1-AK43)/Summary!G$6,0) -> 13 | AW43: =IF(AND(AL43<=Summary!H$6,AL43>0),25*(Summary!H$6+1-AL43)/Summary!H$6,0) -> 22.5 | AX43: =IF(AND(AM43<=Summary!I$6,AM43>0),25*(Summary!I$6+1-AM43)/Summary!I$6,0) -> 13.75 | ... AZ43: =IF(AND(AO43<=Summary!K$6,AO43>0),25*(Summary!K$6+1-AO43)/Summary!K$6,0) -> 15.25 | BB43: =IF(AND(U43>0,U43<=Summary!B$9),12.5 + 12.5 * (U43 - Summary!B$9) / (Summary!B$7 - Summary!B$9),0) -> 16.272071 | BC43: =IF(AND(V43>0,V43<=Summary!C$9),12.5 + 12.5 * (V43 - Summary!C$9) / (Summary!C$7 - Summary!C$9),0) -> 16.737176 | BD43: =IF(AND(W43>0,W43<=Summary!D$9),12.5 + 12.5 * (W43 - Summary!D$9) / (Summary!D$7 - Summary!D$9),0) -> 20.930824 | BE43: =IF(AND(X43>0,X43<=Summary!E$9),12.5 + 12.5 * (X43 - Summary!E$9) / (Summary!E$7 - Summary!E$9),0) -> 0 | BF43: =IF(AND(Y43>0,Y43<=Summary!F$9),12.5 + 12.5 * (Y43 - Summary!F$9) / (Summary!F$7 - Summary!F$9),0) -> 0 | BG43: =IF(AND(Z43>0,Z43<=Summary!G$9),12.5 + 12.5 * (Z43 - Summary!G$9) / (Summary!G$7 - Summary!G$9),0) -> 14.094256 | BH43: =IF(AND(AA43>0,AA43<=Summary!H$9),12.5 + 12.5 * (AA43 - Summary!H$9) / (Summary!H$7 - Summary!H$9),0) -> 16.57887 | BI43: =IF(AND(AB43>0,AB43<=Summary!I$9),12.5 + 12.5 * (AB43 - Summary!I$9) / (Summary!I$7 - Summary!I$9),0) -> 0 | ... BK43: =IF(AND(AD43>0,AD43<=Summary!K$9),12.5 + 12.5 * (AD43 - Summary!K$9) / (Summary!K$7 - Summary!K$9),0) -> 0 | BM43: =IF(AND(U43>0,U43>Summary!B$9),12.5 - 12.5 * (U43 - Summary!B$9) / (Summary!B$3 - Summary!B$9),0) -> 0 | BN43: =IF(AND(V43>0,V43>Summary!C$9),12.5 - 12.5 * (V43 - Summary!C$9) / (Summary!C$3 - Summary!C$9),0) -> 0 | BO43: =IF(AND(W43>0,W43>Summary!D$9),12.5 - 12.5 * (W43 - Summary!D$9) / (Summary!D$3 - Summary!D$9),0) -> 0 | BP43: =IF(AND(X43>0,X43>Summary!E$9),12.5 - 12.5 * (X43 - Summary!E$9) / (Summary!E$3 - Summary!E$9),0) -> 0 | BQ43: =IF(AND(Y43>0,Y43>Summary!F$9),12.5 - 12.5 * (Y43 - Summary!F$9) / (Summary!F$3 - Summary!F$9),0) -> 5.0864362 | BR43: =IF(AND(Z43>0,Z43>Summary!G$9),12.5 - 12.5 * (Z43 - Summary!G$9) / (Summary!G$3 - Summary!G$9),0) -> 0 | BS43: =IF(AND(AA43>0,AA43>Summary!H$9),12.5 - 12.5 * (AA43 - Summary!H$9) / (Summary!H$3 - Summary!H$9),0) -> 0 | BT43: =IF(AND(AB43>0,AB43>Summary!I$9),12.5 - 12.5 * (AB43 - Summary!I$9) / (Summary!I$3 - Summary!I$9),0) -> 7.6696377 | ... BV43: =IF(AND(AD43>0,AD43>Summary!K$9),12.5 - 12.5 * (AD43 - Summary!K$9) / (Summary!K$3 - Summary!K$9),0) -> 0 | BX43: =J43/60 -> 22.45 | BY43: =K43/60 -> 20.85 | BZ43: =L43/60 -> 21.866667 | CA43: =M43/60 -> 2133.5833 | CB43: =N43/60 -> 64.8 | CC43: =O43/60 -> 43.383333 | CD43: =P43/60 -> 51.316667 | CE43: =Q43/60 -> 72.216667 | ... CG43: =S43/60 -> 155.7 | CI43: =AQ43+BB43+BM43 -> 25.522071 | CJ43: =AR43+BC43+BN43 -> 22.487176 | CK43: =AS43+BD43+BO43 -> 44.180824 | CL43: =AT43+BE43+BP43 -> 0 | CM43: =AU43+BF43+BQ43 -> 18.586436 | CN43: =AV43+BG43+BR43 -> 27.094256 | CO43: =AW43+BH43+BS43 -> 39.07887 | CP43: =AX43+BI43+BT43 -> 21.419638 | ... CR43: =AZ43+BK43+BV43 -> 15.25 | CT43: =MIN(CI43:CR43) -> 0 | CU43: =SMALL(CI43:CR43,2) -> 15.25 | CV43: =SUM(CI43:CR43)-CT43-CU43 -> 218.73991 | CW43: =50*MIN(8,COUNTIF(J43:S43,">0")) -> 400 | CX43: =CW43+CV43 -> 618.73991 | CZ43: =G43 -> 557.68447 | DA43: =A43 -> 39
A44: 40 | B44: greenhorn | C44: Matus Demiger | D44: Slovakia | E44: 155.33407 | F44: 5/10/10 | G44: 555.33407 | H44: 43836 | J44: 1001 | K44: 871 | L44: 5174 | M44: 3226 | N44: 2260 | O44: 5682 | P44: 4444 | Q44: 3067 | R44: 13832 | S44: 4279 | U44: =IF(J44<=Summary!B$3,J44,0) -> 1001 | V44: =IF(K44<=Summary!C$3,K44,0) -> 871 | W44: =IF(L44<=Summary!D$3,L44,0) -> 0 | X44: =IF(M44<=Summary!E$3,M44,0) -> 3226 | Y44: =IF(N44<=Summary!F$3,N44,0) -> 2260 | Z44: =IF(O44<=Summary!G$3,O44,0) -> 0 | AA44: =IF(P44<=Summary!H$3,P44,0) -> 4444 | AB44: =IF(Q44<=Summary!I$3,Q44,0) -> 3067 | ... AD44: =IF(S44<=Summary!K$3,S44,0) -> 4279 | AF44: =IF(J44>0,RANK(J44,J:J,1),0) -> 33 | AG44: =IF(K44>0,RANK(K44,K:K,1),0) -> 18 | AH44: =IF(L44>0,RANK(L44,L:L,1),0) -> 115 | AI44: =IF(M44>0,RANK(M44,M:M,1),0) -> 67 | AJ44: =IF(N44>0,RANK(N44,N:N,1),0) -> 5 | AK44: =IF(O44>0,RANK(O44,O:O,1),0) -> 136 | AL44: =IF(P44>0,RANK(P44,P:P,1),0) -> 32 | AM44: =IF(Q44>0,RANK(Q44,Q:Q,1),0) -> 19 | AN44: =IF(R44>0,RANK(R44,R:R,1),0) -> 118 | AO44: =IF(S44>0,RANK(S44,S:S,1),0) -> 7 | AQ44: =IF(AND(AF44<=Summary!B$6,AF44>0),25*(Summary!B$6+1-AF44)/Summary!B$6,0) -> 17 | AR44: =IF(AND(AG44<=Summary!C$6,AG44>0),25*(Summary!C$6+1-AG44)/Summary!C$6,0) -> 20.75 | AS44: =IF(AND(AH44<=Summary!D$6,AH44>0),25*(Summary!D$6+1-AH44)/Summary!D$6,0) -> 0 | AT44: =IF(AND(AI44<=Summary!E$6,AI44>0),25*(Summary!E$6+1-AI44)/Summary!E$6,0) -> 8.5 | AU44: =IF(AND(AJ44<=Summary!F$6,AJ44>0),25*(Summary!F$6+1-AJ44)/Summary!F$6,0) -> 24 | AV44: =IF(AND(AK44<=Summary!G$6,AK44>0),25*(Summary!G$6+1-AK44)/Summary!G$6,0) -> 0 | AW44: =IF(AND(AL44<=Summary!H$6,AL44>0),25*(Summary!H$6+1-AL44)/Summary!H$6,0) -> 17.25 | AX44: =IF(AND(AM44<=Summary!I$6,AM44>0),25*(Summary!I$6+1-AM44)/Summary!I$6,0) -> 20.5 | ... AZ44: =IF(AND(AO44<=Summary!K$6,AO44>0),25*(Summary!K$6+1-AO44)/Summary!K$6,0) -> 23.5 | BB44: =IF(AND(U44>0,U44<=Summary!B$9),12.5 + 12.5 * (U44 - Summary!B$9) / (Summary!B$7 - Summary!B$9),0) -> 19.743178 | BC44: =IF(AND(V44>0,V44<=Summary!C$9),12.5 + 12.5 * (V44 - Summary!C$9) / (Summary!C$7 - Summary!C$9),0) -> 21.760973 | BD44: =IF(AND(W44>0,W44<=Summary!D$9),12.5 + 12.5 * (W44 - Summary!D$9) / (Summary!D$7 - Summary!D$9),0) -> 0 | BE44: =IF(AND(X44>0,X44<=Summary!E$9),12.5 + 12.5 * (X44 - Summary!E$9) / (Summary!E$7 - Summary!E$9),0) -> 0 | BF44: =IF(AND(Y44>0,Y44<=Summary!F$9),12.5 + 12.5 * (Y44 - Summary!F$9) / (Summary!F$7 - Summary!F$9),0) -> 19.560629 | BG44: =IF(AND(Z44>0,Z44<=Summary!G$9),12.5 + 12.5 * (Z44 - Summary!G$9) / (Summary!G$7 - Summary!G$9),0) -> 0 | BH44: =IF(AND(AA44>0,AA44<=Summary!H$9),12.5 + 12.5 * (AA44 - Summary!H$9) / (Summary!H$7 - Summary!H$9),0) -> 0 | BI44: =IF(AND(AB44>0,AB44<=Summary!I$9),12.5 + 12.5 * (AB44 - Summary!I$9) / (Summary!I$7 - Summary!I$9),0) -> 17.466555 | ... BK44: =IF(AND(AD44>0,AD44<=Summary!K$9),12.5 + 12.5 * (AD44 - Summary!K$9) / (Summary!K$7 - Summary!K$9),0) -> 15.800691 | BM44: =IF(AND(U44>0,U44>Summary!B$9),12.5 - 12.5 * (U44 - Summary!B$9) / (Summary!B$3 - Summary!B$9),0) -> 0 | BN44: =IF(AND(V44>0,V44>Summary!C$9),12.5 - 12.5 * (V44 - Summary!C$9) / (Summary!C$3 - Summary!C$9),0) -> 0 | BO44: =IF(AND(W44>0,W44>Summary!D$9),12.5 - 12.5 * (W44 - Summary!D$9) / (Summary!D$3 - Summary!D$9),0) -> 0 | BP44: =IF(AND(X44>0,X44>Summary!E$9),12.5 - 12.5 * (X44 - Summary!E$9) / (Summary!E$3 - Summary!E$9),0) -> 9.842398 | BQ44: =IF(AND(Y44>0,Y44>Summary!F$9),12.5 - 12.5 * (Y44 - Summary!F$9) / (Summary!F$3 - Summary!F$9),0) -> 0 | BR44: =IF(AND(Z44>0,Z44>Summary!G$9),12.5 - 12.5 * (Z44 - Summary!G$9) / (Summary!G$3 - Summary!G$9),0) -> 0 | BS44: =IF(AND(AA44>0,AA44>Summary!H$9),12.5 - 12.5 * (AA44 - Summary!H$9) / (Summary!H$3 - Summary!H$9),0) -> 6.7762971 | BT44: =IF(AND(AB44>0,AB44>Summary!I$9),12.5 - 12.5 * (AB44 - Summary!I$9) / (Summary!I$3 - Summary!I$9),0) -> 0 | ... BV44: =IF(AND(AD44>0,AD44>Summary!K$9),12.5 - 12.5 * (AD44 - Summary!K$9) / (Summary!K$3 - Summary!K$9),0) -> 0 | BX44: =J44/60 -> 16.683333 | BY44: =K44/60 -> 14.516667 | BZ44: =L44/60 -> 86.233333 | CA44: =M44/60 -> 53.766667 | CB44: =N44/60 -> 37.666667 | CC44: =O44/60 -> 94.7 | CD44: =P44/60 -> 74.066667 | CE44: =Q44/60 -> 51.116667 | ... CG44: =S44/60 -> 71.316667 | CI44: =AQ44+BB44+BM44 -> 36.743178 | CJ44: =AR44+BC44+BN44 -> 42.510973 | CK44: =AS44+BD44+BO44 -> 0 | CL44: =AT44+BE44+BP44 -> 18.342398 | CM44: =AU44+BF44+BQ44 -> 43.560629 | CN44: =AV44+BG44+BR44 -> 0 | CO44: =AW44+BH44+BS44 -> 24.026297 | CP44: =AX44+BI44+BT44 -> 37.966555 | ... CR44: =AZ44+BK44+BV44 -> 39.300691 | CT44: =MIN(CI44:CR44) -> 0 | CU44: =SMALL(CI44:CR44,2) -> 0 | CV44: =SUM(CI44:CR44)-CT44-CU44 -> 242.45072 | CW44: =50*MIN(8,COUNTIF(J44:S44,">0")) -> 400 | CX44: =CW44+CV44 -> 642.45072 | CZ44: =G44 -> 555.33407 | DA44: =A44 -> 40
