Workbook

Sheet Summary
B1: Statue Park | C1: Fillomino | D1: Nurikabe | E1: Meand Nums | F1: Turning Fences | G1: Reg Battleships | H1: RC Snake | I1: Scrabble | J1: Hidoku | K1: Summon
A2: Bonus Period (in minutes) | B2: 60 | C2: 60 | D2: 60 | E2: 75 | F2: 75 | G2: 75 | H2: 90 | I2: 90 | J2: 90 | K2: 90 | L2: Used for solving time bonus
A3: Bonus Period (in seconds) | B3: =B2*60 -> 3600 | C3: =C2*60 -> 3600 | D3: =D2*60 -> 3600 | E3: =E2*60 -> 4500 | F3: =F2*60 -> 4500 | G3: =G2*60 -> 4500 | H3: =H2*60 -> 5400 | I3: =I2*60 -> 5400 | ... K3: =K2*60 -> 5400
A4: Number of time bonus holders | B4: =COUNTIF(Data!U:U,">0") -> 192 | C4: =COUNTIF(Data!V:V,">0") -> 234 | D4: =COUNTIF(Data!W:W,">0") -> 86 | E4: =COUNTIF(Data!X:X,">0") -> 101 | F4: =COUNTIF(Data!Y:Y,">0") -> 53 | G4: =COUNTIF(Data!Z:Z,">0") -> 114 | H4: =COUNTIF(Data!AA:AA,">0") -> 42 | I4: =COUNTIF(Data!AB:AB,">0") -> 65 | J4: =COUNTIF(Data!AC:AC,">0") -> 51 | K4: =COUNTIF(Data!AD:AD,">0") -> 17
A5: Number of total solvers | B5: =COUNTIF(Data!J:J,">0") -> 254 | C5: =COUNTIF(Data!K:K,">0") -> 268 | D5: =COUNTIF(Data!L:L,">0") -> 221 | E5: =COUNTIF(Data!M:M,">0") -> 219 | F5: =COUNTIF(Data!N:N,">0") -> 183 | G5: =COUNTIF(Data!O:O,">0") -> 202 | H5: =COUNTIF(Data!P:P,">0") -> 128 | I5: =COUNTIF(Data!Q:Q,">0") -> 157 | J5: =COUNTIF(Data!R:R,">0") -> 175 | K5: =COUNTIF(Data!S:S,">0") -> 122
A6: Number of rank bonus holders | B6: 100 | C6: 100 | D6: 100 | E6: 100 | F6: 100 | G6: 100 | H6: 100 | I6: 100 | J6: 100 | K6: 100 | L6: Used for rank bonus
A7: Minimum Time | B7: =MIN(Data!J:J) -> 477 | C7: =MIN(Data!K:K) -> 626 | D7: =MIN(Data!L:L) -> 832 | E7: =MIN(Data!M:M) -> 1013 | F7: =MIN(Data!N:N) -> 1693 | G7: =MIN(Data!O:O) -> 1122 | H7: =MIN(Data!P:P) -> 1928 | I7: =MIN(Data!Q:Q) -> 2166 | J7: =MIN(Data!R:R) -> 2221 | K7: =MIN(Data!S:S) -> 2682
A8: Maximum Time within bonus | B8: =MAX(Data!U:U) -> 3462 | C8: =MAX(Data!V:V) -> 3533 | D8: =MAX(Data!W:W) -> 3531 | E8: =MAX(Data!X:X) -> 4492 | F8: =MAX(Data!Y:Y) -> 4479 | G8: =MAX(Data!Z:Z) -> 4481 | H8: =MAX(Data!AA:AA) -> 5284 | I8: =MAX(Data!AB:AB) -> 5398 | J8: =MAX(Data!AC:AC) -> 5378 | K8: =MAX(Data!AD:AD) -> 5219
A9: Median Time (inside bonus holders) | B9: {=MEDIAN(IF(Data!U:U>0,Data!U:U))} -> 1723 | C9: {=MEDIAN(IF(Data!V:V>0,Data!V:V))} -> 1571.5 | D9: {=MEDIAN(IF(Data!W:W>0,Data!W:W))} -> 2306.5 | E9: {=MEDIAN(IF(Data!X:X>0,Data!X:X))} -> 2882 | F9: {=MEDIAN(IF(Data!Y:Y>0,Data!Y:Y))} -> 2996 | G9: {=MEDIAN(IF(Data!Z:Z>0,Data!Z:Z))} -> 2819.5 | H9: {=MEDIAN(IF(Data!AA:AA>0,Data!AA:AA))} -> 3636.5 | I9: {=MEDIAN(IF(Data!AB:AB>0,Data!AB:AB))} -> 3661 | J9: {=MEDIAN(IF(Data!AC:AC>0,Data!AC:AC))} -> 4082 | K9: {=MEDIAN(IF(Data!AD:AD>0,Data!AD:AD))} -> 4852
A16: There are two bonus parts for each puzzle. 1. Solving Time bonus : Players solving a puzzle within the specified bonus period will be eligible for this. Bonus period is different for different puzzles. See Row 2 above. This will be announced before the competition starts, so that players know when to "give up". (This is a linear distribution between Best Time & Median Time OR between Median Time & Bonus Period 2. Rank bonus : Players with rank 1 to 100 for each puzzle will be eligible for this. Rank 1 gets 25 points. Rank 2 gets 24.75, so on, till Rank 100 gets .25 Total Bonus = Solving Time Bonus + Rank Bonus

Sheet Data
J1: Solving time in seconds | U1: Solving time in seconds (within bonus period) | AF1: Rank (for all players, ignoring bonus period) | AQ1: Rank Bonus (for top 100 players, best player gets 25, decrease linearly till 100th player) | BB1: Solving Time Bonus (Solving Time <= Median Time) | BM1: Solving Time Bonus (Solving Time > Median Time) | BX1: Solving time in minutes | CI1: Total Bonus
AQ2: See Stefano's post : http://logicmastersindia.com/forum/forums/thread-view.asp?pid=17996 | BB2: Linear distribution between 12.5 and 25 | BM2: Linear distribution between 0 and 12.5
BX3: =Summary!B2 -> 60 | BY3: =Summary!C2 -> 60 | BZ3: =Summary!D2 -> 60 | CA3: =Summary!E2 -> 75 | CB3: =Summary!F2 -> 75 | CC3: =Summary!G2 -> 75 | CD3: =Summary!H2 -> 90 | CE3: =Summary!I2 -> 90 | ... CG3: =Summary!K2 -> 90 | CZ3: Current
A4: Rank | B4: Player | C4: Name | D4: Country | E4: Total Bonus* | F4: Puzzles | G4: Points | H4: Total Time | J4: =Summary!B1 -> Statue Park | K4: =Summary!C1 -> Fillomino | L4: =Summary!D1 -> Nurikabe | M4: =Summary!E1 -> Meand Nums | N4: =Summary!F1 -> Turning Fences | O4: =Summary!G1 -> Reg Battleships | P4: =Summary!H1 -> RC Snake | Q4: =Summary!I1 -> Scrabble | ... S4: =Summary!K1 -> Summon | U4: =J4 -> Statue Park | V4: =K4 -> Fillomino | W4: =L4 -> Nurikabe | X4: =M4 -> Meand Nums | Y4: =N4 -> Turning Fences | Z4: =O4 -> Reg Battleships | AA4: =P4 -> RC Snake | AB4: =Q4 -> Scrabble | ... AD4: =S4 -> Summon | AF4: =U4 -> Statue Park | AG4: =V4 -> Fillomino | AH4: =W4 -> Nurikabe | AI4: =X4 -> Meand Nums | AJ4: =Y4 -> Turning Fences | AK4: =Z4 -> Reg Battleships | AL4: =AA4 -> RC Snake | AM4: =AB4 -> Scrabble | ... AO4: =AD4 -> Summon | AQ4: =AF4 -> Statue Park | AR4: =AG4 -> Fillomino | AS4: =AH4 -> Nurikabe | AT4: =AI4 -> Meand Nums | AU4: =AJ4 -> Turning Fences | AV4: =AK4 -> Reg Battleships | AW4: =AL4 -> RC Snake | AX4: =AM4 -> Scrabble | ... AZ4: =AO4 -> Summon | BB4: =AQ4 -> Statue Park | BC4: =AR4 -> Fillomino | BD4: =AS4 -> Nurikabe | BE4: =AT4 -> Meand Nums | BF4: =AU4 -> Turning Fences | BG4: =AV4 -> Reg Battleships | BH4: =AW4 -> RC Snake | BI4: =AX4 -> Scrabble | ... BK4: =AZ4 -> Summon | BM4: =BB4 -> Statue Park | BN4: =BC4 -> Fillomino | BO4: =BD4 -> Nurikabe | BP4: =BE4 -> Meand Nums | BQ4: =BF4 -> Turning Fences | BR4: =BG4 -> Reg Battleships | BS4: =BH4 -> RC Snake | BT4: =BI4 -> Scrabble | ... BV4: =BK4 -> Summon | BX4: =BM4 -> Statue Park | BY4: =BN4 -> Fillomino | BZ4: =BO4 -> Nurikabe | CA4: =BP4 -> Meand Nums | CB4: =BQ4 -> Turning Fences | CC4: =BR4 -> Reg Battleships | CD4: =BS4 -> RC Snake | CE4: =BT4 -> Scrabble | ... CG4: =BV4 -> Summon | CI4: =BX4 -> Statue Park | CJ4: =BY4 -> Fillomino | CK4: =BZ4 -> Nurikabe | CL4: =CA4 -> Meand Nums | CM4: =CB4 -> Turning Fences | CN4: =CC4 -> Reg Battleships | CO4: =CD4 -> RC Snake | CP4: =CE4 -> Scrabble | ... CR4: =CG4 -> Summon | CT4: Minimum 1 | CU4: Minimum 2 | CV4: Final Bonus | CW4: Puzzle Score | CX4: Final Score | CZ4: Score | DA4: Rank
A5: 1 | B5: EKBM | C5: Endo Ken | D5: Japan | E5: 385.59486 | F5: 9/10/10 | G5: 757.09732 | H5: 19333 | J5: 683 | K5: 735 | L5: 832 | M5: 1079 | N5: 2510 | O5: 1744 | P5: 2922 | Q5: 2574 | R5: 2291 | S5: 3963 | U5: =IF(J5<=Summary!B$3,J5,0) -> 683 | V5: =IF(K5<=Summary!C$3,K5,0) -> 735 | W5: =IF(L5<=Summary!D$3,L5,0) -> 832 | X5: =IF(M5<=Summary!E$3,M5,0) -> 1079 | Y5: =IF(N5<=Summary!F$3,N5,0) -> 2510 | Z5: =IF(O5<=Summary!G$3,O5,0) -> 1744 | AA5: =IF(P5<=Summary!H$3,P5,0) -> 2922 | AB5: =IF(Q5<=Summary!I$3,Q5,0) -> 2574 | ... AD5: =IF(S5<=Summary!K$3,S5,0) -> 3963 | AF5: =IF(J5>0,RANK(J5,J:J,1),0) -> 7 | AG5: =IF(K5>0,RANK(K5,K:K,1),0) -> 6 | AH5: =IF(L5>0,RANK(L5,L:L,1),0) -> 1 | AI5: =IF(M5>0,RANK(M5,M:M,1),0) -> 2 | AJ5: =IF(N5>0,RANK(N5,N:N,1),0) -> 10 | AK5: =IF(O5>0,RANK(O5,O:O,1),0) -> 14 | AL5: =IF(P5>0,RANK(P5,P:P,1),0) -> 9 | AM5: =IF(Q5>0,RANK(Q5,Q:Q,1),0) -> 7 | AN5: =IF(R5>0,RANK(R5,R:R,1),0) -> 2 | AO5: =IF(S5>0,RANK(S5,S:S,1),0) -> 5 | AQ5: =IF(AND(AF5<=Summary!B$6,AF5>0),25*(Summary!B$6+1-AF5)/Summary!B$6,0) -> 23.5 | AR5: =IF(AND(AG5<=Summary!C$6,AG5>0),25*(Summary!C$6+1-AG5)/Summary!C$6,0) -> 23.75 | AS5: =IF(AND(AH5<=Summary!D$6,AH5>0),25*(Summary!D$6+1-AH5)/Summary!D$6,0) -> 25 | AT5: =IF(AND(AI5<=Summary!E$6,AI5>0),25*(Summary!E$6+1-AI5)/Summary!E$6,0) -> 24.75 | AU5: =IF(AND(AJ5<=Summary!F$6,AJ5>0),25*(Summary!F$6+1-AJ5)/Summary!F$6,0) -> 22.75 | AV5: =IF(AND(AK5<=Summary!G$6,AK5>0),25*(Summary!G$6+1-AK5)/Summary!G$6,0) -> 21.75 | AW5: =IF(AND(AL5<=Summary!H$6,AL5>0),25*(Summary!H$6+1-AL5)/Summary!H$6,0) -> 23 | AX5: =IF(AND(AM5<=Summary!I$6,AM5>0),25*(Summary!I$6+1-AM5)/Summary!I$6,0) -> 23.5 | ... AZ5: =IF(AND(AO5<=Summary!K$6,AO5>0),25*(Summary!K$6+1-AO5)/Summary!K$6,0) -> 24 | BB5: =IF(AND(U5>0,U5<=Summary!B$9),12.5 + 12.5 * (U5 - Summary!B$9) / (Summary!B$7 - Summary!B$9),0) -> 22.933387 | BC5: =IF(AND(V5>0,V5<=Summary!C$9),12.5 + 12.5 * (V5 - Summary!C$9) / (Summary!C$7 - Summary!C$9),0) -> 23.558964 | BD5: =IF(AND(W5>0,W5<=Summary!D$9),12.5 + 12.5 * (W5 - Summary!D$9) / (Summary!D$7 - Summary!D$9),0) -> 25 | BE5: =IF(AND(X5>0,X5<=Summary!E$9),12.5 + 12.5 * (X5 - Summary!E$9) / (Summary!E$7 - Summary!E$9),0) -> 24.558587 | BF5: =IF(AND(Y5>0,Y5<=Summary!F$9),12.5 + 12.5 * (Y5 - Summary!F$9) / (Summary!F$7 - Summary!F$9),0) -> 17.162318 | BG5: =IF(AND(Z5>0,Z5<=Summary!G$9),12.5 + 12.5 * (Z5 - Summary!G$9) / (Summary!G$7 - Summary!G$9),0) -> 20.419735 | BH5: =IF(AND(AA5>0,AA5<=Summary!H$9),12.5 + 12.5 * (AA5 - Summary!H$9) / (Summary!H$7 - Summary!H$9),0) -> 17.727539 | BI5: =IF(AND(AB5>0,AB5<=Summary!I$9),12.5 + 12.5 * (AB5 - Summary!I$9) / (Summary!I$7 - Summary!I$9),0) -> 21.588629 | ... BK5: =IF(AND(AD5>0,AD5<=Summary!K$9),12.5 + 12.5 * (AD5 - Summary!K$9) / (Summary!K$7 - Summary!K$9),0) -> 17.620968 | BM5: =IF(AND(U5>0,U5>Summary!B$9),12.5 - 12.5 * (U5 - Summary!B$9) / (Summary!B$3 - Summary!B$9),0) -> 0 | BN5: =IF(AND(V5>0,V5>Summary!C$9),12.5 - 12.5 * (V5 - Summary!C$9) / (Summary!C$3 - Summary!C$9),0) -> 0 | BO5: =IF(AND(W5>0,W5>Summary!D$9),12.5 - 12.5 * (W5 - Summary!D$9) / (Summary!D$3 - Summary!D$9),0) -> 0 | BP5: =IF(AND(X5>0,X5>Summary!E$9),12.5 - 12.5 * (X5 - Summary!E$9) / (Summary!E$3 - Summary!E$9),0) -> 0 | BQ5: =IF(AND(Y5>0,Y5>Summary!F$9),12.5 - 12.5 * (Y5 - Summary!F$9) / (Summary!F$3 - Summary!F$9),0) -> 0 | BR5: =IF(AND(Z5>0,Z5>Summary!G$9),12.5 - 12.5 * (Z5 - Summary!G$9) / (Summary!G$3 - Summary!G$9),0) -> 0 | BS5: =IF(AND(AA5>0,AA5>Summary!H$9),12.5 - 12.5 * (AA5 - Summary!H$9) / (Summary!H$3 - Summary!H$9),0) -> 0 | BT5: =IF(AND(AB5>0,AB5>Summary!I$9),12.5 - 12.5 * (AB5 - Summary!I$9) / (Summary!I$3 - Summary!I$9),0) -> 0 | ... BV5: =IF(AND(AD5>0,AD5>Summary!K$9),12.5 - 12.5 * (AD5 - Summary!K$9) / (Summary!K$3 - Summary!K$9),0) -> 0 | BX5: =J5/60 -> 11.383333 | BY5: =K5/60 -> 12.25 | BZ5: =L5/60 -> 13.866667 | CA5: =M5/60 -> 17.983333 | CB5: =N5/60 -> 41.833333 | CC5: =O5/60 -> 29.066667 | CD5: =P5/60 -> 48.7 | CE5: =Q5/60 -> 42.9 | ... CG5: =S5/60 -> 66.05 | CI5: =AQ5+BB5+BM5 -> 46.433387 | CJ5: =AR5+BC5+BN5 -> 47.308964 | CK5: =AS5+BD5+BO5 -> 50 | CL5: =AT5+BE5+BP5 -> 49.308587 | CM5: =AU5+BF5+BQ5 -> 39.912318 | CN5: =AV5+BG5+BR5 -> 42.169735 | CO5: =AW5+BH5+BS5 -> 40.727539 | CP5: =AX5+BI5+BT5 -> 45.088629 | ... CR5: =AZ5+BK5+BV5 -> 41.620968 | CT5: =MIN(CI5:CR5) -> 39.912318 | CU5: =SMALL(CI5:CR5,2) -> 40.727539 | CV5: =SUM(CI5:CR5)-CT5-CU5 -> 371.21009 | CW5: =50*MIN(8,COUNTIF(J5:S5,">0")) -> 400 | CX5: =CW5+CV5 -> 771.21009 | CZ5: =G5 -> 757.09732 | DA5: =A5 -> 1
A6: 2 | B6: deu | C6: Hideaki Jo | D6: Japan | E6: 376.99228 | F6: 10/10/10 | G6: 745.45735 | H6: 19686 | J6: 534 | K6: 1218 | L6: 2970 | M6: 1013 | N6: 2661 | O6: 1219 | P6: 1928 | Q6: 2648 | R6: 2221 | S6: 3274 | U6: =IF(J6<=Summary!B$3,J6,0) -> 534 | V6: =IF(K6<=Summary!C$3,K6,0) -> 1218 | W6: =IF(L6<=Summary!D$3,L6,0) -> 2970 | X6: =IF(M6<=Summary!E$3,M6,0) -> 1013 | Y6: =IF(N6<=Summary!F$3,N6,0) -> 2661 | Z6: =IF(O6<=Summary!G$3,O6,0) -> 1219 | AA6: =IF(P6<=Summary!H$3,P6,0) -> 1928 | AB6: =IF(Q6<=Summary!I$3,Q6,0) -> 2648 | ... AD6: =IF(S6<=Summary!K$3,S6,0) -> 3274 | AF6: =IF(J6>0,RANK(J6,J:J,1),0) -> 2 | AG6: =IF(K6>0,RANK(K6,K:K,1),0) -> 70 | AH6: =IF(L6>0,RANK(L6,L:L,1),0) -> 65 | AI6: =IF(M6>0,RANK(M6,M:M,1),0) -> 1 | AJ6: =IF(N6>0,RANK(N6,N:N,1),0) -> 18 | AK6: =IF(O6>0,RANK(O6,O:O,1),0) -> 2 | AL6: =IF(P6>0,RANK(P6,P:P,1),0) -> 1 | AM6: =IF(Q6>0,RANK(Q6,Q:Q,1),0) -> 12 | AN6: =IF(R6>0,RANK(R6,R:R,1),0) -> 1 | AO6: =IF(S6>0,RANK(S6,S:S,1),0) -> 2 | AQ6: =IF(AND(AF6<=Summary!B$6,AF6>0),25*(Summary!B$6+1-AF6)/Summary!B$6,0) -> 24.75 | AR6: =IF(AND(AG6<=Summary!C$6,AG6>0),25*(Summary!C$6+1-AG6)/Summary!C$6,0) -> 7.75 | AS6: =IF(AND(AH6<=Summary!D$6,AH6>0),25*(Summary!D$6+1-AH6)/Summary!D$6,0) -> 9 | AT6: =IF(AND(AI6<=Summary!E$6,AI6>0),25*(Summary!E$6+1-AI6)/Summary!E$6,0) -> 25 | AU6: =IF(AND(AJ6<=Summary!F$6,AJ6>0),25*(Summary!F$6+1-AJ6)/Summary!F$6,0) -> 20.75 | AV6: =IF(AND(AK6<=Summary!G$6,AK6>0),25*(Summary!G$6+1-AK6)/Summary!G$6,0) -> 24.75 | AW6: =IF(AND(AL6<=Summary!H$6,AL6>0),25*(Summary!H$6+1-AL6)/Summary!H$6,0) -> 25 | AX6: =IF(AND(AM6<=Summary!I$6,AM6>0),25*(Summary!I$6+1-AM6)/Summary!I$6,0) -> 22.25 | ... AZ6: =IF(AND(AO6<=Summary!K$6,AO6>0),25*(Summary!K$6+1-AO6)/Summary!K$6,0) -> 24.75 | BB6: =IF(AND(U6>0,U6<=Summary!B$9),12.5 + 12.5 * (U6 - Summary!B$9) / (Summary!B$7 - Summary!B$9),0) -> 24.42817 | BC6: =IF(AND(V6>0,V6<=Summary!C$9),12.5 + 12.5 * (V6 - Summary!C$9) / (Summary!C$7 - Summary!C$9),0) -> 17.173453 | BD6: =IF(AND(W6>0,W6<=Summary!D$9),12.5 + 12.5 * (W6 - Summary!D$9) / (Summary!D$7 - Summary!D$9),0) -> 0 | BE6: =IF(AND(X6>0,X6<=Summary!E$9),12.5 + 12.5 * (X6 - Summary!E$9) / (Summary!E$7 - Summary!E$9),0) -> 25 | BF6: =IF(AND(Y6>0,Y6<=Summary!F$9),12.5 + 12.5 * (Y6 - Summary!F$9) / (Summary!F$7 - Summary!F$9),0) -> 15.713738 | BG6: =IF(AND(Z6>0,Z6<=Summary!G$9),12.5 + 12.5 * (Z6 - Summary!G$9) / (Summary!G$7 - Summary!G$9),0) -> 24.285714 | BH6: =IF(AND(AA6>0,AA6<=Summary!H$9),12.5 + 12.5 * (AA6 - Summary!H$9) / (Summary!H$7 - Summary!H$9),0) -> 25 | BI6: =IF(AND(AB6>0,AB6<=Summary!I$9),12.5 + 12.5 * (AB6 - Summary!I$9) / (Summary!I$7 - Summary!I$9),0) -> 20.9699 | ... BK6: =IF(AND(AD6>0,AD6<=Summary!K$9),12.5 + 12.5 * (AD6 - Summary!K$9) / (Summary!K$7 - Summary!K$9),0) -> 21.589862 | BM6: =IF(AND(U6>0,U6>Summary!B$9),12.5 - 12.5 * (U6 - Summary!B$9) / (Summary!B$3 - Summary!B$9),0) -> 0 | BN6: =IF(AND(V6>0,V6>Summary!C$9),12.5 - 12.5 * (V6 - Summary!C$9) / (Summary!C$3 - Summary!C$9),0) -> 0 | BO6: =IF(AND(W6>0,W6>Summary!D$9),12.5 - 12.5 * (W6 - Summary!D$9) / (Summary!D$3 - Summary!D$9),0) -> 6.088133 | BP6: =IF(AND(X6>0,X6>Summary!E$9),12.5 - 12.5 * (X6 - Summary!E$9) / (Summary!E$3 - Summary!E$9),0) -> 0 | BQ6: =IF(AND(Y6>0,Y6>Summary!F$9),12.5 - 12.5 * (Y6 - Summary!F$9) / (Summary!F$3 - Summary!F$9),0) -> 0 | BR6: =IF(AND(Z6>0,Z6>Summary!G$9),12.5 - 12.5 * (Z6 - Summary!G$9) / (Summary!G$3 - Summary!G$9),0) -> 0 | BS6: =IF(AND(AA6>0,AA6>Summary!H$9),12.5 - 12.5 * (AA6 - Summary!H$9) / (Summary!H$3 - Summary!H$9),0) -> 0 | BT6: =IF(AND(AB6>0,AB6>Summary!I$9),12.5 - 12.5 * (AB6 - Summary!I$9) / (Summary!I$3 - Summary!I$9),0) -> 0 | ... BV6: =IF(AND(AD6>0,AD6>Summary!K$9),12.5 - 12.5 * (AD6 - Summary!K$9) / (Summary!K$3 - Summary!K$9),0) -> 0 | BX6: =J6/60 -> 8.9 | BY6: =K6/60 -> 20.3 | BZ6: =L6/60 -> 49.5 | CA6: =M6/60 -> 16.883333 | CB6: =N6/60 -> 44.35 | CC6: =O6/60 -> 20.316667 | CD6: =P6/60 -> 32.133333 | CE6: =Q6/60 -> 44.133333 | ... CG6: =S6/60 -> 54.566667 | CI6: =AQ6+BB6+BM6 -> 49.17817 | CJ6: =AR6+BC6+BN6 -> 24.923453 | CK6: =AS6+BD6+BO6 -> 15.088133 | CL6: =AT6+BE6+BP6 -> 50 | CM6: =AU6+BF6+BQ6 -> 36.463738 | CN6: =AV6+BG6+BR6 -> 49.035714 | CO6: =AW6+BH6+BS6 -> 50 | CP6: =AX6+BI6+BT6 -> 43.2199 | ... CR6: =AZ6+BK6+BV6 -> 46.339862 | CT6: =MIN(CI6:CR6) -> 15.088133 | CU6: =SMALL(CI6:CR6,2) -> 24.923453 | CV6: =SUM(CI6:CR6)-CT6-CU6 -> 374.23738 | CW6: =50*MIN(8,COUNTIF(J6:S6,">0")) -> 400 | CX6: =CW6+CV6 -> 774.23738 | CZ6: =G6 -> 745.45735 | DA6: =A6 -> 2
A7: 3 | B7: Para | C7: Bram de Laat | D7: Netherlands | E7: 333.18227 | F7: 8/10/10 | G7: 733.18227 | H7: 28431 | J7: 878 | K7: 1342 | L7: 1369 | M7: 1512 | N7: 1771 | O7: 1479 | P7: 4963 | Q7: 2411 | R7: 2897 | S7: 9809 | U7: =IF(J7<=Summary!B$3,J7,0) -> 878 | V7: =IF(K7<=Summary!C$3,K7,0) -> 1342 | W7: =IF(L7<=Summary!D$3,L7,0) -> 1369 | X7: =IF(M7<=Summary!E$3,M7,0) -> 1512 | Y7: =IF(N7<=Summary!F$3,N7,0) -> 1771 | Z7: =IF(O7<=Summary!G$3,O7,0) -> 1479 | AA7: =IF(P7<=Summary!H$3,P7,0) -> 4963 | AB7: =IF(Q7<=Summary!I$3,Q7,0) -> 2411 | ... AD7: =IF(S7<=Summary!K$3,S7,0) -> 0 | AF7: =IF(J7>0,RANK(J7,J:J,1),0) -> 22 | AG7: =IF(K7>0,RANK(K7,K:K,1),0) -> 88 | AH7: =IF(L7>0,RANK(L7,L:L,1),0) -> 10 | AI7: =IF(M7>0,RANK(M7,M:M,1),0) -> 4 | AJ7: =IF(N7>0,RANK(N7,N:N,1),0) -> 3 | AK7: =IF(O7>0,RANK(O7,O:O,1),0) -> 5 | AL7: =IF(P7>0,RANK(P7,P:P,1),0) -> 41 | AM7: =IF(Q7>0,RANK(Q7,Q:Q,1),0) -> 5 | AN7: =IF(R7>0,RANK(R7,R:R,1),0) -> 6 | AO7: =IF(S7>0,RANK(S7,S:S,1),0) -> 43 | AQ7: =IF(AND(AF7<=Summary!B$6,AF7>0),25*(Summary!B$6+1-AF7)/Summary!B$6,0) -> 19.75 | AR7: =IF(AND(AG7<=Summary!C$6,AG7>0),25*(Summary!C$6+1-AG7)/Summary!C$6,0) -> 3.25 | AS7: =IF(AND(AH7<=Summary!D$6,AH7>0),25*(Summary!D$6+1-AH7)/Summary!D$6,0) -> 22.75 | AT7: =IF(AND(AI7<=Summary!E$6,AI7>0),25*(Summary!E$6+1-AI7)/Summary!E$6,0) -> 24.25 | AU7: =IF(AND(AJ7<=Summary!F$6,AJ7>0),25*(Summary!F$6+1-AJ7)/Summary!F$6,0) -> 24.5 | AV7: =IF(AND(AK7<=Summary!G$6,AK7>0),25*(Summary!G$6+1-AK7)/Summary!G$6,0) -> 24 | AW7: =IF(AND(AL7<=Summary!H$6,AL7>0),25*(Summary!H$6+1-AL7)/Summary!H$6,0) -> 15 | AX7: =IF(AND(AM7<=Summary!I$6,AM7>0),25*(Summary!I$6+1-AM7)/Summary!I$6,0) -> 24 | ... AZ7: =IF(AND(AO7<=Summary!K$6,AO7>0),25*(Summary!K$6+1-AO7)/Summary!K$6,0) -> 14.5 | BB7: =IF(AND(U7>0,U7<=Summary!B$9),12.5 + 12.5 * (U7 - Summary!B$9) / (Summary!B$7 - Summary!B$9),0) -> 20.977127 | BC7: =IF(AND(V7>0,V7<=Summary!C$9),12.5 + 12.5 * (V7 - Summary!C$9) / (Summary!C$7 - Summary!C$9),0) -> 15.534109 | BD7: =IF(AND(W7>0,W7<=Summary!D$9),12.5 + 12.5 * (W7 - Summary!D$9) / (Summary!D$7 - Summary!D$9),0) -> 20.447609 | BE7: =IF(AND(X7>0,X7<=Summary!E$9),12.5 + 12.5 * (X7 - Summary!E$9) / (Summary!E$7 - Summary!E$9),0) -> 21.662654 | BF7: =IF(AND(Y7>0,Y7<=Summary!F$9),12.5 + 12.5 * (Y7 - Summary!F$9) / (Summary!F$7 - Summary!F$9),0) -> 24.251727 | BG7: =IF(AND(Z7>0,Z7<=Summary!G$9),12.5 + 12.5 * (Z7 - Summary!G$9) / (Summary!G$7 - Summary!G$9),0) -> 22.371134 | BH7: =IF(AND(AA7>0,AA7<=Summary!H$9),12.5 + 12.5 * (AA7 - Summary!H$9) / (Summary!H$7 - Summary!H$9),0) -> 0 | BI7: =IF(AND(AB7>0,AB7<=Summary!I$9),12.5 + 12.5 * (AB7 - Summary!I$9) / (Summary!I$7 - Summary!I$9),0) -> 22.951505 | ... BK7: =IF(AND(AD7>0,AD7<=Summary!K$9),12.5 + 12.5 * (AD7 - Summary!K$9) / (Summary!K$7 - Summary!K$9),0) -> 0 | BM7: =IF(AND(U7>0,U7>Summary!B$9),12.5 - 12.5 * (U7 - Summary!B$9) / (Summary!B$3 - Summary!B$9),0) -> 0 | BN7: =IF(AND(V7>0,V7>Summary!C$9),12.5 - 12.5 * (V7 - Summary!C$9) / (Summary!C$3 - Summary!C$9),0) -> 0 | BO7: =IF(AND(W7>0,W7>Summary!D$9),12.5 - 12.5 * (W7 - Summary!D$9) / (Summary!D$3 - Summary!D$9),0) -> 0 | BP7: =IF(AND(X7>0,X7>Summary!E$9),12.5 - 12.5 * (X7 - Summary!E$9) / (Summary!E$3 - Summary!E$9),0) -> 0 | BQ7: =IF(AND(Y7>0,Y7>Summary!F$9),12.5 - 12.5 * (Y7 - Summary!F$9) / (Summary!F$3 - Summary!F$9),0) -> 0 | BR7: =IF(AND(Z7>0,Z7>Summary!G$9),12.5 - 12.5 * (Z7 - Summary!G$9) / (Summary!G$3 - Summary!G$9),0) -> 0 | BS7: =IF(AND(AA7>0,AA7>Summary!H$9),12.5 - 12.5 * (AA7 - Summary!H$9) / (Summary!H$3 - Summary!H$9),0) -> 3.0975333 | BT7: =IF(AND(AB7>0,AB7>Summary!I$9),12.5 - 12.5 * (AB7 - Summary!I$9) / (Summary!I$3 - Summary!I$9),0) -> 0 | ... BV7: =IF(AND(AD7>0,AD7>Summary!K$9),12.5 - 12.5 * (AD7 - Summary!K$9) / (Summary!K$3 - Summary!K$9),0) -> 0 | BX7: =J7/60 -> 14.633333 | BY7: =K7/60 -> 22.366667 | BZ7: =L7/60 -> 22.816667 | CA7: =M7/60 -> 25.2 | CB7: =N7/60 -> 29.516667 | CC7: =O7/60 -> 24.65 | CD7: =P7/60 -> 82.716667 | CE7: =Q7/60 -> 40.183333 | ... CG7: =S7/60 -> 163.48333 | CI7: =AQ7+BB7+BM7 -> 40.727127 | CJ7: =AR7+BC7+BN7 -> 18.784109 | CK7: =AS7+BD7+BO7 -> 43.197609 | CL7: =AT7+BE7+BP7 -> 45.912654 | CM7: =AU7+BF7+BQ7 -> 48.751727 | CN7: =AV7+BG7+BR7 -> 46.371134 | CO7: =AW7+BH7+BS7 -> 18.097533 | CP7: =AX7+BI7+BT7 -> 46.951505 | ... CR7: =AZ7+BK7+BV7 -> 14.5 | CT7: =MIN(CI7:CR7) -> 14.5 | CU7: =SMALL(CI7:CR7,2) -> 18.097533 | CV7: =SUM(CI7:CR7)-CT7-CU7 -> 334.9053 | CW7: =50*MIN(8,COUNTIF(J7:S7,">0")) -> 400 | CX7: =CW7+CV7 -> 734.9053 | CZ7: =G7 -> 733.18227 | DA7: =A7 -> 3
A8: 4 | B8: rob | C8: Robert Vollmert | D8: Germany | E8: 339.79876 | F8: 9/9/9 + 1 | G8: 726.53204 | H8: 17640 | J8: 803 | K8: 694 | L8: 1460 | M8: 2044 | N8: 3147 | O8: 1533 | P8: 2617 | Q8: 2288 | R8: 3054 | U8: =IF(J8<=Summary!B$3,J8,0) -> 803 | V8: =IF(K8<=Summary!C$3,K8,0) -> 694 | W8: =IF(L8<=Summary!D$3,L8,0) -> 1460 | X8: =IF(M8<=Summary!E$3,M8,0) -> 2044 | Y8: =IF(N8<=Summary!F$3,N8,0) -> 3147 | Z8: =IF(O8<=Summary!G$3,O8,0) -> 1533 | AA8: =IF(P8<=Summary!H$3,P8,0) -> 2617 | AB8: =IF(Q8<=Summary!I$3,Q8,0) -> 2288 | ... AD8: =IF(S8<=Summary!K$3,S8,0) -> 0 | AF8: =IF(J8>0,RANK(J8,J:J,1),0) -> 17 | AG8: =IF(K8>0,RANK(K8,K:K,1),0) -> 5 | AH8: =IF(L8>0,RANK(L8,L:L,1),0) -> 15 | AI8: =IF(M8>0,RANK(M8,M:M,1),0) -> 21 | AJ8: =IF(N8>0,RANK(N8,N:N,1),0) -> 31 | AK8: =IF(O8>0,RANK(O8,O:O,1),0) -> 8 | AL8: =IF(P8>0,RANK(P8,P:P,1),0) -> 5 | AM8: =IF(Q8>0,RANK(Q8,Q:Q,1),0) -> 4 | AN8: =IF(R8>0,RANK(R8,R:R,1),0) -> 7 | AO8: =IF(S8>0,RANK(S8,S:S,1),0) -> 0 | AQ8: =IF(AND(AF8<=Summary!B$6,AF8>0),25*(Summary!B$6+1-AF8)/Summary!B$6,0) -> 21 | AR8: =IF(AND(AG8<=Summary!C$6,AG8>0),25*(Summary!C$6+1-AG8)/Summary!C$6,0) -> 24 | AS8: =IF(AND(AH8<=Summary!D$6,AH8>0),25*(Summary!D$6+1-AH8)/Summary!D$6,0) -> 21.5 | AT8: =IF(AND(AI8<=Summary!E$6,AI8>0),25*(Summary!E$6+1-AI8)/Summary!E$6,0) -> 20 | AU8: =IF(AND(AJ8<=Summary!F$6,AJ8>0),25*(Summary!F$6+1-AJ8)/Summary!F$6,0) -> 17.5 | AV8: =IF(AND(AK8<=Summary!G$6,AK8>0),25*(Summary!G$6+1-AK8)/Summary!G$6,0) -> 23.25 | AW8: =IF(AND(AL8<=Summary!H$6,AL8>0),25*(Summary!H$6+1-AL8)/Summary!H$6,0) -> 24 | AX8: =IF(AND(AM8<=Summary!I$6,AM8>0),25*(Summary!I$6+1-AM8)/Summary!I$6,0) -> 24.25 | ... AZ8: =IF(AND(AO8<=Summary!K$6,AO8>0),25*(Summary!K$6+1-AO8)/Summary!K$6,0) -> 0 | BB8: =IF(AND(U8>0,U8<=Summary!B$9),12.5 + 12.5 * (U8 - Summary!B$9) / (Summary!B$7 - Summary!B$9),0) -> 21.729535 | BC8: =IF(AND(V8>0,V8<=Summary!C$9),12.5 + 12.5 * (V8 - Summary!C$9) / (Summary!C$7 - Summary!C$9),0) -> 24.101005 | BD8: =IF(AND(W8>0,W8<=Summary!D$9),12.5 + 12.5 * (W8 - Summary!D$9) / (Summary!D$7 - Summary!D$9),0) -> 19.676161 | BE8: =IF(AND(X8>0,X8<=Summary!E$9),12.5 + 12.5 * (X8 - Summary!E$9) / (Summary!E$7 - Summary!E$9),0) -> 18.104601 | BF8: =IF(AND(Y8>0,Y8<=Summary!F$9),12.5 + 12.5 * (Y8 - Summary!F$9) / (Summary!F$7 - Summary!F$9),0) -> 0 | BG8: =IF(AND(Z8>0,Z8<=Summary!G$9),12.5 + 12.5 * (Z8 - Summary!G$9) / (Summary!G$7 - Summary!G$9),0) -> 21.97349 | BH8: =IF(AND(AA8>0,AA8<=Summary!H$9),12.5 + 12.5 * (AA8 - Summary!H$9) / (Summary!H$7 - Summary!H$9),0) -> 19.959028 | BI8: =IF(AND(AB8>0,AB8<=Summary!I$9),12.5 + 12.5 * (AB8 - Summary!I$9) / (Summary!I$7 - Summary!I$9),0) -> 23.979933 | ... BK8: =IF(AND(AD8>0,AD8<=Summary!K$9),12.5 + 12.5 * (AD8 - Summary!K$9) / (Summary!K$7 - Summary!K$9),0) -> 0 | BM8: =IF(AND(U8>0,U8>Summary!B$9),12.5 - 12.5 * (U8 - Summary!B$9) / (Summary!B$3 - Summary!B$9),0) -> 0 | BN8: =IF(AND(V8>0,V8>Summary!C$9),12.5 - 12.5 * (V8 - Summary!C$9) / (Summary!C$3 - Summary!C$9),0) -> 0 | BO8: =IF(AND(W8>0,W8>Summary!D$9),12.5 - 12.5 * (W8 - Summary!D$9) / (Summary!D$3 - Summary!D$9),0) -> 0 | BP8: =IF(AND(X8>0,X8>Summary!E$9),12.5 - 12.5 * (X8 - Summary!E$9) / (Summary!E$3 - Summary!E$9),0) -> 0 | BQ8: =IF(AND(Y8>0,Y8>Summary!F$9),12.5 - 12.5 * (Y8 - Summary!F$9) / (Summary!F$3 - Summary!F$9),0) -> 11.245013 | BR8: =IF(AND(Z8>0,Z8>Summary!G$9),12.5 - 12.5 * (Z8 - Summary!G$9) / (Summary!G$3 - Summary!G$9),0) -> 0 | BS8: =IF(AND(AA8>0,AA8>Summary!H$9),12.5 - 12.5 * (AA8 - Summary!H$9) / (Summary!H$3 - Summary!H$9),0) -> 0 | BT8: =IF(AND(AB8>0,AB8>Summary!I$9),12.5 - 12.5 * (AB8 - Summary!I$9) / (Summary!I$3 - Summary!I$9),0) -> 0 | ... BV8: =IF(AND(AD8>0,AD8>Summary!K$9),12.5 - 12.5 * (AD8 - Summary!K$9) / (Summary!K$3 - Summary!K$9),0) -> 0 | BX8: =J8/60 -> 13.383333 | BY8: =K8/60 -> 11.566667 | BZ8: =L8/60 -> 24.333333 | CA8: =M8/60 -> 34.066667 | CB8: =N8/60 -> 52.45 | CC8: =O8/60 -> 25.55 | CD8: =P8/60 -> 43.616667 | CE8: =Q8/60 -> 38.133333 | ... CG8: =S8/60 -> 0 | CI8: =AQ8+BB8+BM8 -> 42.729535 | CJ8: =AR8+BC8+BN8 -> 48.101005 | CK8: =AS8+BD8+BO8 -> 41.176161 | CL8: =AT8+BE8+BP8 -> 38.104601 | CM8: =AU8+BF8+BQ8 -> 28.745013 | CN8: =AV8+BG8+BR8 -> 45.22349 | CO8: =AW8+BH8+BS8 -> 43.959028 | CP8: =AX8+BI8+BT8 -> 48.229933 | ... CR8: =AZ8+BK8+BV8 -> 0 | CT8: =MIN(CI8:CR8) -> 0 | CU8: =SMALL(CI8:CR8,2) -> 28.745013 | CV8: =SUM(CI8:CR8)-CT8-CU8 -> 350.42864 | CW8: =50*MIN(8,COUNTIF(J8:S8,">0")) -> 400 | CX8: =CW8+CV8 -> 750.42864 | CZ8: =G8 -> 726.53204 | DA8: =A8 -> 4
A9: 5 | B9: willwc | C9: William Blatt | D9: USA | E9: 332.5145 | F9: 9/10/10 | G9: 705.28615 | H9: 31137 | J9: 1381 | K9: 1389 | L9: 1358 | M9: 1868 | N9: 2574 | O9: 1427 | P9: 2472 | Q9: 2948 | R9: 2652 | S9: 13068 | U9: =IF(J9<=Summary!B$3,J9,0) -> 1381 | V9: =IF(K9<=Summary!C$3,K9,0) -> 1389 | W9: =IF(L9<=Summary!D$3,L9,0) -> 1358 | X9: =IF(M9<=Summary!E$3,M9,0) -> 1868 | Y9: =IF(N9<=Summary!F$3,N9,0) -> 2574 | Z9: =IF(O9<=Summary!G$3,O9,0) -> 1427 | AA9: =IF(P9<=Summary!H$3,P9,0) -> 2472 | AB9: =IF(Q9<=Summary!I$3,Q9,0) -> 2948 | ... AD9: =IF(S9<=Summary!K$3,S9,0) -> 0 | AF9: =IF(J9>0,RANK(J9,J:J,1),0) -> 69 | AG9: =IF(K9>0,RANK(K9,K:K,1),0) -> 95 | AH9: =IF(L9>0,RANK(L9,L:L,1),0) -> 9 | AI9: =IF(M9>0,RANK(M9,M:M,1),0) -> 12 | AJ9: =IF(N9>0,RANK(N9,N:N,1),0) -> 14 | AK9: =IF(O9>0,RANK(O9,O:O,1),0) -> 4 | AL9: =IF(P9>0,RANK(P9,P:P,1),0) -> 3 | AM9: =IF(Q9>0,RANK(Q9,Q:Q,1),0) -> 15 | AN9: =IF(R9>0,RANK(R9,R:R,1),0) -> 3 | AO9: =IF(S9>0,RANK(S9,S:S,1),0) -> 56 | AQ9: =IF(AND(AF9<=Summary!B$6,AF9>0),25*(Summary!B$6+1-AF9)/Summary!B$6,0) -> 8 | AR9: =IF(AND(AG9<=Summary!C$6,AG9>0),25*(Summary!C$6+1-AG9)/Summary!C$6,0) -> 1.5 | AS9: =IF(AND(AH9<=Summary!D$6,AH9>0),25*(Summary!D$6+1-AH9)/Summary!D$6,0) -> 23 | AT9: =IF(AND(AI9<=Summary!E$6,AI9>0),25*(Summary!E$6+1-AI9)/Summary!E$6,0) -> 22.25 | AU9: =IF(AND(AJ9<=Summary!F$6,AJ9>0),25*(Summary!F$6+1-AJ9)/Summary!F$6,0) -> 21.75 | AV9: =IF(AND(AK9<=Summary!G$6,AK9>0),25*(Summary!G$6+1-AK9)/Summary!G$6,0) -> 24.25 | AW9: =IF(AND(AL9<=Summary!H$6,AL9>0),25*(Summary!H$6+1-AL9)/Summary!H$6,0) -> 24.5 | AX9: =IF(AND(AM9<=Summary!I$6,AM9>0),25*(Summary!I$6+1-AM9)/Summary!I$6,0) -> 21.5 | ... AZ9: =IF(AND(AO9<=Summary!K$6,AO9>0),25*(Summary!K$6+1-AO9)/Summary!K$6,0) -> 11.25 | BB9: =IF(AND(U9>0,U9<=Summary!B$9),12.5 + 12.5 * (U9 - Summary!B$9) / (Summary!B$7 - Summary!B$9),0) -> 15.930979 | BC9: =IF(AND(V9>0,V9<=Summary!C$9),12.5 + 12.5 * (V9 - Summary!C$9) / (Summary!C$7 - Summary!C$9),0) -> 14.912745 | BD9: =IF(AND(W9>0,W9<=Summary!D$9),12.5 + 12.5 * (W9 - Summary!D$9) / (Summary!D$7 - Summary!D$9),0) -> 20.540861 | BE9: =IF(AND(X9>0,X9<=Summary!E$9),12.5 + 12.5 * (X9 - Summary!E$9) / (Summary!E$7 - Summary!E$9),0) -> 19.281701 | BF9: =IF(AND(Y9>0,Y9<=Summary!F$9),12.5 + 12.5 * (Y9 - Summary!F$9) / (Summary!F$7 - Summary!F$9),0) -> 16.54835 | BG9: =IF(AND(Z9>0,Z9<=Summary!G$9),12.5 + 12.5 * (Z9 - Summary!G$9) / (Summary!G$7 - Summary!G$9),0) -> 22.75405 | BH9: =IF(AND(AA9>0,AA9<=Summary!H$9),12.5 + 12.5 * (AA9 - Summary!H$9) / (Summary!H$7 - Summary!H$9),0) -> 21.0199 | BI9: =IF(AND(AB9>0,AB9<=Summary!I$9),12.5 + 12.5 * (AB9 - Summary!I$9) / (Summary!I$7 - Summary!I$9),0) -> 18.461538 | ... BK9: =IF(AND(AD9>0,AD9<=Summary!K$9),12.5 + 12.5 * (AD9 - Summary!K$9) / (Summary!K$7 - Summary!K$9),0) -> 0 | BM9: =IF(AND(U9>0,U9>Summary!B$9),12.5 - 12.5 * (U9 - Summary!B$9) / (Summary!B$3 - Summary!B$9),0) -> 0 | BN9: =IF(AND(V9>0,V9>Summary!C$9),12.5 - 12.5 * (V9 - Summary!C$9) / (Summary!C$3 - Summary!C$9),0) -> 0 | BO9: =IF(AND(W9>0,W9>Summary!D$9),12.5 - 12.5 * (W9 - Summary!D$9) / (Summary!D$3 - Summary!D$9),0) -> 0 | BP9: =IF(AND(X9>0,X9>Summary!E$9),12.5 - 12.5 * (X9 - Summary!E$9) / (Summary!E$3 - Summary!E$9),0) -> 0 | BQ9: =IF(AND(Y9>0,Y9>Summary!F$9),12.5 - 12.5 * (Y9 - Summary!F$9) / (Summary!F$3 - Summary!F$9),0) -> 0 | BR9: =IF(AND(Z9>0,Z9>Summary!G$9),12.5 - 12.5 * (Z9 - Summary!G$9) / (Summary!G$3 - Summary!G$9),0) -> 0 | BS9: =IF(AND(AA9>0,AA9>Summary!H$9),12.5 - 12.5 * (AA9 - Summary!H$9) / (Summary!H$3 - Summary!H$9),0) -> 0 | BT9: =IF(AND(AB9>0,AB9>Summary!I$9),12.5 - 12.5 * (AB9 - Summary!I$9) / (Summary!I$3 - Summary!I$9),0) -> 0 | ... BV9: =IF(AND(AD9>0,AD9>Summary!K$9),12.5 - 12.5 * (AD9 - Summary!K$9) / (Summary!K$3 - Summary!K$9),0) -> 0 | BX9: =J9/60 -> 23.016667 | BY9: =K9/60 -> 23.15 | BZ9: =L9/60 -> 22.633333 | CA9: =M9/60 -> 31.133333 | CB9: =N9/60 -> 42.9 | CC9: =O9/60 -> 23.783333 | CD9: =P9/60 -> 41.2 | CE9: =Q9/60 -> 49.133333 | ... CG9: =S9/60 -> 217.8 | CI9: =AQ9+BB9+BM9 -> 23.930979 | CJ9: =AR9+BC9+BN9 -> 16.412745 | CK9: =AS9+BD9+BO9 -> 43.540861 | CL9: =AT9+BE9+BP9 -> 41.531701 | CM9: =AU9+BF9+BQ9 -> 38.29835 | CN9: =AV9+BG9+BR9 -> 47.00405 | CO9: =AW9+BH9+BS9 -> 45.5199 | CP9: =AX9+BI9+BT9 -> 39.961538 | ... CR9: =AZ9+BK9+BV9 -> 11.25 | CT9: =MIN(CI9:CR9) -> 11.25 | CU9: =SMALL(CI9:CR9,2) -> 16.412745 | CV9: =SUM(CI9:CR9)-CT9-CU9 -> 326.39243 | CW9: =50*MIN(8,COUNTIF(J9:S9,">0")) -> 400 | CX9: =CW9+CV9 -> 726.39243 | CZ9: =G9 -> 705.28615 | DA9: =A9 -> 5
A10: 6 | B10: Kota | C10: Kota Morinishi | D10: Japan | E10: 295.04347 | F10: 8/10/10 | G10: 695.04347 | H10: 24236 | J10: 797 | K10: 889 | L10: 1938 | M10: 1659 | N10: 2200 | O10: 1122 | P10: 3981 | Q10: 3141 | R10: 3290 | S10: 5219 | U10: =IF(J10<=Summary!B$3,J10,0) -> 797 | V10: =IF(K10<=Summary!C$3,K10,0) -> 889 | W10: =IF(L10<=Summary!D$3,L10,0) -> 1938 | X10: =IF(M10<=Summary!E$3,M10,0) -> 1659 | Y10: =IF(N10<=Summary!F$3,N10,0) -> 2200 | Z10: =IF(O10<=Summary!G$3,O10,0) -> 1122 | AA10: =IF(P10<=Summary!H$3,P10,0) -> 3981 | AB10: =IF(Q10<=Summary!I$3,Q10,0) -> 3141 | ... AD10: =IF(S10<=Summary!K$3,S10,0) -> 5219 | AF10: =IF(J10>0,RANK(J10,J:J,1),0) -> 16 | AG10: =IF(K10>0,RANK(K10,K:K,1),0) -> 20 | AH10: =IF(L10>0,RANK(L10,L:L,1),0) -> 34 | AI10: =IF(M10>0,RANK(M10,M:M,1),0) -> 7 | AJ10: =IF(N10>0,RANK(N10,N:N,1),0) -> 4 | AK10: =IF(O10>0,RANK(O10,O:O,1),0) -> 1 | AL10: =IF(P10>0,RANK(P10,P:P,1),0) -> 24 | AM10: =IF(Q10>0,RANK(Q10,Q:Q,1),0) -> 21 | AN10: =IF(R10>0,RANK(R10,R:R,1),0) -> 11 | AO10: =IF(S10>0,RANK(S10,S:S,1),0) -> 17 | AQ10: =IF(AND(AF10<=Summary!B$6,AF10>0),25*(Summary!B$6+1-AF10)/Summary!B$6,0) -> 21.25 | AR10: =IF(AND(AG10<=Summary!C$6,AG10>0),25*(Summary!C$6+1-AG10)/Summary!C$6,0) -> 20.25 | AS10: =IF(AND(AH10<=Summary!D$6,AH10>0),25*(Summary!D$6+1-AH10)/Summary!D$6,0) -> 16.75 | AT10: =IF(AND(AI10<=Summary!E$6,AI10>0),25*(Summary!E$6+1-AI10)/Summary!E$6,0) -> 23.5 | AU10: =IF(AND(AJ10<=Summary!F$6,AJ10>0),25*(Summary!F$6+1-AJ10)/Summary!F$6,0) -> 24.25 | AV10: =IF(AND(AK10<=Summary!G$6,AK10>0),25*(Summary!G$6+1-AK10)/Summary!G$6,0) -> 25 | AW10: =IF(AND(AL10<=Summary!H$6,AL10>0),25*(Summary!H$6+1-AL10)/Summary!H$6,0) -> 19.25 | AX10: =IF(AND(AM10<=Summary!I$6,AM10>0),25*(Summary!I$6+1-AM10)/Summary!I$6,0) -> 20 | ... AZ10: =IF(AND(AO10<=Summary!K$6,AO10>0),25*(Summary!K$6+1-AO10)/Summary!K$6,0) -> 21 | BB10: =IF(AND(U10>0,U10<=Summary!B$9),12.5 + 12.5 * (U10 - Summary!B$9) / (Summary!B$7 - Summary!B$9),0) -> 21.789727 | BC10: =IF(AND(V10>0,V10<=Summary!C$9),12.5 + 12.5 * (V10 - Summary!C$9) / (Summary!C$7 - Summary!C$9),0) -> 21.523004 | BD10: =IF(AND(W10>0,W10<=Summary!D$9),12.5 + 12.5 * (W10 - Summary!D$9) / (Summary!D$7 - Summary!D$9),0) -> 15.62394 | BE10: =IF(AND(X10>0,X10<=Summary!E$9),12.5 + 12.5 * (X10 - Summary!E$9) / (Summary!E$7 - Summary!E$9),0) -> 20.679508 | BF10: =IF(AND(Y10>0,Y10<=Summary!F$9),12.5 + 12.5 * (Y10 - Summary!F$9) / (Summary!F$7 - Summary!F$9),0) -> 20.136224 | BG10: =IF(AND(Z10>0,Z10<=Summary!G$9),12.5 + 12.5 * (Z10 - Summary!G$9) / (Summary!G$7 - Summary!G$9),0) -> 25 | BH10: =IF(AND(AA10>0,AA10<=Summary!H$9),12.5 + 12.5 * (AA10 - Summary!H$9) / (Summary!H$7 - Summary!H$9),0) -> 0 | BI10: =IF(AND(AB10>0,AB10<=Summary!I$9),12.5 + 12.5 * (AB10 - Summary!I$9) / (Summary!I$7 - Summary!I$9),0) -> 16.847826 | ... BK10: =IF(AND(AD10>0,AD10<=Summary!K$9),12.5 + 12.5 * (AD10 - Summary!K$9) / (Summary!K$7 - Summary!K$9),0) -> 0 | BM10: =IF(AND(U10>0,U10>Summary!B$9),12.5 - 12.5 * (U10 - Summary!B$9) / (Summary!B$3 - Summary!B$9),0) -> 0 | BN10: =IF(AND(V10>0,V10>Summary!C$9),12.5 - 12.5 * (V10 - Summary!C$9) / (Summary!C$3 - Summary!C$9),0) -> 0 | BO10: =IF(AND(W10>0,W10>Summary!D$9),12.5 - 12.5 * (W10 - Summary!D$9) / (Summary!D$3 - Summary!D$9),0) -> 0 | BP10: =IF(AND(X10>0,X10>Summary!E$9),12.5 - 12.5 * (X10 - Summary!E$9) / (Summary!E$3 - Summary!E$9),0) -> 0 | BQ10: =IF(AND(Y10>0,Y10>Summary!F$9),12.5 - 12.5 * (Y10 - Summary!F$9) / (Summary!F$3 - Summary!F$9),0) -> 0 | BR10: =IF(AND(Z10>0,Z10>Summary!G$9),12.5 - 12.5 * (Z10 - Summary!G$9) / (Summary!G$3 - Summary!G$9),0) -> 0 | BS10: =IF(AND(AA10>0,AA10>Summary!H$9),12.5 - 12.5 * (AA10 - Summary!H$9) / (Summary!H$3 - Summary!H$9),0) -> 10.058123 | BT10: =IF(AND(AB10>0,AB10>Summary!I$9),12.5 - 12.5 * (AB10 - Summary!I$9) / (Summary!I$3 - Summary!I$9),0) -> 0 | ... BV10: =IF(AND(AD10>0,AD10>Summary!K$9),12.5 - 12.5 * (AD10 - Summary!K$9) / (Summary!K$3 - Summary!K$9),0) -> 4.1286496 | BX10: =J10/60 -> 13.283333 | BY10: =K10/60 -> 14.816667 | BZ10: =L10/60 -> 32.3 | CA10: =M10/60 -> 27.65 | CB10: =N10/60 -> 36.666667 | CC10: =O10/60 -> 18.7 | CD10: =P10/60 -> 66.35 | CE10: =Q10/60 -> 52.35 | ... CG10: =S10/60 -> 86.983333 | CI10: =AQ10+BB10+BM10 -> 43.039727 | CJ10: =AR10+BC10+BN10 -> 41.773004 | CK10: =AS10+BD10+BO10 -> 32.37394 | CL10: =AT10+BE10+BP10 -> 44.179508 | CM10: =AU10+BF10+BQ10 -> 44.386224 | CN10: =AV10+BG10+BR10 -> 50 | CO10: =AW10+BH10+BS10 -> 29.308123 | CP10: =AX10+BI10+BT10 -> 36.847826 | ... CR10: =AZ10+BK10+BV10 -> 25.12865 | CT10: =MIN(CI10:CR10) -> 25.12865 | CU10: =SMALL(CI10:CR10,2) -> 29.308123 | CV10: =SUM(CI10:CR10)-CT10-CU10 -> 332.91995 | CW10: =50*MIN(8,COUNTIF(J10:S10,">0")) -> 400 | CX10: =CW10+CV10 -> 732.91995 | CZ10: =G10 -> 695.04347 | DA10: =A10 -> 6
A11: 7 | B11: MellowMelon | C11: Palmer Mebane | D11: USA | E11: 292.76863 | F11: 9/10/10 | G11: 686.68537 | H11: 24260 | J11: 477 | K11: 765 | L11: 1198 | M11: 3269 | N11: 2866 | O11: 1346 | P11: 3369 | Q11: 2951 | R11: 2867 | S11: 5152 | U11: =IF(J11<=Summary!B$3,J11,0) -> 477 | V11: =IF(K11<=Summary!C$3,K11,0) -> 765 | W11: =IF(L11<=Summary!D$3,L11,0) -> 1198 | X11: =IF(M11<=Summary!E$3,M11,0) -> 3269 | Y11: =IF(N11<=Summary!F$3,N11,0) -> 2866 | Z11: =IF(O11<=Summary!G$3,O11,0) -> 1346 | AA11: =IF(P11<=Summary!H$3,P11,0) -> 3369 | AB11: =IF(Q11<=Summary!I$3,Q11,0) -> 2951 | ... AD11: =IF(S11<=Summary!K$3,S11,0) -> 5152 | AF11: =IF(J11>0,RANK(J11,J:J,1),0) -> 1 | AG11: =IF(K11>0,RANK(K11,K:K,1),0) -> 8 | AH11: =IF(L11>0,RANK(L11,L:L,1),0) -> 7 | AI11: =IF(M11>0,RANK(M11,M:M,1),0) -> 68 | AJ11: =IF(N11>0,RANK(N11,N:N,1),0) -> 22 | AK11: =IF(O11>0,RANK(O11,O:O,1),0) -> 3 | AL11: =IF(P11>0,RANK(P11,P:P,1),0) -> 16 | AM11: =IF(Q11>0,RANK(Q11,Q:Q,1),0) -> 16 | AN11: =IF(R11>0,RANK(R11,R:R,1),0) -> 5 | AO11: =IF(S11>0,RANK(S11,S:S,1),0) -> 15 | AQ11: =IF(AND(AF11<=Summary!B$6,AF11>0),25*(Summary!B$6+1-AF11)/Summary!B$6,0) -> 25 | AR11: =IF(AND(AG11<=Summary!C$6,AG11>0),25*(Summary!C$6+1-AG11)/Summary!C$6,0) -> 23.25 | AS11: =IF(AND(AH11<=Summary!D$6,AH11>0),25*(Summary!D$6+1-AH11)/Summary!D$6,0) -> 23.5 | AT11: =IF(AND(AI11<=Summary!E$6,AI11>0),25*(Summary!E$6+1-AI11)/Summary!E$6,0) -> 8.25 | AU11: =IF(AND(AJ11<=Summary!F$6,AJ11>0),25*(Summary!F$6+1-AJ11)/Summary!F$6,0) -> 19.75 | AV11: =IF(AND(AK11<=Summary!G$6,AK11>0),25*(Summary!G$6+1-AK11)/Summary!G$6,0) -> 24.5 | AW11: =IF(AND(AL11<=Summary!H$6,AL11>0),25*(Summary!H$6+1-AL11)/Summary!H$6,0) -> 21.25 | AX11: =IF(AND(AM11<=Summary!I$6,AM11>0),25*(Summary!I$6+1-AM11)/Summary!I$6,0) -> 21.25 | ... AZ11: =IF(AND(AO11<=Summary!K$6,AO11>0),25*(Summary!K$6+1-AO11)/Summary!K$6,0) -> 21.5 | BB11: =IF(AND(U11>0,U11<=Summary!B$9),12.5 + 12.5 * (U11 - Summary!B$9) / (Summary!B$7 - Summary!B$9),0) -> 25 | BC11: =IF(AND(V11>0,V11<=Summary!C$9),12.5 + 12.5 * (V11 - Summary!C$9) / (Summary!C$7 - Summary!C$9),0) -> 23.162348 | BD11: =IF(AND(W11>0,W11<=Summary!D$9),12.5 + 12.5 * (W11 - Summary!D$9) / (Summary!D$7 - Summary!D$9),0) -> 21.897253 | BE11: =IF(AND(X11>0,X11<=Summary!E$9),12.5 + 12.5 * (X11 - Summary!E$9) / (Summary!E$7 - Summary!E$9),0) -> 0 | BF11: =IF(AND(Y11>0,Y11<=Summary!F$9),12.5 + 12.5 * (Y11 - Summary!F$9) / (Summary!F$7 - Summary!F$9),0) -> 13.747122 | BG11: =IF(AND(Z11>0,Z11<=Summary!G$9),12.5 + 12.5 * (Z11 - Summary!G$9) / (Summary!G$7 - Summary!G$9),0) -> 23.350515 | BH11: =IF(AND(AA11>0,AA11<=Summary!H$9),12.5 + 12.5 * (AA11 - Summary!H$9) / (Summary!H$7 - Summary!H$9),0) -> 14.457126 | BI11: =IF(AND(AB11>0,AB11<=Summary!I$9),12.5 + 12.5 * (AB11 - Summary!I$9) / (Summary!I$7 - Summary!I$9),0) -> 18.436455 | ... BK11: =IF(AND(AD11>0,AD11<=Summary!K$9),12.5 + 12.5 * (AD11 - Summary!K$9) / (Summary!K$7 - Summary!K$9),0) -> 0 | BM11: =IF(AND(U11>0,U11>Summary!B$9),12.5 - 12.5 * (U11 - Summary!B$9) / (Summary!B$3 - Summary!B$9),0) -> 0 | BN11: =IF(AND(V11>0,V11>Summary!C$9),12.5 - 12.5 * (V11 - Summary!C$9) / (Summary!C$3 - Summary!C$9),0) -> 0 | BO11: =IF(AND(W11>0,W11>Summary!D$9),12.5 - 12.5 * (W11 - Summary!D$9) / (Summary!D$3 - Summary!D$9),0) -> 0 | BP11: =IF(AND(X11>0,X11>Summary!E$9),12.5 - 12.5 * (X11 - Summary!E$9) / (Summary!E$3 - Summary!E$9),0) -> 9.5101978 | BQ11: =IF(AND(Y11>0,Y11>Summary!F$9),12.5 - 12.5 * (Y11 - Summary!F$9) / (Summary!F$3 - Summary!F$9),0) -> 0 | BR11: =IF(AND(Z11>0,Z11>Summary!G$9),12.5 - 12.5 * (Z11 - Summary!G$9) / (Summary!G$3 - Summary!G$9),0) -> 0 | BS11: =IF(AND(AA11>0,AA11>Summary!H$9),12.5 - 12.5 * (AA11 - Summary!H$9) / (Summary!H$3 - Summary!H$9),0) -> 0 | BT11: =IF(AND(AB11>0,AB11>Summary!I$9),12.5 - 12.5 * (AB11 - Summary!I$9) / (Summary!I$3 - Summary!I$9),0) -> 0 | ... BV11: =IF(AND(AD11>0,AD11>Summary!K$9),12.5 - 12.5 * (AD11 - Summary!K$9) / (Summary!K$3 - Summary!K$9),0) -> 5.6569343 | BX11: =J11/60 -> 7.95 | BY11: =K11/60 -> 12.75 | BZ11: =L11/60 -> 19.966667 | CA11: =M11/60 -> 54.483333 | CB11: =N11/60 -> 47.766667 | CC11: =O11/60 -> 22.433333 | CD11: =P11/60 -> 56.15 | CE11: =Q11/60 -> 49.183333 | ... CG11: =S11/60 -> 85.866667 | CI11: =AQ11+BB11+BM11 -> 50 | CJ11: =AR11+BC11+BN11 -> 46.412348 | CK11: =AS11+BD11+BO11 -> 45.397253 | CL11: =AT11+BE11+BP11 -> 17.760198 | CM11: =AU11+BF11+BQ11 -> 33.497122 | CN11: =AV11+BG11+BR11 -> 47.850515 | CO11: =AW11+BH11+BS11 -> 35.707126 | CP11: =AX11+BI11+BT11 -> 39.686455 | ... CR11: =AZ11+BK11+BV11 -> 27.156934 | CT11: =MIN(CI11:CR11) -> 17.760198 | CU11: =SMALL(CI11:CR11,2) -> 27.156934 | CV11: =SUM(CI11:CR11)-CT11-CU11 -> 343.21175 | CW11: =50*MIN(8,COUNTIF(J11:S11,">0")) -> 400 | CX11: =CW11+CV11 -> 743.21175 | CZ11: =G11 -> 686.68537 | DA11: =A11 -> 7
A12: 8 | B12: kiwijam | C12: James McGowan | D12: United Kingdom | E12: 275.64925 | F12: 8/9/9 + 1 | G12: 675.64925 | H12: 21285 | J12: 784 | K12: 1270 | L12: 1511 | M12: 3098 | N12: 2322 | O12: 1603 | P12: 2492 | Q12: 3033 | S12: 5172 | U12: =IF(J12<=Summary!B$3,J12,0) -> 784 | V12: =IF(K12<=Summary!C$3,K12,0) -> 1270 | W12: =IF(L12<=Summary!D$3,L12,0) -> 1511 | X12: =IF(M12<=Summary!E$3,M12,0) -> 3098 | Y12: =IF(N12<=Summary!F$3,N12,0) -> 2322 | Z12: =IF(O12<=Summary!G$3,O12,0) -> 1603 | AA12: =IF(P12<=Summary!H$3,P12,0) -> 2492 | AB12: =IF(Q12<=Summary!I$3,Q12,0) -> 3033 | ... AD12: =IF(S12<=Summary!K$3,S12,0) -> 5172 | AF12: =IF(J12>0,RANK(J12,J:J,1),0) -> 13 | AG12: =IF(K12>0,RANK(K12,K:K,1),0) -> 81 | AH12: =IF(L12>0,RANK(L12,L:L,1),0) -> 17 | AI12: =IF(M12>0,RANK(M12,M:M,1),0) -> 60 | AJ12: =IF(N12>0,RANK(N12,N:N,1),0) -> 6 | AK12: =IF(O12>0,RANK(O12,O:O,1),0) -> 9 | AL12: =IF(P12>0,RANK(P12,P:P,1),0) -> 4 | AM12: =IF(Q12>0,RANK(Q12,Q:Q,1),0) -> 17 | AN12: =IF(R12>0,RANK(R12,R:R,1),0) -> 0 | AO12: =IF(S12>0,RANK(S12,S:S,1),0) -> 16 | AQ12: =IF(AND(AF12<=Summary!B$6,AF12>0),25*(Summary!B$6+1-AF12)/Summary!B$6,0) -> 22 | AR12: =IF(AND(AG12<=Summary!C$6,AG12>0),25*(Summary!C$6+1-AG12)/Summary!C$6,0) -> 5 | AS12: =IF(AND(AH12<=Summary!D$6,AH12>0),25*(Summary!D$6+1-AH12)/Summary!D$6,0) -> 21 | AT12: =IF(AND(AI12<=Summary!E$6,AI12>0),25*(Summary!E$6+1-AI12)/Summary!E$6,0) -> 10.25 | AU12: =IF(AND(AJ12<=Summary!F$6,AJ12>0),25*(Summary!F$6+1-AJ12)/Summary!F$6,0) -> 23.75 | AV12: =IF(AND(AK12<=Summary!G$6,AK12>0),25*(Summary!G$6+1-AK12)/Summary!G$6,0) -> 23 | AW12: =IF(AND(AL12<=Summary!H$6,AL12>0),25*(Summary!H$6+1-AL12)/Summary!H$6,0) -> 24.25 | AX12: =IF(AND(AM12<=Summary!I$6,AM12>0),25*(Summary!I$6+1-AM12)/Summary!I$6,0) -> 21 | ... AZ12: =IF(AND(AO12<=Summary!K$6,AO12>0),25*(Summary!K$6+1-AO12)/Summary!K$6,0) -> 21.25 | BB12: =IF(AND(U12>0,U12<=Summary!B$9),12.5 + 12.5 * (U12 - Summary!B$9) / (Summary!B$7 - Summary!B$9),0) -> 21.920144 | BC12: =IF(AND(V12>0,V12<=Summary!C$9),12.5 + 12.5 * (V12 - Summary!C$9) / (Summary!C$7 - Summary!C$9),0) -> 16.485986 | BD12: =IF(AND(W12>0,W12<=Summary!D$9),12.5 + 12.5 * (W12 - Summary!D$9) / (Summary!D$7 - Summary!D$9),0) -> 19.243811 | BE12: =IF(AND(X12>0,X12<=Summary!E$9),12.5 + 12.5 * (X12 - Summary!E$9) / (Summary!E$7 - Summary!E$9),0) -> 0 | BF12: =IF(AND(Y12>0,Y12<=Summary!F$9),12.5 + 12.5 * (Y12 - Summary!F$9) / (Summary!F$7 - Summary!F$9),0) -> 18.965848 | BG12: =IF(AND(Z12>0,Z12<=Summary!G$9),12.5 + 12.5 * (Z12 - Summary!G$9) / (Summary!G$7 - Summary!G$9),0) -> 21.458027 | BH12: =IF(AND(AA12>0,AA12<=Summary!H$9),12.5 + 12.5 * (AA12 - Summary!H$9) / (Summary!H$7 - Summary!H$9),0) -> 20.873573 | BI12: =IF(AND(AB12>0,AB12<=Summary!I$9),12.5 + 12.5 * (AB12 - Summary!I$9) / (Summary!I$7 - Summary!I$9),0) -> 17.750836 | ... BK12: =IF(AND(AD12>0,AD12<=Summary!K$9),12.5 + 12.5 * (AD12 - Summary!K$9) / (Summary!K$7 - Summary!K$9),0) -> 0 | BM12: =IF(AND(U12>0,U12>Summary!B$9),12.5 - 12.5 * (U12 - Summary!B$9) / (Summary!B$3 - Summary!B$9),0) -> 0 | BN12: =IF(AND(V12>0,V12>Summary!C$9),12.5 - 12.5 * (V12 - Summary!C$9) / (Summary!C$3 - Summary!C$9),0) -> 0 | BO12: =IF(AND(W12>0,W12>Summary!D$9),12.5 - 12.5 * (W12 - Summary!D$9) / (Summary!D$3 - Summary!D$9),0) -> 0 | BP12: =IF(AND(X12>0,X12>Summary!E$9),12.5 - 12.5 * (X12 - Summary!E$9) / (Summary!E$3 - Summary!E$9),0) -> 10.831273 | BQ12: =IF(AND(Y12>0,Y12>Summary!F$9),12.5 - 12.5 * (Y12 - Summary!F$9) / (Summary!F$3 - Summary!F$9),0) -> 0 | BR12: =IF(AND(Z12>0,Z12>Summary!G$9),12.5 - 12.5 * (Z12 - Summary!G$9) / (Summary!G$3 - Summary!G$9),0) -> 0 | BS12: =IF(AND(AA12>0,AA12>Summary!H$9),12.5 - 12.5 * (AA12 - Summary!H$9) / (Summary!H$3 - Summary!H$9),0) -> 0 | BT12: =IF(AND(AB12>0,AB12>Summary!I$9),12.5 - 12.5 * (AB12 - Summary!I$9) / (Summary!I$3 - Summary!I$9),0) -> 0 | ... BV12: =IF(AND(AD12>0,AD12>Summary!K$9),12.5 - 12.5 * (AD12 - Summary!K$9) / (Summary!K$3 - Summary!K$9),0) -> 5.2007299 | BX12: =J12/60 -> 13.066667 | BY12: =K12/60 -> 21.166667 | BZ12: =L12/60 -> 25.183333 | CA12: =M12/60 -> 51.633333 | CB12: =N12/60 -> 38.7 | CC12: =O12/60 -> 26.716667 | CD12: =P12/60 -> 41.533333 | CE12: =Q12/60 -> 50.55 | ... CG12: =S12/60 -> 86.2 | CI12: =AQ12+BB12+BM12 -> 43.920144 | CJ12: =AR12+BC12+BN12 -> 21.485986 | CK12: =AS12+BD12+BO12 -> 40.243811 | CL12: =AT12+BE12+BP12 -> 21.081273 | CM12: =AU12+BF12+BQ12 -> 42.715848 | CN12: =AV12+BG12+BR12 -> 44.458027 | CO12: =AW12+BH12+BS12 -> 45.123573 | CP12: =AX12+BI12+BT12 -> 38.750836 | ... CR12: =AZ12+BK12+BV12 -> 26.45073 | CT12: =MIN(CI12:CR12) -> 0 | CU12: =SMALL(CI12:CR12,2) -> 21.081273 | CV12: =SUM(CI12:CR12)-CT12-CU12 -> 303.14896 | CW12: =50*MIN(8,COUNTIF(J12:S12,">0")) -> 400 | CX12: =CW12+CV12 -> 703.14896 | CZ12: =G12 -> 675.64925 | DA12: =A12 -> 8
A13: 9 | B13: Nikola | C13: Nikola | D13: Serbia | E13: 269.00102 | F13: 8/10/10 | G13: 669.00102 | H13: 26800 | J13: 848 | K13: 675 | L13: 3146 | M13: 2042 | N13: 4519 | O13: 2590 | P13: 4568 | Q13: 2244 | R13: 3486 | S13: 2682 | U13: =IF(J13<=Summary!B$3,J13,0) -> 848 | V13: =IF(K13<=Summary!C$3,K13,0) -> 675 | W13: =IF(L13<=Summary!D$3,L13,0) -> 3146 | X13: =IF(M13<=Summary!E$3,M13,0) -> 2042 | Y13: =IF(N13<=Summary!F$3,N13,0) -> 0 | Z13: =IF(O13<=Summary!G$3,O13,0) -> 2590 | AA13: =IF(P13<=Summary!H$3,P13,0) -> 4568 | AB13: =IF(Q13<=Summary!I$3,Q13,0) -> 2244 | ... AD13: =IF(S13<=Summary!K$3,S13,0) -> 2682 | AF13: =IF(J13>0,RANK(J13,J:J,1),0) -> 20 | AG13: =IF(K13>0,RANK(K13,K:K,1),0) -> 4 | AH13: =IF(L13>0,RANK(L13,L:L,1),0) -> 74 | AI13: =IF(M13>0,RANK(M13,M:M,1),0) -> 20 | AJ13: =IF(N13>0,RANK(N13,N:N,1),0) -> 54 | AK13: =IF(O13>0,RANK(O13,O:O,1),0) -> 46 | AL13: =IF(P13>0,RANK(P13,P:P,1),0) -> 35 | AM13: =IF(Q13>0,RANK(Q13,Q:Q,1),0) -> 3 | AN13: =IF(R13>0,RANK(R13,R:R,1),0) -> 13 | AO13: =IF(S13>0,RANK(S13,S:S,1),0) -> 1 | AQ13: =IF(AND(AF13<=Summary!B$6,AF13>0),25*(Summary!B$6+1-AF13)/Summary!B$6,0) -> 20.25 | AR13: =IF(AND(AG13<=Summary!C$6,AG13>0),25*(Summary!C$6+1-AG13)/Summary!C$6,0) -> 24.25 | AS13: =IF(AND(AH13<=Summary!D$6,AH13>0),25*(Summary!D$6+1-AH13)/Summary!D$6,0) -> 6.75 | AT13: =IF(AND(AI13<=Summary!E$6,AI13>0),25*(Summary!E$6+1-AI13)/Summary!E$6,0) -> 20.25 | AU13: =IF(AND(AJ13<=Summary!F$6,AJ13>0),25*(Summary!F$6+1-AJ13)/Summary!F$6,0) -> 11.75 | AV13: =IF(AND(AK13<=Summary!G$6,AK13>0),25*(Summary!G$6+1-AK13)/Summary!G$6,0) -> 13.75 | AW13: =IF(AND(AL13<=Summary!H$6,AL13>0),25*(Summary!H$6+1-AL13)/Summary!H$6,0) -> 16.5 | AX13: =IF(AND(AM13<=Summary!I$6,AM13>0),25*(Summary!I$6+1-AM13)/Summary!I$6,0) -> 24.5 | ... AZ13: =IF(AND(AO13<=Summary!K$6,AO13>0),25*(Summary!K$6+1-AO13)/Summary!K$6,0) -> 25 | BB13: =IF(AND(U13>0,U13<=Summary!B$9),12.5 + 12.5 * (U13 - Summary!B$9) / (Summary!B$7 - Summary!B$9),0) -> 21.27809 | BC13: =IF(AND(V13>0,V13<=Summary!C$9),12.5 + 12.5 * (V13 - Summary!C$9) / (Summary!C$7 - Summary!C$9),0) -> 24.352195 | BD13: =IF(AND(W13>0,W13<=Summary!D$9),12.5 + 12.5 * (W13 - Summary!D$9) / (Summary!D$7 - Summary!D$9),0) -> 0 | BE13: =IF(AND(X13>0,X13<=Summary!E$9),12.5 + 12.5 * (X13 - Summary!E$9) / (Summary!E$7 - Summary!E$9),0) -> 18.117978 | BF13: =IF(AND(Y13>0,Y13<=Summary!F$9),12.5 + 12.5 * (Y13 - Summary!F$9) / (Summary!F$7 - Summary!F$9),0) -> 0 | BG13: =IF(AND(Z13>0,Z13<=Summary!G$9),12.5 + 12.5 * (Z13 - Summary!G$9) / (Summary!G$7 - Summary!G$9),0) -> 14.189985 | BH13: =IF(AND(AA13>0,AA13<=Summary!H$9),12.5 + 12.5 * (AA13 - Summary!H$9) / (Summary!H$7 - Summary!H$9),0) -> 0 | BI13: =IF(AND(AB13>0,AB13<=Summary!I$9),12.5 + 12.5 * (AB13 - Summary!I$9) / (Summary!I$7 - Summary!I$9),0) -> 24.347826 | ... BK13: =IF(AND(AD13>0,AD13<=Summary!K$9),12.5 + 12.5 * (AD13 - Summary!K$9) / (Summary!K$7 - Summary!K$9),0) -> 25 | BM13: =IF(AND(U13>0,U13>Summary!B$9),12.5 - 12.5 * (U13 - Summary!B$9) / (Summary!B$3 - Summary!B$9),0) -> 0 | BN13: =IF(AND(V13>0,V13>Summary!C$9),12.5 - 12.5 * (V13 - Summary!C$9) / (Summary!C$3 - Summary!C$9),0) -> 0 | BO13: =IF(AND(W13>0,W13>Summary!D$9),12.5 - 12.5 * (W13 - Summary!D$9) / (Summary!D$3 - Summary!D$9),0) -> 4.3873212 | BP13: =IF(AND(X13>0,X13>Summary!E$9),12.5 - 12.5 * (X13 - Summary!E$9) / (Summary!E$3 - Summary!E$9),0) -> 0 | BQ13: =IF(AND(Y13>0,Y13>Summary!F$9),12.5 - 12.5 * (Y13 - Summary!F$9) / (Summary!F$3 - Summary!F$9),0) -> 0 | BR13: =IF(AND(Z13>0,Z13>Summary!G$9),12.5 - 12.5 * (Z13 - Summary!G$9) / (Summary!G$3 - Summary!G$9),0) -> 0 | BS13: =IF(AND(AA13>0,AA13>Summary!H$9),12.5 - 12.5 * (AA13 - Summary!H$9) / (Summary!H$3 - Summary!H$9),0) -> 5.8973632 | BT13: =IF(AND(AB13>0,AB13>Summary!I$9),12.5 - 12.5 * (AB13 - Summary!I$9) / (Summary!I$3 - Summary!I$9),0) -> 0 | ... BV13: =IF(AND(AD13>0,AD13>Summary!K$9),12.5 - 12.5 * (AD13 - Summary!K$9) / (Summary!K$3 - Summary!K$9),0) -> 0 | BX13: =J13/60 -> 14.133333 | BY13: =K13/60 -> 11.25 | BZ13: =L13/60 -> 52.433333 | CA13: =M13/60 -> 34.033333 | CB13: =N13/60 -> 75.316667 | CC13: =O13/60 -> 43.166667 | CD13: =P13/60 -> 76.133333 | CE13: =Q13/60 -> 37.4 | ... CG13: =S13/60 -> 44.7 | CI13: =AQ13+BB13+BM13 -> 41.52809 | CJ13: =AR13+BC13+BN13 -> 48.602195 | CK13: =AS13+BD13+BO13 -> 11.137321 | CL13: =AT13+BE13+BP13 -> 38.367978 | CM13: =AU13+BF13+BQ13 -> 11.75 | CN13: =AV13+BG13+BR13 -> 27.939985 | CO13: =AW13+BH13+BS13 -> 22.397363 | CP13: =AX13+BI13+BT13 -> 48.847826 | ... CR13: =AZ13+BK13+BV13 -> 50 | CT13: =MIN(CI13:CR13) -> 11.137321 | CU13: =SMALL(CI13:CR13,2) -> 11.75 | CV13: =SUM(CI13:CR13)-CT13-CU13 -> 316.18666 | CW13: =50*MIN(8,COUNTIF(J13:S13,">0")) -> 400 | CX13: =CW13+CV13 -> 716.18666 | CZ13: =G13 -> 669.00102 | DA13: =A13 -> 9
A14: 10 | B14: Nilz | C14: Neil Zussman | D14: United Kingdom | E14: 261.09571 | F14: 8/10/10 | G14: 661.09571 | H14: 25384 | J14: 1094 | K14: 779 | L14: 1375 | M14: 2900 | N14: 2552 | O14: 2001 | P14: 3630 | Q14: 2608 | R14: 3489 | S14: 4956 | U14: =IF(J14<=Summary!B$3,J14,0) -> 1094 | V14: =IF(K14<=Summary!C$3,K14,0) -> 779 | W14: =IF(L14<=Summary!D$3,L14,0) -> 1375 | X14: =IF(M14<=Summary!E$3,M14,0) -> 2900 | Y14: =IF(N14<=Summary!F$3,N14,0) -> 2552 | Z14: =IF(O14<=Summary!G$3,O14,0) -> 2001 | AA14: =IF(P14<=Summary!H$3,P14,0) -> 3630 | AB14: =IF(Q14<=Summary!I$3,Q14,0) -> 2608 | ... AD14: =IF(S14<=Summary!K$3,S14,0) -> 4956 | AF14: =IF(J14>0,RANK(J14,J:J,1),0) -> 43 | AG14: =IF(K14>0,RANK(K14,K:K,1),0) -> 9 | AH14: =IF(L14>0,RANK(L14,L:L,1),0) -> 11 | AI14: =IF(M14>0,RANK(M14,M:M,1),0) -> 52 | AJ14: =IF(N14>0,RANK(N14,N:N,1),0) -> 12 | AK14: =IF(O14>0,RANK(O14,O:O,1),0) -> 23 | AL14: =IF(P14>0,RANK(P14,P:P,1),0) -> 21 | AM14: =IF(Q14>0,RANK(Q14,Q:Q,1),0) -> 8 | AN14: =IF(R14>0,RANK(R14,R:R,1),0) -> 14 | AO14: =IF(S14>0,RANK(S14,S:S,1),0) -> 10 | AQ14: =IF(AND(AF14<=Summary!B$6,AF14>0),25*(Summary!B$6+1-AF14)/Summary!B$6,0) -> 14.5 | AR14: =IF(AND(AG14<=Summary!C$6,AG14>0),25*(Summary!C$6+1-AG14)/Summary!C$6,0) -> 23 | AS14: =IF(AND(AH14<=Summary!D$6,AH14>0),25*(Summary!D$6+1-AH14)/Summary!D$6,0) -> 22.5 | AT14: =IF(AND(AI14<=Summary!E$6,AI14>0),25*(Summary!E$6+1-AI14)/Summary!E$6,0) -> 12.25 | AU14: =IF(AND(AJ14<=Summary!F$6,AJ14>0),25*(Summary!F$6+1-AJ14)/Summary!F$6,0) -> 22.25 | AV14: =IF(AND(AK14<=Summary!G$6,AK14>0),25*(Summary!G$6+1-AK14)/Summary!G$6,0) -> 19.5 | AW14: =IF(AND(AL14<=Summary!H$6,AL14>0),25*(Summary!H$6+1-AL14)/Summary!H$6,0) -> 20 | AX14: =IF(AND(AM14<=Summary!I$6,AM14>0),25*(Summary!I$6+1-AM14)/Summary!I$6,0) -> 23.25 | ... AZ14: =IF(AND(AO14<=Summary!K$6,AO14>0),25*(Summary!K$6+1-AO14)/Summary!K$6,0) -> 22.75 | BB14: =IF(AND(U14>0,U14<=Summary!B$9),12.5 + 12.5 * (U14 - Summary!B$9) / (Summary!B$7 - Summary!B$9),0) -> 18.810193 | BC14: =IF(AND(V14>0,V14<=Summary!C$9),12.5 + 12.5 * (V14 - Summary!C$9) / (Summary!C$7 - Summary!C$9),0) -> 22.977261 | BD14: =IF(AND(W14>0,W14<=Summary!D$9),12.5 + 12.5 * (W14 - Summary!D$9) / (Summary!D$7 - Summary!D$9),0) -> 20.396745 | BE14: =IF(AND(X14>0,X14<=Summary!E$9),12.5 + 12.5 * (X14 - Summary!E$9) / (Summary!E$7 - Summary!E$9),0) -> 0 | BF14: =IF(AND(Y14>0,Y14<=Summary!F$9),12.5 + 12.5 * (Y14 - Summary!F$9) / (Summary!F$7 - Summary!F$9),0) -> 16.759401 | BG14: =IF(AND(Z14>0,Z14<=Summary!G$9),12.5 + 12.5 * (Z14 - Summary!G$9) / (Summary!G$7 - Summary!G$9),0) -> 18.527246 | BH14: =IF(AND(AA14>0,AA14<=Summary!H$9),12.5 + 12.5 * (AA14 - Summary!H$9) / (Summary!H$7 - Summary!H$9),0) -> 12.547556 | BI14: =IF(AND(AB14>0,AB14<=Summary!I$9),12.5 + 12.5 * (AB14 - Summary!I$9) / (Summary!I$7 - Summary!I$9),0) -> 21.304348 | ... BK14: =IF(AND(AD14>0,AD14<=Summary!K$9),12.5 + 12.5 * (AD14 - Summary!K$9) / (Summary!K$7 - Summary!K$9),0) -> 0 | BM14: =IF(AND(U14>0,U14>Summary!B$9),12.5 - 12.5 * (U14 - Summary!B$9) / (Summary!B$3 - Summary!B$9),0) -> 0 | BN14: =IF(AND(V14>0,V14>Summary!C$9),12.5 - 12.5 * (V14 - Summary!C$9) / (Summary!C$3 - Summary!C$9),0) -> 0 | BO14: =IF(AND(W14>0,W14>Summary!D$9),12.5 - 12.5 * (W14 - Summary!D$9) / (Summary!D$3 - Summary!D$9),0) -> 0 | BP14: =IF(AND(X14>0,X14>Summary!E$9),12.5 - 12.5 * (X14 - Summary!E$9) / (Summary!E$3 - Summary!E$9),0) -> 12.360939 | BQ14: =IF(AND(Y14>0,Y14>Summary!F$9),12.5 - 12.5 * (Y14 - Summary!F$9) / (Summary!F$3 - Summary!F$9),0) -> 0 | BR14: =IF(AND(Z14>0,Z14>Summary!G$9),12.5 - 12.5 * (Z14 - Summary!G$9) / (Summary!G$3 - Summary!G$9),0) -> 0 | BS14: =IF(AND(AA14>0,AA14>Summary!H$9),12.5 - 12.5 * (AA14 - Summary!H$9) / (Summary!H$3 - Summary!H$9),0) -> 0 | BT14: =IF(AND(AB14>0,AB14>Summary!I$9),12.5 - 12.5 * (AB14 - Summary!I$9) / (Summary!I$3 - Summary!I$9),0) -> 0 | ... BV14: =IF(AND(AD14>0,AD14>Summary!K$9),12.5 - 12.5 * (AD14 - Summary!K$9) / (Summary!K$3 - Summary!K$9),0) -> 10.127737 | BX14: =J14/60 -> 18.233333 | BY14: =K14/60 -> 12.983333 | BZ14: =L14/60 -> 22.916667 | CA14: =M14/60 -> 48.333333 | CB14: =N14/60 -> 42.533333 | CC14: =O14/60 -> 33.35 | CD14: =P14/60 -> 60.5 | CE14: =Q14/60 -> 43.466667 | ... CG14: =S14/60 -> 82.6 | CI14: =AQ14+BB14+BM14 -> 33.310193 | CJ14: =AR14+BC14+BN14 -> 45.977261 | CK14: =AS14+BD14+BO14 -> 42.896745 | CL14: =AT14+BE14+BP14 -> 24.610939 | CM14: =AU14+BF14+BQ14 -> 39.009401 | CN14: =AV14+BG14+BR14 -> 38.027246 | CO14: =AW14+BH14+BS14 -> 32.547556 | CP14: =AX14+BI14+BT14 -> 44.554348 | ... CR14: =AZ14+BK14+BV14 -> 32.877737 | CT14: =MIN(CI14:CR14) -> 24.610939 | CU14: =SMALL(CI14:CR14,2) -> 32.547556 | CV14: =SUM(CI14:CR14)-CT14-CU14 -> 314.886 | CW14: =50*MIN(8,COUNTIF(J14:S14,">0")) -> 400 | CX14: =CW14+CV14 -> 714.886 | CZ14: =G14 -> 661.09571 | DA14: =A14 -> 10
A15: 11 | B15: martin | C15: Martin Merker | D15: Germany | E15: 257.50835 | F15: 8/10/10 | G15: 657.50835 | H15: 26154 | J15: 1034 | K15: 938 | L15: 1169 | M15: 2281 | N15: 2751 | O15: 1815 | P15: 2893 | Q15: 3463 | R15: 4739 | S15: 5071 | U15: =IF(J15<=Summary!B$3,J15,0) -> 1034 | V15: =IF(K15<=Summary!C$3,K15,0) -> 938 | W15: =IF(L15<=Summary!D$3,L15,0) -> 1169 | X15: =IF(M15<=Summary!E$3,M15,0) -> 2281 | Y15: =IF(N15<=Summary!F$3,N15,0) -> 2751 | Z15: =IF(O15<=Summary!G$3,O15,0) -> 1815 | AA15: =IF(P15<=Summary!H$3,P15,0) -> 2893 | AB15: =IF(Q15<=Summary!I$3,Q15,0) -> 3463 | ... AD15: =IF(S15<=Summary!K$3,S15,0) -> 5071 | AF15: =IF(J15>0,RANK(J15,J:J,1),0) -> 39 | AG15: =IF(K15>0,RANK(K15,K:K,1),0) -> 27 | AH15: =IF(L15>0,RANK(L15,L:L,1),0) -> 4 | AI15: =IF(M15>0,RANK(M15,M:M,1),0) -> 32 | AJ15: =IF(N15>0,RANK(N15,N:N,1),0) -> 20 | AK15: =IF(O15>0,RANK(O15,O:O,1),0) -> 18 | AL15: =IF(P15>0,RANK(P15,P:P,1),0) -> 8 | AM15: =IF(Q15>0,RANK(Q15,Q:Q,1),0) -> 30 | AN15: =IF(R15>0,RANK(R15,R:R,1),0) -> 42 | AO15: =IF(S15>0,RANK(S15,S:S,1),0) -> 13 | AQ15: =IF(AND(AF15<=Summary!B$6,AF15>0),25*(Summary!B$6+1-AF15)/Summary!B$6,0) -> 15.5 | AR15: =IF(AND(AG15<=Summary!C$6,AG15>0),25*(Summary!C$6+1-AG15)/Summary!C$6,0) -> 18.5 | AS15: =IF(AND(AH15<=Summary!D$6,AH15>0),25*(Summary!D$6+1-AH15)/Summary!D$6,0) -> 24.25 | AT15: =IF(AND(AI15<=Summary!E$6,AI15>0),25*(Summary!E$6+1-AI15)/Summary!E$6,0) -> 17.25 | AU15: =IF(AND(AJ15<=Summary!F$6,AJ15>0),25*(Summary!F$6+1-AJ15)/Summary!F$6,0) -> 20.25 | AV15: =IF(AND(AK15<=Summary!G$6,AK15>0),25*(Summary!G$6+1-AK15)/Summary!G$6,0) -> 20.75 | AW15: =IF(AND(AL15<=Summary!H$6,AL15>0),25*(Summary!H$6+1-AL15)/Summary!H$6,0) -> 23.25 | AX15: =IF(AND(AM15<=Summary!I$6,AM15>0),25*(Summary!I$6+1-AM15)/Summary!I$6,0) -> 17.75 | ... AZ15: =IF(AND(AO15<=Summary!K$6,AO15>0),25*(Summary!K$6+1-AO15)/Summary!K$6,0) -> 22 | BB15: =IF(AND(U15>0,U15<=Summary!B$9),12.5 + 12.5 * (U15 - Summary!B$9) / (Summary!B$7 - Summary!B$9),0) -> 19.412119 | BC15: =IF(AND(V15>0,V15<=Summary!C$9),12.5 + 12.5 * (V15 - Summary!C$9) / (Summary!C$7 - Summary!C$9),0) -> 20.875198 | BD15: =IF(AND(W15>0,W15<=Summary!D$9),12.5 + 12.5 * (W15 - Summary!D$9) / (Summary!D$7 - Summary!D$9),0) -> 22.143099 | BE15: =IF(AND(X15>0,X15<=Summary!E$9),12.5 + 12.5 * (X15 - Summary!E$9) / (Summary!E$7 - Summary!E$9),0) -> 16.519529 | BF15: =IF(AND(Y15>0,Y15<=Summary!F$9),12.5 + 12.5 * (Y15 - Summary!F$9) / (Summary!F$7 - Summary!F$9),0) -> 14.850345 | BG15: =IF(AND(Z15>0,Z15<=Summary!G$9),12.5 + 12.5 * (Z15 - Summary!G$9) / (Summary!G$7 - Summary!G$9),0) -> 19.896907 | BH15: =IF(AND(AA15>0,AA15<=Summary!H$9),12.5 + 12.5 * (AA15 - Summary!H$9) / (Summary!H$7 - Summary!H$9),0) -> 17.939713 | BI15: =IF(AND(AB15>0,AB15<=Summary!I$9),12.5 + 12.5 * (AB15 - Summary!I$9) / (Summary!I$7 - Summary!I$9),0) -> 14.155518 | ... BK15: =IF(AND(AD15>0,AD15<=Summary!K$9),12.5 + 12.5 * (AD15 - Summary!K$9) / (Summary!K$7 - Summary!K$9),0) -> 0 | BM15: =IF(AND(U15>0,U15>Summary!B$9),12.5 - 12.5 * (U15 - Summary!B$9) / (Summary!B$3 - Summary!B$9),0) -> 0 | BN15: =IF(AND(V15>0,V15>Summary!C$9),12.5 - 12.5 * (V15 - Summary!C$9) / (Summary!C$3 - Summary!C$9),0) -> 0 | BO15: =IF(AND(W15>0,W15>Summary!D$9),12.5 - 12.5 * (W15 - Summary!D$9) / (Summary!D$3 - Summary!D$9),0) -> 0 | BP15: =IF(AND(X15>0,X15>Summary!E$9),12.5 - 12.5 * (X15 - Summary!E$9) / (Summary!E$3 - Summary!E$9),0) -> 0 | BQ15: =IF(AND(Y15>0,Y15>Summary!F$9),12.5 - 12.5 * (Y15 - Summary!F$9) / (Summary!F$3 - Summary!F$9),0) -> 0 | BR15: =IF(AND(Z15>0,Z15>Summary!G$9),12.5 - 12.5 * (Z15 - Summary!G$9) / (Summary!G$3 - Summary!G$9),0) -> 0 | BS15: =IF(AND(AA15>0,AA15>Summary!H$9),12.5 - 12.5 * (AA15 - Summary!H$9) / (Summary!H$3 - Summary!H$9),0) -> 0 | BT15: =IF(AND(AB15>0,AB15>Summary!I$9),12.5 - 12.5 * (AB15 - Summary!I$9) / (Summary!I$3 - Summary!I$9),0) -> 0 | ... BV15: =IF(AND(AD15>0,AD15>Summary!K$9),12.5 - 12.5 * (AD15 - Summary!K$9) / (Summary!K$3 - Summary!K$9),0) -> 7.504562 | BX15: =J15/60 -> 17.233333 | BY15: =K15/60 -> 15.633333 | BZ15: =L15/60 -> 19.483333 | CA15: =M15/60 -> 38.016667 | CB15: =N15/60 -> 45.85 | CC15: =O15/60 -> 30.25 | CD15: =P15/60 -> 48.216667 | CE15: =Q15/60 -> 57.716667 | ... CG15: =S15/60 -> 84.516667 | CI15: =AQ15+BB15+BM15 -> 34.912119 | CJ15: =AR15+BC15+BN15 -> 39.375198 | CK15: =AS15+BD15+BO15 -> 46.393099 | CL15: =AT15+BE15+BP15 -> 33.769529 | CM15: =AU15+BF15+BQ15 -> 35.100345 | CN15: =AV15+BG15+BR15 -> 40.646907 | CO15: =AW15+BH15+BS15 -> 41.189713 | CP15: =AX15+BI15+BT15 -> 31.905518 | ... CR15: =AZ15+BK15+BV15 -> 29.504562 | CT15: =MIN(CI15:CR15) -> 21.018968 | CU15: =SMALL(CI15:CR15,2) -> 29.504562 | CV15: =SUM(CI15:CR15)-CT15-CU15 -> 303.29243 | CW15: =50*MIN(8,COUNTIF(J15:S15,">0")) -> 400 | CX15: =CW15+CV15 -> 703.29243 | CZ15: =G15 -> 657.50835 | DA15: =A15 -> 11
