Workbook

Sheet Round1
A1: Name | B1: Row Classic1 45 | C1: Row Classic2 60 | D1: Row Classic3 75 | E1: Bonus 20 | F1: Column Classic1 30 | G1: Column Classic2 40 | H1: Column Classic3 60 | I1: Bonus 20. | J1: Total 350 | K1: Time Bonus | L1: Grand Total
A2: Rohan Rao | B2: 45 | C2: 60 | D2: 75 | E2: 20 | F2: 30 | G2: 40 | H2: 60 | I2: 20 | J2: =SUM(B2:I2) -> 350 | K2: 75 | L2: =SUM(J2:K2) -> 425
A3: Rishi Puri | B3: 45 | C3: 60 | D3: 75 | E3: 20 | F3: 30 | G3: 40 | H3: 60 | I3: 20 | J3: =SUM(B3:I3) -> 350 | K3: 70 | L3: =SUM(J3:K3) -> 420
A4: Ritesh Gupta | B4: 45 | C4: 60 | D4: 75 | E4: 20 | F4: 30 | G4: 40 | H4: 60 | I4: 20 | J4: =SUM(B4:I4) -> 350 | K4: 45 | L4: =SUM(J4:K4) -> 395
A5: Rakesh Rai | B5: 45 | C5: 60 | D5: 75 | E5: 20 | F5: 30 | G5: 40 | H5: 60 | I5: 20 | J5: =SUM(B5:I5) -> 350 | K5: 45 | L5: =SUM(J5:K5) -> 395
A6: ASHA S | B6: 45 | C6: 60 | D6: 75 | E6: 20 | F6: 30 | G6: 40 | H6: 60 | I6: 20 | J6: =SUM(B6:I6) -> 350 | K6: 40 | L6: =SUM(J6:K6) -> 390
A7: Sumit Bothra | B7: 45 | C7: 60 | D7: 75 | E7: 20 | F7: 30 | G7: 40 | H7: 60 | I7: 20 | J7: =SUM(B7:I7) -> 350 | K7: 35 | L7: =SUM(J7:K7) -> 385
A8: Raman Garimella | B8: 45 | C8: 60 | D8: 75 | E8: 20 | F8: 30 | G8: 40 | H8: 60 | I8: 20 | J8: =SUM(B8:I8) -> 350 | K8: 30 | L8: =SUM(J8:K8) -> 380
A9: JAIPAL REDDY MOGILIGUNDLA | B9: 45 | C9: 60 | D9: 75 | E9: 20 | F9: 30 | G9: 40 | H9: 60 | I9: 20 | J9: =SUM(B9:I9) -> 350 | K9: 20 | L9: =SUM(J9:K9) -> 370
A10: Puneet Goenka | B10: 45 | C10: 60 | D10: 75 | E10: 20 | F10: 30 | G10: 40 | H10: 60 | I10: 20 | J10: =SUM(B10:I10) -> 350 | K10: 15 | L10: =SUM(J10:K10) -> 365
A11: Shilo Stephen | B11: 45 | C11: 60 | D11: 75 | E11: 20 | F11: 30 | G11: 40 | H11: 60 | I11: 20 | J11: =SUM(B11:I11) -> 350 | K11: 5 | L11: =SUM(J11:K11) -> 355
A12: Nidhi Sarawagi | B12: 45 | C12: 60 | D12: 75 | E12: 20 | F12: 30 | G12: 40 | H12: 60 | I12: 20 | J12: =SUM(B12:I12) -> 350 | K12: 5 | L12: =SUM(J12:K12) -> 355
A13: Aditya Saraf | B13: 45 | C13: 60 | D13: 75 | E13: 20 | G13: 40 | H13: 60 | J13: =SUM(B13:I13) -> 300 | L13: =SUM(J13:K13) -> 300
A14: Jaykumar Patel | B14: 45 | C14: 60 | D14: 75 | E14: 20 | F14: 0 | G14: 40 | H14: 60 | I14: 0 | J14: =SUM(B14:I14) -> 300 | K14: 0 | L14: =SUM(J14:K14) -> 300
A15: Himani Shah | B15: 45 | C15: 60 | D15: 75 | E15: 20 | F15: 30 | G15: 0 | H15: 60 | I15: 0 | J15: =SUM(B15:I15) -> 290 | K15: 0 | L15: =SUM(J15:K15) -> 290
A16: Gaurav Korde | B16: 45 | D16: 75 | F16: 30 | G16: 40 | H16: 60 | I16: 20 | J16: =SUM(B16:I16) -> 270 | L16: =SUM(J16:K16) -> 270
A17: Tejal Phatak | B17: 45 | C17: 60 | D17: 75 | E17: 20 | F17: 30 | G17: 40 | J17: =SUM(B17:I17) -> 270 | L17: =SUM(J17:K17) -> 270
A18: Utkaarsh Somaiya | B18: 45 | C18: 60 | D18: 0 | E18: 0 | F18: 30 | G18: 40 | H18: 60 | I18: 20 | J18: =SUM(B18:I18) -> 255 | K18: 0 | L18: =SUM(J18:K18) -> 255
A19: akash doulani | B19: 45 | C19: 60 | D19: 0 | E19: 0 | F19: 30 | G19: 40 | H19: 60 | I19: 20 | J19: =SUM(B19:I19) -> 255 | K19: 0 | L19: =SUM(J19:K19) -> 255
A20: Jayant Ameta | B20: 45 | C20: 60 | D20: 75 | E20: 20 | F20: 30 | J20: =SUM(B20:I20) -> 230 | L20: =SUM(J20:K20) -> 230
A21: Neeraj Mehrotra | B21: 45 | C21: 0 | D21: 75 | E21: 0 | F21: 30 | G21: 0 | H21: 60 | I21: 0 | J21: =SUM(B21:I21) -> 210 | L21: =SUM(J21:K21) -> 210
A22: POOJA GADDHYAN | B22: 45 | C22: 60 | D22: 75 | E22: 20 | F22: 0 | G22: 0 | H22: 0 | I22: 0 | J22: =SUM(B22:I22) -> 200 | K22: 0 | L22: =SUM(J22:K22) -> 200
A23: Gnyanendra Kumar | B23: 45 | C23: 60 | D23: 75 | E23: 20 | J23: =SUM(B23:I23) -> 200 | L23: =SUM(J23:K23) -> 200
A24: Akash Patil | B24: 45 | C24: 60 | D24: 75 | E24: 20 | J24: =SUM(B24:I24) -> 200 | L24: =SUM(J24:K24) -> 200
A25: Shivin Garg | B25: 45 | C25: 60 | D25: 75 | E25: 20 | F25: 0 | J25: =SUM(B25:I25) -> 200 | L25: =SUM(J25:K25) -> 200
A26: Chirag Sethi | B26: 45 | C26: 60 | D26: 75 | E26: 20 | F26: 0 | G26: 0 | H26: 0 | I26: 0 | J26: =SUM(B26:I26) -> 200 | K26: 0 | L26: =SUM(J26:K26) -> 200
A27: ABHISHEK GOENKA | B27: 45 | C27: 60 | F27: 30 | J27: =SUM(B27:I27) -> 135 | L27: =SUM(J27:K27) -> 135
A28: RAKHEL PARIDA | B28: 45 | D28: 75 | J28: =SUM(B28:I28) -> 120 | L28: =SUM(J28:K28) -> 120
A29: Anvit Tawar | B29: 45 | C29: 75 | J29: =SUM(B29:I29) -> 120 | L29: =SUM(J29:K29) -> 120
A30: Bikash Kedia | B30: 45 | C30: 60 | J30: =SUM(B30:I30) -> 105 | L30: =SUM(J30:K30) -> 105
A31: Hemala Ranade | B31: 45 | C31: 60 | J31: =SUM(B31:I31) -> 105 | L31: =SUM(J31:K31) -> 105
A32: Swarna R | B32: 45 | C32: 60 | J32: =SUM(B32:I32) -> 105 | L32: =SUM(J32:K32) -> 105
A33: Mudit Malpani | B33: 45 | C33: 60 | J33: =SUM(B33:I33) -> 105 | L33: =SUM(J33:K33) -> 105
A34: Ashwini B.C | F34: 30 | H34: 60 | J34: =SUM(B34:I34) -> 90 | L34: =SUM(J34:K34) -> 90
A35: Abhimanyu Gaonkar | F35: 30 | H35: 60 | J35: =SUM(B35:I35) -> 90 | L35: =SUM(J35:K35) -> 90
A36: Eklavya Girotra | H36: 60 | J36: =SUM(B36:I36) -> 60 | L36: =SUM(J36:K36) -> 60
A37: Sudesh Agrawal | B37: 0 | C37: 60 | D37: 0 | E37: 0 | F37: 0 | G37: 0 | H37: 0 | I37: 0 | J37: =SUM(B37:I37) -> 60 | K37: 0 | L37: =SUM(J37:K37) -> 60
A38: Deepika Thakkar | B38: 45 | J38: =SUM(B38:I38) -> 45 | L38: =SUM(J38:K38) -> 45
A39: Sachin Pant | B39: 0 | C39: 0 | D39: 0 | E39: 0 | F39: 30 | G39: 0 | H39: 0 | I39: 0 | J39: =SUM(B39:I39) -> 30 | K39: 0 | L39: =SUM(J39:K39) -> 30
A40: Pratik Poddar | B40: 0 | J40: =SUM(B40:I40) -> 0 | L40: =SUM(J40:K40) -> 0
...

Sheet Round2
A1: Name | B1: # Boxes (X5) | C1: Odd 30 | D1: Diagonal 45 | E1: Irregular 55 | F1: ER 65 | G1: Classic 50 | H1: Total 450 | I1: Time Bonus | J1: Grand Total
A2: Rishi Puri | B2: 41 | C2: 30 | D2: 45 | E2: 55 | F2: 65 | G2: 50 | H2: =SUM(C2:G2)+5*B2 -> 450 | I2: 5 | J2: =SUM(H2:I2) -> 455
A3: Rohan Rao | B3: 27 | D3: 45 | E3: 55 | H3: =SUM(C3:G3)+5*B3 -> 235 | J3: =SUM(H3:I3) -> 235
A4: RAKHEL PARIDA | B4: 22 | C4: 30 | D4: 45 | H4: =SUM(C4:G4)+5*B4 -> 185 | J4: =SUM(H4:I4) -> 185
A5: JAIPAL REDDY MOGILIGUNDLA | B5: 20 | C5: 30 | D5: 45 | H5: =SUM(C5:G5)+5*B5 -> 175 | J5: =SUM(H5:I5) -> 175
A6: Gaurav Korde | B6: 19 | C6: 30 | D6: 45 | H6: =SUM(C6:G6)+5*B6 -> 170 | J6: =SUM(H6:I6) -> 170
A7: Tejal Phatak | B7: 19 | C7: 30 | D7: 45 | H7: =SUM(C7:G7)+5*B7 -> 170 | J7: =SUM(H7:I7) -> 170
A8: Rakesh Rai | B8: 18 | C8: 30 | D8: 45 | H8: =SUM(C8:G8)+5*B8 -> 165 | J8: =SUM(H8:I8) -> 165
A9: ASHA S | B9: 18 | C9: 30 | D9: 45 | H9: =SUM(C9:G9)+5*B9 -> 165 | J9: =SUM(H9:I9) -> 165
A10: Raman Garimella | B10: 18 | C10: 30 | D10: 45 | H10: =SUM(C10:G10)+5*B10 -> 165 | J10: =SUM(H10:I10) -> 165
A11: Nidhi Sarawagi | B11: 18 | C11: 30 | D11: 45 | H11: =SUM(C11:G11)+5*B11 -> 165 | J11: =SUM(H11:I11) -> 165
A12: Himani Shah | B12: 18 | C12: 30 | D12: 45 | H12: =SUM(C12:G12)+5*B12 -> 165 | J12: =SUM(H12:I12) -> 165
A13: akash doulani | B13: 18 | C13: 30 | D13: 45 | H13: =SUM(C13:G13)+5*B13 -> 165 | J13: =SUM(H13:I13) -> 165
A14: Shilo Stephen | B14: 15 | D14: 45 | H14: =SUM(C14:G14)+5*B14 -> 120 | J14: =SUM(H14:I14) -> 120
A15: Jaykumar Patel | B15: 14 | D15: 45 | H15: =SUM(C15:G15)+5*B15 -> 115 | J15: =SUM(H15:I15) -> 115
A16: shaheer rahman | B16: 14 | D16: 45 | H16: =SUM(C16:G16)+5*B16 -> 115 | J16: =SUM(H16:I16) -> 115
A17: Hemala Ranade | B17: 13 | D17: 45 | H17: =SUM(C17:G17)+5*B17 -> 110 | J17: =SUM(H17:I17) -> 110
A18: Aditya Saraf | B18: 11 | C18: 30 | H18: =SUM(C18:G18)+5*B18 -> 85 | J18: =SUM(H18:I18) -> 85
A19: Utkaarsh Somaiya | B19: 16 | H19: =SUM(C19:G19)+5*B19 -> 80 | J19: =SUM(H19:I19) -> 80
A20: Akash Patil | B20: 10 | C20: 30 | H20: =SUM(C20:G20)+5*B20 -> 80 | J20: =SUM(H20:I20) -> 80
A21: Deepika Thakkar | B21: 16 | H21: =SUM(C21:G21)+5*B21 -> 80 | J21: =SUM(H21:I21) -> 80
A22: Neeraj Mehrotra | B22: 10 | C22: 30 | H22: =SUM(C22:G22)+5*B22 -> 80 | J22: =SUM(H22:I22) -> 80
A23: ABHISHEK GOENKA | B23: 9 | C23: 30 | H23: =SUM(C23:G23)+5*B23 -> 75 | J23: =SUM(H23:I23) -> 75
A24: Abhimanyu Gaonkar | B24: 9 | C24: 30 | H24: =SUM(C24:G24)+5*B24 -> 75 | J24: =SUM(H24:I24) -> 75
A25: Sumit Bothra | B25: 14 | H25: =SUM(C25:G25)+5*B25 -> 70 | J25: =SUM(H25:I25) -> 70
A26: Ritesh Gupta | B26: 13 | H26: =SUM(C26:G26)+5*B26 -> 65 | J26: =SUM(H26:I26) -> 65
A27: POOJA GADDHYAN | B27: 10 | H27: =SUM(C27:G27)+5*B27 -> 50 | J27: =SUM(H27:I27) -> 50
A28: Gnyanendra Kumar | B28: 8 | H28: =SUM(C28:G28)+5*B28 -> 40 | J28: =SUM(H28:I28) -> 40
A29: Piyush Surana | B29: 8 | H29: =SUM(C29:G29)+5*B29 -> 40 | J29: =SUM(H29:I29) -> 40
A30: Mudit Malpani | B30: 7 | H30: =SUM(C30:G30)+5*B30 -> 35 | J30: =SUM(H30:I30) -> 35
A31: Eklavya Girotra | B31: 7 | H31: =SUM(C31:G31)+5*B31 -> 35 | J31: =SUM(H31:I31) -> 35
A32: Vishwas Khairnar | B32: 7 | H32: =SUM(C32:G32)+5*B32 -> 35 | J32: =SUM(H32:I32) -> 35
A33: Chirag Sethi | B33: 6 | H33: =SUM(C33:G33)+5*B33 -> 30 | J33: =SUM(H33:I33) -> 30
A34: Sudesh Agrawal | B34: 6 | H34: =SUM(C34:G34)+5*B34 -> 30 | J34: =SUM(H34:I34) -> 30
A35: Puneet Goenka | B35: 5 | H35: =SUM(C35:G35)+5*B35 -> 25 | J35: =SUM(H35:I35) -> 25
A36: Rajkumar Gupta | B36: 5 | H36: =SUM(C36:G36)+5*B36 -> 25 | J36: =SUM(H36:I36) -> 25
... A56: Santosh Ananthkrishnan | B56: 0 | H56: =SUM(C56:G56)+5*B56 -> 0 | J56: =SUM(H56:I56) -> 0

Sheet Round3
A1: Name | B1: Roman 70 | C1: Extra Region 70 | D1: Fortress 90 | E1: Distance 100 | F1: Pali ndrome 100 | G1: Inequ ality 120 | H1: Total
A2: Rohan Rao | B2: 70 | C2: 70 | D2: 90 | E2: 0 | F2: 0 | G2: 120 | H2: =SUM(B2:G2) -> 350
A3: Rakesh Rai | E3: 100 | F3: 100 | G3: 120 | H3: =SUM(B3:G3) -> 320
A4: Rishi Puri | B4: 70 | F4: 100 | G4: 120 | H4: =SUM(B4:G4) -> 290
A5: Himani Shah | B5: 70 | C5: 70 | D5: 90 | H5: =SUM(B5:G5) -> 230
A6: Ritesh Gupta | D6: 90 | E6: 100 | H6: =SUM(B6:G6) -> 190
A7: Aditya Saraf | B7: 70 | E7: 100 | H7: =SUM(B7:G7) -> 170
A8: Nidhi Sarawagi | C8: 70 | E8: 100 | H8: =SUM(B8:G8) -> 170
A9: akash doulani | B9: 70 | D9: 90 | H9: =SUM(B9:G9) -> 160
A10: JAIPAL REDDY MOGILIGUNDLA | B10: 70 | C10: 70 | H10: =SUM(B10:G10) -> 140
A11: Neeraj Mehrotra | B11: 70 | C11: 70 | H11: =SUM(B11:G11) -> 140
A12: Raman Garimella | B12: 70 | C12: 70 | H12: =SUM(B12:G12) -> 140
A13: Anvit Tawar | F13: 100 | H13: =SUM(B13:G13) -> 100
A14: Gnyanendra Kumar | F14: 100 | H14: =SUM(B14:G14) -> 100
A15: Piyush Surana | F15: 100 | H15: =SUM(B15:G15) -> 100
A16: POOJA GADDHYAN | E16: 100 | H16: =SUM(B16:G16) -> 100
A17: Shilo Stephen | E17: 100 | H17: =SUM(B17:G17) -> 100
A18: Sumit Bothra | E18: 100 | H18: =SUM(B18:G18) -> 100
A19: ASHA S | D19: 90 | H19: =SUM(B19:G19) -> 90
A20: Eklavya Girotra | D20: 90 | H20: =SUM(B20:G20) -> 90
A21: Gaurav Korde | D21: 90 | H21: =SUM(B21:G21) -> 90
A22: Shivin Garg | D22: 90 | H22: =SUM(B22:G22) -> 90
A23: ABHISHEK GOENKA | B23: 70 | H23: =SUM(B23:G23) -> 70
A24: Akash Patil | B24: 70 | H24: =SUM(B24:G24) -> 70
A25: Ashwini B.C | B25: 70 | H25: =SUM(B25:G25) -> 70
A26: Hemala Ranade | B26: 70 | H26: =SUM(B26:G26) -> 70
A27: Jayant Ameta | B27: 70 | H27: =SUM(B27:G27) -> 70
A28: Jaykumar Patel | B28: 70 | H28: =SUM(B28:G28) -> 70
A29: Mudit Malpani | C29: 70 | H29: =SUM(B29:G29) -> 70
A30: Puneet Goenka | C30: 70 | H30: =SUM(B30:G30) -> 70
A31: Rajesh Baniya | C31: 70 | H31: =SUM(B31:G31) -> 70
A32: Tejal Phatak | B32: 70 | H32: =SUM(B32:G32) -> 70
A33: Utkaarsh Somaiya | C33: 70 | H33: =SUM(B33:G33) -> 70
A34: Vishwas Khairnar | B34: 70 | H34: =SUM(B34:G34) -> 70
A35: Abhimanyu Gaonkar | B35: 0 | H35: =SUM(B35:G35) -> 0
A36: Ankit Dimania | H36: =SUM(B36:G36) -> 0
A37: Ashish Shelke | H37: =SUM(B37:G37) -> 0
A38: Bhavik Kothari | H38: =SUM(B38:G38) -> 0
A39: Bikash Kedia | B39: 0 | H39: =SUM(B39:G39) -> 0
A40: Chirag Sethi | B40: 0 | H40: =SUM(B40:G40) -> 0
...

Sheet Round4
A1: Name | B1: Tiles 150 | C1: Solution 50 | D1: Total 200 | E1: Time Bonus | F1: Grand Total
A2: Rohan Rao | B2: 150 | C2: 50 | D2: =SUM(B2:C2) -> 200 | E2: 25 | F2: =D2+E2 -> 225
A3: Puneet Goenka | B3: 150 | C3: 50 | D3: =SUM(B3:C3) -> 200 | E3: 20 | F3: =D3+E3 -> 220
A4: Gaurav Korde | B4: 150 | C4: 50 | D4: =SUM(B4:C4) -> 200 | F4: =D4+E4 -> 200
A5: Anvit Tawar | B5: 150 | D5: =SUM(B5:C5) -> 150 | F5: =D5+E5 -> 150
A6: Rakesh Rai | B6: 150 | D6: =SUM(B6:C6) -> 150 | F6: =D6+E6 -> 150
A7: Shivin Garg | B7: 150 | D7: =SUM(B7:C7) -> 150 | F7: =D7+E7 -> 150
A8: ASHA S | B8: 120 | D8: =SUM(B8:C8) -> 120 | F8: =D8+E8 -> 120
A9: Poojan shah | B9: 120 | D9: =SUM(B9:C9) -> 120 | F9: =D9+E9 -> 120
A10: RAKHEL PARIDA | B10: 120 | D10: =SUM(B10:C10) -> 120 | F10: =D10+E10 -> 120
A11: Sumit Bothra | B11: 120 | D11: =SUM(B11:C11) -> 120 | F11: =D11+E11 -> 120
A12: Chirag Sethi | B12: 90 | D12: =SUM(B12:C12) -> 90 | F12: =D12+E12 -> 90
A13: Dhiraj Kumar | B13: 90 | D13: =SUM(B13:C13) -> 90 | F13: =D13+E13 -> 90
A14: Himani Shah | B14: 90 | D14: =SUM(B14:C14) -> 90 | F14: =D14+E14 -> 90
A15: JAIPAL REDDY MOGILIGUNDLA | B15: 90 | D15: =SUM(B15:C15) -> 90 | F15: =D15+E15 -> 90
A16: Mudit Malpani | B16: 90 | D16: =SUM(B16:C16) -> 90 | F16: =D16+E16 -> 90
... A41: ABHISHEK GOENKA | B41: 0 | D41: =SUM(B41:C41) -> 0 | F41: =D41+E41 -> 0
A42: Ankit Dimania | D42: =SUM(B42:C42) -> 0 | F42: =D42+E42 -> 0
A43: Ashish Shelke | D43: =SUM(B43:C43) -> 0 | F43: =D43+E43 -> 0
A44: Ashwini B.C | B44: 0 | D44: =SUM(B44:C44) -> 0 | F44: =D44+E44 -> 0
A45: Bhavik Kothari | D45: =SUM(B45:C45) -> 0 | F45: =D45+E45 -> 0
A46: Eklavya Girotra | D46: =SUM(B46:C46) -> 0 | F46: =D46+E46 -> 0
A47: kamlendra chauhan | D47: =SUM(B47:C47) -> 0 | F47: =D47+E47 -> 0
A48: Piyush Surana | D48: =SUM(B48:C48) -> 0 | F48: =D48+E48 -> 0
A49: Pratik Poddar | D49: =SUM(B49:C49) -> 0 | F49: =D49+E49 -> 0
A50: Prerak Chitnis | B50: 0 | D50: =SUM(B50:C50) -> 0 | F50: =D50+E50 -> 0
A51: Rajesh Baniya | D51: =SUM(B51:C51) -> 0 | F51: =D51+E51 -> 0
A52: Raman Garimella | B52: 0 | D52: =SUM(B52:C52) -> 0 | F52: =D52+E52 -> 0
A53: Santosh Ananthkrishnan | D53: =SUM(B53:C53) -> 0 | F53: =D53+E53 -> 0
A54: Sonal Patil | B54: 0 | D54: =SUM(B54:C54) -> 0 | F54: =D54+E54 -> 0
A55: Vaibhav Tamrakar | D55: =SUM(B55:C55) -> 0 | F55: =D55+E55 -> 0
A56: Vishwas Khairnar | B56: 0 | D56: =SUM(B56:C56) -> 0 | F56: =D56+E56 -> 0

Sheet AllRounds
A1: Name | B1: Linked Classics | C1: Samurai | D1: Mixed Bag | E1: Mecha nical | F1: Total | G1: Time Disadvantge | H1: Rank Before Semi | I1: Rank After Semi | J1: Rank After Final
A2: Rohan Rao | B2: =VLOOKUP(A2,Round1!$A$2:$L$56,12,FALSE) -> 425 | C2: =VLOOKUP(A2,Round2!$A$2:$J$56,10,FALSE) -> 235 | D2: =VLOOKUP(A2,Round3!$A$2:$H$57,8,FALSE) -> 350 | E2: =VLOOKUP(A2,Round4!$A$2:$J$57,6,FALSE) -> 225 | F2: =SUM(B2:E2) -> 1235 | G2: 0 | H2: 1 | I2: 2 | J2: 1
A3: Rishi Puri | B3: =VLOOKUP(A3,Round1!$A$2:$L$56,12,FALSE) -> 420 | C3: =VLOOKUP(A3,Round2!$A$2:$J$56,10,FALSE) -> 455 | D3: =VLOOKUP(A3,Round3!$A$3:$H$57,8,FALSE) -> 290 | E3: =VLOOKUP(A3,Round4!$A$3:$J$57,6,FALSE) -> 20 | F3: =SUM(B3:E3) -> 1185 | G3: 17 | H3: 2 | I3: 1 | J3: 2
A4: Gaurav Korde | B4: =VLOOKUP(A4,Round1!$A$2:$L$56,12,FALSE) -> 270 | C4: =VLOOKUP(A4,Round2!$A$2:$J$56,10,FALSE) -> 170 | D4: =VLOOKUP(A4,Round3!$A$3:$H$57,8,FALSE) -> 90 | E4: =VLOOKUP(A4,Round4!$A$3:$J$57,6,FALSE) -> 200 | F4: =SUM(B4:E4) -> 730 | G4: 177 | H4: 7 | I4: 3 | J4: 3
A5: Ritesh Gupta | B5: =VLOOKUP(A5,Round1!$A$2:$L$56,12,FALSE) -> 395 | C5: =VLOOKUP(A5,Round2!$A$2:$J$56,10,FALSE) -> 65 | D5: =VLOOKUP(A5,Round3!$A$3:$H$57,8,FALSE) -> 190 | E5: =VLOOKUP(A5,Round4!$A$3:$J$57,6,FALSE) -> 70 | F5: =SUM(B5:E5) -> 720 | G5: 180 | H5: 8 | I5: 4 | J5: 4
A6: ASHA S | B6: =VLOOKUP(A6,Round1!$A$2:$L$56,12,FALSE) -> 390 | C6: =VLOOKUP(A6,Round2!$A$2:$J$56,10,FALSE) -> 165 | D6: =VLOOKUP(A6,Round3!$A$3:$H$57,8,FALSE) -> 90 | E6: =VLOOKUP(A6,Round4!$A$3:$J$57,6,FALSE) -> 120 | F6: =SUM(B6:E6) -> 765 | G6: 164 | H6: 6 | I6: 5
A7: Rakesh Rai | B7: =VLOOKUP(A7,Round1!$A$2:$L$56,12,FALSE) -> 395 | C7: =VLOOKUP(A7,Round2!$A$2:$J$56,10,FALSE) -> 165 | D7: =VLOOKUP(A7,Round3!$A$3:$H$57,8,FALSE) -> 320 | E7: =VLOOKUP(A7,Round4!$A$3:$J$57,6,FALSE) -> 150 | F7: =SUM(B7:E7) -> 1030 | G7: 72 | H7: 3 | I7: 6
A8: JAIPAL REDDY MOGILIGUNDLA | B8: =VLOOKUP(A8,Round1!$A$2:$L$56,12,FALSE) -> 370 | C8: =VLOOKUP(A8,Round2!$A$2:$J$56,10,FALSE) -> 175 | D8: =VLOOKUP(A8,Round3!$A$3:$H$57,8,FALSE) -> 140 | E8: =VLOOKUP(A8,Round4!$A$3:$J$57,6,FALSE) -> 90 | F8: =SUM(B8:E8) -> 775 | G8: 161 | H8: 4 | I8: 7
A9: Himani Shah | B9: =VLOOKUP(A9,Round1!$A$2:$L$56,12,FALSE) -> 290 | C9: =VLOOKUP(A9,Round2!$A$2:$J$56,10,FALSE) -> 165 | D9: =VLOOKUP(A9,Round3!$A$3:$H$57,8,FALSE) -> 230 | E9: =VLOOKUP(A9,Round4!$A$3:$J$57,6,FALSE) -> 90 | F9: =SUM(B9:E9) -> 775 | G9: 161 | H9: 5 | I9: 8
A10: Nidhi Sarawagi | B10: =VLOOKUP(A10,Round1!$A$2:$L$56,12,FALSE) -> 355 | C10: =VLOOKUP(A10,Round2!$A$2:$J$56,10,FALSE) -> 165 | D10: =VLOOKUP(A10,Round3!$A$3:$H$57,8,FALSE) -> 170 | E10: =VLOOKUP(A10,Round4!$A$3:$J$57,6,FALSE) -> 30 | F10: =SUM(B10:E10) -> 720 | G10: 180 | H10: 9 | I10: 9
A11: Raman Garimella | B11: =VLOOKUP(A11,Round1!$A$2:$L$56,12,FALSE) -> 380 | C11: =VLOOKUP(A11,Round2!$A$2:$J$56,10,FALSE) -> 165 | D11: =VLOOKUP(A11,Round3!$A$3:$H$57,8,FALSE) -> 140 | E11: =VLOOKUP(A11,Round4!$A$3:$J$57,6,FALSE) -> 0 | F11: =SUM(B11:E11) -> 685 | H11: 10
A12: Puneet Goenka | B12: =VLOOKUP(A12,Round1!$A$2:$L$56,12,FALSE) -> 365 | C12: =VLOOKUP(A12,Round2!$A$2:$J$56,10,FALSE) -> 25 | D12: =VLOOKUP(A12,Round3!$A$3:$H$57,8,FALSE) -> 70 | E12: =VLOOKUP(A12,Round4!$A$3:$J$57,6,FALSE) -> 220 | F12: =SUM(B12:E12) -> 680 | H12: =H11+1 -> 11
A13: Sumit Bothra | B13: =VLOOKUP(A13,Round1!$A$2:$L$56,12,FALSE) -> 385 | C13: =VLOOKUP(A13,Round2!$A$2:$J$56,10,FALSE) -> 70 | D13: =VLOOKUP(A13,Round3!$A$3:$H$57,8,FALSE) -> 100 | E13: =VLOOKUP(A13,Round4!$A$3:$J$57,6,FALSE) -> 120 | F13: =SUM(B13:E13) -> 675 | H13: =H12+1 -> 12
A14: Aditya Saraf | B14: =VLOOKUP(A14,Round1!$A$2:$L$56,12,FALSE) -> 300 | C14: =VLOOKUP(A14,Round2!$A$2:$J$56,10,FALSE) -> 85 | D14: =VLOOKUP(A14,Round3!$A$3:$H$57,8,FALSE) -> 170 | E14: =VLOOKUP(A14,Round4!$A$3:$J$57,6,FALSE) -> 70 | F14: =SUM(B14:E14) -> 625 | H14: =H13+1 -> 13
A15: akash doulani | B15: =VLOOKUP(A15,Round1!$A$2:$L$56,12,FALSE) -> 255 | C15: =VLOOKUP(A15,Round2!$A$2:$J$56,10,FALSE) -> 165 | D15: =VLOOKUP(A15,Round3!$A$3:$H$57,8,FALSE) -> 160 | E15: =VLOOKUP(A15,Round4!$A$3:$J$57,6,FALSE) -> 20 | F15: =SUM(B15:E15) -> 600 | H15: =H14+1 -> 14
A16: Shilo Stephen | B16: =VLOOKUP(A16,Round1!$A$2:$L$56,12,FALSE) -> 355 | C16: =VLOOKUP(A16,Round2!$A$2:$J$56,10,FALSE) -> 120 | D16: =VLOOKUP(A16,Round3!$A$3:$H$57,8,FALSE) -> 100 | E16: =VLOOKUP(A16,Round4!$A$3:$J$57,6,FALSE) -> 20 | F16: =SUM(B16:E16) -> 595 | H16: =H15+1 -> 15
A17: Tejal Phatak | B17: =VLOOKUP(A17,Round1!$A$2:$L$56,12,FALSE) -> 270 | C17: =VLOOKUP(A17,Round2!$A$2:$J$56,10,FALSE) -> 170 | D17: =VLOOKUP(A17,Round3!$A$3:$H$57,8,FALSE) -> 70 | E17: =VLOOKUP(A17,Round4!$A$3:$J$57,6,FALSE) -> 50 | F17: =SUM(B17:E17) -> 560 | H17: =H16+1 -> 16
A18: Jaykumar Patel | B18: =VLOOKUP(A18,Round1!$A$2:$L$56,12,FALSE) -> 300 | C18: =VLOOKUP(A18,Round2!$A$2:$J$56,10,FALSE) -> 115 | D18: =VLOOKUP(A18,Round3!$A$3:$H$57,8,FALSE) -> 70 | E18: =VLOOKUP(A18,Round4!$A$3:$J$57,6,FALSE) -> 40 | F18: =SUM(B18:E18) -> 525 | H18: =H17+1 -> 17
A19: Neeraj Mehrotra | B19: =VLOOKUP(A19,Round1!$A$2:$L$56,12,FALSE) -> 210 | C19: =VLOOKUP(A19,Round2!$A$2:$J$56,10,FALSE) -> 80 | D19: =VLOOKUP(A19,Round3!$A$3:$H$57,8,FALSE) -> 140 | E19: =VLOOKUP(A19,Round4!$A$3:$J$57,6,FALSE) -> 40 | F19: =SUM(B19:E19) -> 470 | H19: =H18+1 -> 18
A20: Shivin Garg | B20: =VLOOKUP(A20,Round1!$A$2:$L$56,12,FALSE) -> 200 | C20: =VLOOKUP(A20,Round2!$A$2:$J$56,10,FALSE) -> 0 | D20: =VLOOKUP(A20,Round3!$A$3:$H$57,8,FALSE) -> 90 | E20: =VLOOKUP(A20,Round4!$A$3:$J$57,6,FALSE) -> 150 | F20: =SUM(B20:E20) -> 440 | H20: =H19+1 -> 19
A21: Utkaarsh Somaiya | B21: =VLOOKUP(A21,Round1!$A$2:$L$56,12,FALSE) -> 255 | C21: =VLOOKUP(A21,Round2!$A$2:$J$56,10,FALSE) -> 80 | D21: =VLOOKUP(A21,Round3!$A$3:$H$57,8,FALSE) -> 70 | E21: =VLOOKUP(A21,Round4!$A$3:$J$57,6,FALSE) -> 30 | F21: =SUM(B21:E21) -> 435 | H21: =H20+1 -> 20
A22: RAKHEL PARIDA | B22: =VLOOKUP(A22,Round1!$A$2:$L$56,12,FALSE) -> 120 | C22: =VLOOKUP(A22,Round2!$A$2:$J$56,10,FALSE) -> 185 | D22: =VLOOKUP(A22,Round3!$A$3:$H$57,8,FALSE) -> 0 | E22: =VLOOKUP(A22,Round4!$A$3:$J$57,6,FALSE) -> 120 | F22: =SUM(B22:E22) -> 425 | H22: =H21+1 -> 21
A23: Gnyanendra Kumar | B23: =VLOOKUP(A23,Round1!$A$2:$L$56,12,FALSE) -> 200 | C23: =VLOOKUP(A23,Round2!$A$2:$J$56,10,FALSE) -> 40 | D23: =VLOOKUP(A23,Round3!$A$3:$H$57,8,FALSE) -> 100 | E23: =VLOOKUP(A23,Round4!$A$3:$J$57,6,FALSE) -> 70 | F23: =SUM(B23:E23) -> 410 | H23: =H22+1 -> 22
... A56: Santosh Ananthkrishnan | B56: =VLOOKUP(A56,Round1!$A$2:$L$56,12,FALSE) -> 0 | C56: =VLOOKUP(A56,Round2!$A$2:$J$56,10,FALSE) -> 0 | D56: =VLOOKUP(A56,Round3!$A$3:$H$57,8,FALSE) -> 0 | E56: =VLOOKUP(A56,Round4!$A$3:$J$57,6,FALSE) -> 0 | F56: =SUM(B56:E56) -> 0 | H56: =H55+1 -> 55

Sheet Semi
A1: Puzzle | B1: Rohan | C1: Rishi | D1: Gaurav | E1: Ritesh
A2: Classic Sudoku | B2: 0.14652778 | C2: 0.14583333 | D2: 0.13958333 | E2: 0.1375
A3: Outside Sudoku | B3: 0.14861111 | C3: 0.16875 | D3: 0.16388889 | E3: 0.24861111
A4: Stripes Sudoku | B4: 0.15277778 | C4: 0.16597222 | D4: 0.13958333 | E4: 0.24513889
A5: Trio | B5: 0.071527778 | C5: 0.11944444 | D5: 0.12430556 | E5: 0.15902778
A6: AntiDiagonal | B6: 0.12152778 | C6: 0.10347222 | D6: 0.12847222 | E6: 0.28472222
A7: No Even Neighbours | B7: 0.21041667 | C7: 0.10138889 | D7: 0.089583333 | E7: 0.18333333
A8: Total Time | B8: =SUM(B2:B7) -> 0.85138889 | C8: =SUM(C2:C7) -> 0.80486111 | D8: =SUM(D2:D7) -> 0.78541667 | E8: 30:44
A9: Time Disadvantage | B9: 0 | C9: 17 | D9: 177 | E9: 180
A10: Including Time Disadvantage | B10: 0.85138889 | C10: 0.81666667 | D10: 0.90833333 | E10: 33:44
A11: Position Before Finals | B11: 2 | C11: 1 | D11: 3 | E11: 4
A13: Finals : Classic Sudoku | B13: 0.23958333 | C13: 0.13958333 | D13: 0.18611111 | E13: 0.17291667
A14: Finals : Irregular-ExtraRegion | B14: 0.62222222 | C14: 15:00* | D14: 15:00* | E14: 15:00*
A15: Finals : Snail Sudoku | B15: 0.26736111 | C15: 0.25625 | D15: 0.25138889 | E15: 0.37916667
A16: Finals (Number of correct) | B16: 3 | C16: 2 | D16: 2 | E16: 2
A17: Total Time | B17: 52:32 | C17: 49:06 | D17: 52:18 | E17: 61:59
A18: Position After Finals | B18: 1 | C18: 2 | D18: 3 | E18: 4
